Workbook

Sheet Résultats Ligues et Amical
A1: Date | B1: Lieu | C1: Formule | D1: Nom / Prénom | E1: Score | F1: Lignes | G1: Moyenne | H1: Résultat
D2: BELOT Léopold
D3: BONNET Jean Claude
D4: BOUZOU Francis
D5: CARRIC Olivier
D6: CROVATTO Christine
D7: CROVATTO Philippe
D8: CRUZ Mattis
D9: DELORT Philippe
D10: DELORT Valérie
D11: DURON Eric
D12: DUVAL Franck
D13: ESNAULT Eric
... D45: ZIMMERMANN Thibaut
A47: 45872 | B47: T.D.M. - THIAIS | C47: 1 hp | D47: ROUCHON Xavier | E47: 814 | F47: 4 | G47: =E47/F47 -> 203.5 | H47: 2e hp / 35j | I47: 1
A49: 45874 | B49: Petersen d'été - THIAIS | C49: 2 hp | D49: FARGEIX Christian | E49: 1034 | F49: 5 | G49: =E49/F49 -> 206.8 | H49: équipe 4e
B50: 12 équipes | D50: FAYEMENDY Michel | E50: 799 | F50: 5 | G50: =E50/F50 -> 159.8 | I50: 3
A52: 45879 | B52: T.D.M. - THIAIS | C52: 1 hp | D52: ROUCHON Xavier | E52: 770 | F52: 4 | G52: =E52/F52 -> 192.5 | H52: 7e hp / 29j | I52: 4
A54: 45881 | B54: Petersen d'été - THIAIS | C54: 2 hp | D54: FARGEIX Christian | E54: 968 | F54: 5 | G54: =E54/F54 -> 193.6 | H54: équipe 4e
B55: 12 équipes | D55: FAYEMENDY Michel | E55: 769 | F55: 5 | G55: =E55/F55 -> 153.8 | I55: 6
A57: 45893 | B57: Round Robin - BALLAINVILLIERS | C57: 3 hp | D57: ROUCHON Xavier | E57: 2174 | F57: 11 | G57: =E57/F57 -> 197.63636 | H57: équipe 12e | I57: 7
B58: 12 équipes | D58: Martin Benjamin
D59: Arstand Jacques
A61: 45899 | B61: Tournoi des Mouettes - LA ROCHELLE | C61: 3-1 hp | D61: GARCIA Sabine | E61: 1868 | F61: 12 | G61: =E61/F61 -> 155.66667
B62: 31 équipes | D62: CROVATTO Christine | E62: 1609 | F62: 12 | G62: =E62/F62 -> 134.08333 | H62: équipe 18e
D63: MARION Christine | E63: 1565 | F63: 12 | G63: =E63/F63 -> 130.41667 | I63: 10
A65: 45927 | B65: T.S.M. - RAMBOUILLET | C65: 1 hp | D65: ROUCHON Xavier | E65: 761 | F65: 4 | G65: =E65/F65 -> 190.25 | H65: 2e / 20j
D66: FAVREAU Gael | E66: 749 | F66: 4 | G66: =E66/F66 -> 187.25 | H66: 3e / 20j
D67: BONNET Jean Claude | E67: 662 | F67: 4 | G67: =E67/F67 -> 165.5 | H67: 9e / 20j | I67: 13
A69: 45941 | B69: T.S.M. - RAMBOUILLET | C69: 1 hp | D69: BONNET Jean Claude | E69: 589 | F69: 4 | G69: =E69/F69 -> 147.25 | H69: 27e / 36j | I69: 14
A71: 45943 | B71: Ligue du lundi - RAMBOUILLET | C71: 2 hp | D71: FAVREAU Gael | E71: 2777 | F71: 16 | G71: =E71/F71 -> 173.5625 | H71: équipe 1ere
B72: Période 1 | D72: ROUCHON Xavier | E72: 758 | F72: 4 | G72: =E72/F72 -> 189.5 | H72: équipe 2e
B73: 12 équipes | D73: ESNAULT Eric | E73: 1368 | F73: 8 | G73: =E73/F73 -> 171 | H73: équipe 2e
D74: JOUEN Frédéric | E74: 1271 | F74: 8 | G74: =E74/F74 -> 158.875 | H74: équipe 2e
D75: GATEAU Emma | E75: 1149 | F75: 8 | G75: =E75/F75 -> 143.625 | H75: équipe 5e
D76: DELORT Philippe | E76: 2634 | F76: 16 | G76: =E76/F76 -> 164.625 | H76: équipe 6e
D77: JOURNIAC Christian | E77: 1862 | F77: 12 | G77: =E77/F77 -> 155.16667 | H77: équipe 6e
D78: DELORT Valérie | E78: 1809 | F78: 12 | G78: =E78/F78 -> 150.75 | H78: équipe 6e
D79: OLAGNIER Gérard | E79: 1819 | F79: 12 | G79: =E79/F79 -> 151.58333 | H79: équipe 7e
D80: MARION Christine | E80: 1556 | F80: 12 | G80: =E80/F80 -> 129.66667 | H80: équipe 7e
D81: LE FILOUS Damien | E81: 2038 | F81: 12 | G81: =E81/F81 -> 169.83333 | H81: équipe 8e
D82: JOUBERT Joel | E82: 1214 | F82: 8 | G82: =E82/F82 -> 151.75 | H82: équipe 8e
D83: LE FILOUS Claude | E83: 1810 | F83: 12 | G83: =E83/F83 -> 150.83333 | H83: équipe 8e
D84: HERVAULT Daniel | E84: 2344 | F84: 16 | G84: =E84/F84 -> 146.5 | H84: équipe 8e
D85: NIVET Muriel | E85: 2396 | F85: 16 | G85: =E85/F85 -> 149.75 | H85: équipe 9e
... D97: ESDOLUC Elisabeth | E97: 428 | F97: 4 | G97: =E97/F97 -> 107 | H97: équipe p11e
D98: CARRIC Olivier | E98: 730 | F98: 4 | G98: =E98/F98 -> 182.5 | H98: équipe p12e | I98: 42
A100: 45948 | B100: T.S.M. - RAMBOUILLET | C100: 1 hp | D100: ROUCHON Xavier | E100: 804 | F100: 4 | G100: =E100/F100 -> 201 | H100: 3e / 36j
D101: BONNET Jean Claude | E101: 569 | F101: 4 | G101: =E101/F101 -> 142.25 | H101: 28e / 36j | I101: 44
A103: 45955 | B103: T.S.M. - RAMBOUILLET | C103: 1 hp | D103: JOUBERT Joel | E103: 671 | F103: 4 | G103: =E103/F103 -> 167.75 | H103: 21e / 52j | I103: 45
A105: 45962 | B105: T.S.M. - RAMBOUILLET | C105: 1 hp | D105: OLAGNIER Gérard | E105: 599 | F105: 4 | G105: =E105/F105 -> 149.75 | H105: 31e / 42j | I105: 46
A107: 45980 | B107: Ligue FEDE du mercredi - THIAIS | C107: 2 sc / hp | D107: FARGEIX Christian | E107: 2726 | F107: 16 | G107: =E107/F107 -> 170.375
B108: Période 1 - 9 équipes | D108: RITHIE Régis | E108: 1864 | F108: 12 | G108: =E108/F108 -> 155.33333 | H108: équipe 7e
D109: FAYEMENDY Michel | E109: 1274 | F109: 8 | G109: =E109/F109 -> 159.25
D110: FARGEIX Florence | E110: 1146 | F110: 8 | G110: =E110/F110 -> 143.25 | I110: 50
A112: 45981 | B112: Ligue FEDE du Jeudi - THIAIS | C112: 2 sc / hp | D112: OLAGNIER Gérard | E112: 1643 | F112: 12 | G112: =E112/F112 -> 136.91667 | H112: équipe 9e | I112: 51
B113: Période 1 - 9 équipes
A115: 45993 | B115: Ligue CORPO du mardi - THIAIS | C115: 2 hp | D115: FARGEIX Christian | E115: 2268 | F115: 12 | G115: =E115/F115 -> 189
B116: Période 1 - 6 équipes | D116: RITHIE Régis | E116: 2388 | F116: 15 | G116: =E116/F116 -> 159.2 | H116: équipe 1ere
D117: FAYEMENDY Michel | E117: 2479 | F117: 15 | G117: =E117/F117 -> 165.26667
D118: JOURNIAC Christian | E118: 1494 | F118: 9 | G118: =E118/F118 -> 166 | H118: équipe 4e | I118: 55
A120: 45994 | B120: Ligue du mercredi - HOUDAN | C120: 3 hp | D120: FARGEIX Christian | E120: 2671 | F120: 16 | G120: =E120/F120 -> 166.9375
B121: Période 1 - 6 équipes | D121: GARCIA Sabine | E121: 2906 | F121: 20 | G121: =E121/F121 -> 145.3
D122: HUCHET Stéphane | E122: 2636 | F122: 16 | G122: =E122/F122 -> 164.75 | H122: équipe 4e
D123: MARION Christine | E123: 2246 | F123: 16 | G123: =E123/F123 -> 140.375
D124: OLAGNIER Gérard | E124: 2044 | F124: 16 | G124: =E124/F124 -> 127.75
D125: RITHIE Régis | E125: 1869 | F125: 12 | G125: =E125/F125 -> 155.75
D126: SOLARI Joseph | E126: 2367 | F126: 16 | G126: =E126/F126 -> 147.9375 | I126: 62
A128: 46000 | B128: Ligue du mardi - HOUDAN | C128: 2 hp | D128: HUCHET Stéphane | E128: 3869 | F128: 24 | G128: =E128/F128 -> 161.20833
B129: Période 1 | D129: BOUZOU Francis | E129: 3850 | F129: 24 | G129: =E129/F129 -> 160.41667 | H129: équipe 3e
B130: 6 équipes | D130: BONNET Jean Claude | E130: 1910 | F130: 12 | G130: =E130/F130 -> 159.16667
D131: CROVATTO Philippe | E131: 3147 | F131: 20 | G131: =E131/F131 -> 157.35 | I131: 66
D132: NIVET Muriel | E132: 1774 | F132: 12 | G132: =E132/F132 -> 147.83333
D133: NIVET Jean-Pierre | E133: 1671 | F133: 12 | G133: =E133/F133 -> 139.25 | H133: équipe 4e
D134: GARCIA Sabine | E134: 1667 | F134: 12 | G134: =E134/F134 -> 138.91667
D135: ESNAULT Michèle | E135: 1452 | F135: 12 | G135: =E135/F135 -> 121
D136: CROVATTO Christine | E136: 1896 | F136: 16 | G136: =E136/F136 -> 118.5 | I136: 71
A138: 46004 | B138: T.S.M. - RAMBOUILLET | C138: 1 hp | D138: ROUCHON Xavier | E138: 776 | F138: 4 | G138: =E138/F138 -> 194 | H138: 10e hp / 32j | I138: 72
A140: 46006 | B140: Ligue du lundi - RAMBOUILLET | C140: 2 hp | D140: FAVREAU Gael | E140: 2280 | F140: 12 | G140: =E140/F140 -> 190 | H140: équipe 2e
B141: Période 2 | D141: DELORT Philippe | E141: 2739 | F141: 16 | G141: =E141/F141 -> 171.1875 | H141: équipe 3e
B142: 12 équipes | D142: JOURNIAC Christian | E142: 2014 | F142: 12 | G142: =E142/F142 -> 167.83333 | H142: équipe 3e
D143: DELORT Valérie | E143: 1285 | F143: 8 | G143: =E143/F143 -> 160.625 | H143: équipe 3e
D144: ESNAULT Eric | E144: 717 | F144: 4 | G144: =E144/F144 -> 179.25 | H144: équipe 4e
D145: ROUCHON Xavier | E145: 2124 | F145: 12 | G145: =E145/F145 -> 177 | H145: équipe 4e
D146: JOUEN Frédéric | E146: 2095 | F146: 12 | G146: =E146/F146 -> 174.58333 | H146: équipe 4e
D147: CARRIC Olivier | E147: 1225 | F147: 8 | G147: =E147/F147 -> 153.125 | H147: équipe 5e
D148: CROVATTO Philippe | E148: 2652 | F148: 16 | G148: =E148/F148 -> 165.75 | H148: équipe 6e
D149: BOUZOU Francis | E149: 1987 | F149: 12 | G149: =E149/F149 -> 165.58333 | H149: équipe 6e
D150: BONNET Jean Claude | E150: 623 | F150: 4 | G150: =E150/F150 -> 155.75 | H150: équipe 6e
D151: DURON Eric | E151: 539 | F151: 4 | G151: =E151/F151 -> 134.75 | H151: équipe 6e
D152: DUVAL Franck | E152: 1526 | F152: 12 | G152: =E152/F152 -> 127.16667 | H152: équipe 6e
D153: LE FILOUS Damien | E153: 2099 | F153: 12 | G153: =E153/F153 -> 174.91667 | H153: équipe 7e
D154: JOUBERT Joel | E154: 1956 | F154: 12 | G154: =E154/F154 -> 163 | H154: équipe 7e
... D166: NIVET Muriel | E166: 2249 | F166: 16 | G166: =E166/F166 -> 140.5625 | H166: équipe p12e
D167: NIVET Jean-Pierre | E167: 2246 | F167: 16 | G167: =E167/F167 -> 140.375 | H167: équipe p12e | I167: 100
A169: 46011 | B169: T.S.M. - RAMBOUILLET | C169: 1 hp | D169: ROUCHON Xavier | E169: 816 | F169: 4 | G169: =E169/F169 -> 204 | H169: 9e hp / 74j
D170: OLAGNIER Gérard | E170: 583 | F170: 4 | G170: =E170/F170 -> 145.75 | H170: 42e hp / 74j | I170: 102
A172: 46042 | B172: Ligue FEDE du mardi - THIAIS | C172: 2 hp | D172: FARGEIX Christian
B173: Période 1 - 15 équipes | D173: RITHIE Régis
D174: FAYEMENDY Michel
...

Sheet Résultats Comp Fédérales
A1: Date | B1: Lieu | C1: Formule | D1: Nom / Prénom | E1: Score | F1: Lignes | G1: Moyenne | H1: Résultat | J1: Dames | K1: Hommes | L1: Jeunes | N1: OR | O1: ARGENT | P1: BRONZE
D2: BELOT Léopold
D3: BONNET Jean Claude
D4: BOUZOU Francis
D5: CARRIC Olivier
D6: CROVATTO Christine
D7: CROVATTO Philippe
D8: CRUZ Mattis
D9: DELORT Philippe
D10: DELORT Valérie
D11: DURON Eric
D12: DUVAL Franck
D13: ESNAULT Eric
... D45: ZIMMERMANN Thibaut
A47: 45907 | B47: Challenge Double Mixte Honneur - HOUDAN | C47: 2M sc | D47: DELORT Valérie | E47: 1143 | F47: 8 | G47: =E47/F47 -> 142.875 | H47: équipe
B48: Phase District | D48: DELORT Philippe | E48: 1363 | F48: 8 | G48: =E48/F48 -> 170.375 | H48: 7e Qualifié
B49: 18 doublettes mixte | D49: CROVATTO Christine | E49: 1034 | F49: 8 | G49: =E49/F49 -> 129.25 | H49: équipe
D50: CROVATTO Philippe | E50: 1373 | F50: 8 | G50: =E50/F50 -> 171.625 | H50: 12e NQ
D51: GARCIA Sabine | E51: 1154 | F51: 8 | G51: =E51/F51 -> 144.25 | H51: équipe
D52: HUCHET Stéphane | E52: 1226 | F52: 8 | G52: =E52/F52 -> 153.25 | H52: 13e NQ
D53: GATEAU Emma | E53: 1059 | F53: 8 | G53: =E53/F53 -> 132.375 | H53: équipe
D54: BONNET Jean Claude | E54: 1248 | F54: 8 | G54: =E54/F54 -> 156 | H54: 14e NQ
D55: MARION Christine | E55: 1165 | F55: 8 | G55: =E55/F55 -> 145.625 | H55: équipe
D56: OLAGNIER Gérard | E56: 1122 | F56: 8 | G56: =E56/F56 -> 140.25 | H56: 16e NQ | I56: 10
A58: 45913 | B58: Chpt Doublette Honneur - RAMBOUILLET | C58: 2 sc | D58: LE FILOUS Damien | E58: 1480 | F58: 8 | G58: =E58/F58 -> 185 | H58: équipe | K58: x | O58: x
B59: Phase Dept 78 | D59: BONNET Jean Claude | E59: 1335 | F59: 8 | G59: =E59/F59 -> 166.875 | H59: 2e Qualifiée | K59: x | O59: x
B60: 7 équipes H et 6 équipes D | D60: RITHIE Régis | E60: 1388 | F60: 8 | G60: =E60/F60 -> 173.5 | H60: équipe | K60: x | P60: x
D61: DELORT Philippe | E61: 1349 | F61: 8 | G61: =E61/F61 -> 168.625 | H61: 3e Qualifiée | K61: x | P61: x
D62: CARRIC Olivier | E62: 1322 | F62: 8 | G62: =E62/F62 -> 165.25 | H62: équipe
D63: JOUBERT Joel | E63: 1401 | F63: 8 | G63: =E63/F63 -> 175.125 | H63: 4e Qualifié
D64: HUCHET Stéphane | E64: 1388 | F64: 8 | G64: =E64/F64 -> 173.5 | H64: équipe
D65: OLAGNIER Gérard | E65: 1281 | F65: 8 | G65: =E65/F65 -> 160.125 | H65: 5e Qualifiée
D66: GARCIA Sabine | E66: 1385 | F66: 8 | G66: =E66/F66 -> 173.125 | H66: équipe | J66: x | N66: x
D67: NIVET Muriel | E67: 1322 | F67: 8 | G67: =E67/F67 -> 165.25 | H67: 1ere Qualifiée | J67: x | N67: x
D68: DELORT Valérie | E68: 1254 | F68: 8 | G68: =E68/F68 -> 156.75 | H68: équipe
D69: GATEAU Emma | E69: 1088 | F69: 8 | G69: =E69/F69 -> 136 | H69: 4e Qualifiée | I69: 22
A71: 45913 | B71: Chpt Doublette Excellence - MOUSSY LE NEUF | C71: 2 sc | D71: FAVREAU Gael | E71: 1250 | F71: 8 | G71: =E71/F71 -> 156.25 | H71: équipe
B72: Phase District | D72: ROUCHON Xavier | E72: 1632 | F72: 8 | G72: =E72/F72 -> 204 | H72: 8e Qualifié
B73: 17 équipes H et 5 équipes D | D73: FARGEIX Christian | E73: 1393 | F73: 8 | G73: =E73/F73 -> 174.125 | H73: équipe
D74: FAYEMENDY Michel | E74: 1326 | F74: 8 | G74: =E74/F74 -> 165.75 | H74: 15e NQ | I74: 26
A76: 45921 | B76: Chpt Jeunes J1 - RAMBOUILLET | C76: 1 sc | D76: TERRIEN Blaise | E76: 224 | F76: 4 | G76: =E76/F76 -> 56 | H76: 2e PO H | L76: 1 | O76: 1
B77: Phase District | D77: BELOT Léopold | E77: 1142 | F77: 6 | G77: =E77/F77 -> 190.33333 | H77: 2e MI H | L77: 1 | O77: 1
B78: 2 poussins H | D78: TERRIEN Yanis | E78: 787 | F78: 6 | G78: =E78/F78 -> 131.16667 | H78: 5e CA H
B79: 4 minimes H - 2 minimes F | D79: FAVREAU Gael | E79: 1173 | F79: 6 | G79: =E79/F79 -> 195.5 | H79: 1er JU H | L79: 1 | N79: 1
B80: 6 cadets H | D80: GUYOT Stéphane | E80: 730 | F80: 6 | G80: =E80/F80 -> 121.66667 | H80: 4e JU H
B81: 4 juniors H | D81: LECOMTE Coline | E81: 780 | F81: 6 | G81: =E81/F81 -> 130 | H81: 1er MI F | I81: 32 | L81: 1 | N81: 1
A83: 45934 | B83: Chpt Doublette Honneur - RAMBOUILLET | C83: 2 sc | D83: LE FILOUS Damien | E83: 1416 | F83: 8 | G83: =E83/F83 -> 177 | H83: équipe 4e
A84: 45935 | B84: Phase Région | D84: BONNET Jean Claude | E84: 1336 | F84: 8 | G84: =E84/F84 -> 167
B85: 12 doublettes hommes | D85: RITHIE Régis | E85: 1272 | F85: 8 | G85: =E85/F85 -> 159 | H85: équipe 10e
D86: DELORT Philippe | E86: 1330 | F86: 8 | G86: =E86/F86 -> 166.25
D87: HUCHET Stéphane | E87: 1388 | F87: 8 | G87: =E87/F87 -> 173.5 | H87: équipe 11e
D88: OLAGNIER Gérard | E88: 992 | F88: 8 | G88: =E88/F88 -> 124
B89: 8 doublettes dames | D89: GARCIA Sabine | E89: 1152 | F89: 8 | G89: =E89/F89 -> 144 | H89: équipe 4e
D90: NIVET Muriel | E90: 1231 | F90: 8 | G90: =E90/F90 -> 153.875
D91: DELORT Valérie | E91: 1201 | F91: 8 | G91: =E91/F91 -> 150.125 | H91: équipe 8e
D92: GATEAU Emma | E92: 1019 | F92: 8 | G92: =E92/F92 -> 127.375 | I92: 42
A94: 45934 | B94: Chpt Doublette Excellence - HOUDAN | D94: FAVREAU Gael | E94: 1628 | F94: 8 | G94: =E94/F94 -> 203.5 | H94: équipe 1ere | K94: x | N94: x
A95: 45935 | B95: Phase Région | D95: ROUCHON Xavier | E95: 1508 | F95: 8 | G95: =E95/F95 -> 188.5 | I95: 44 | K95: x | N95: x
A97: 45941 | B97: Chpt Indiv. SENIORS+ SC - RAMBOUILLET | C97: 1 sc | D97: FARGEIX Christian | E97: 1637 | F97: 8 | G97: =E97/F97 -> 204.625 | H97: 1er et Qualif | K97: x | N97: x
B98: Phase CD78 - 14 joueurs et 5 joueuses | D98: DELORT Philippe | E98: 1462 | F98: 8 | G98: =E98/F98 -> 182.75 | H98: 5e et Qualif
D99: BONNET Jean Claude | E99: 1433 | F99: 8 | G99: =E99/F99 -> 179.125 | H99: 4e et Qualif
D100: FAYEMENDY Michel | E100: 1278 | F100: 8 | G100: =E100/F100 -> 159.75 | H100: 7e et Qualif
D101: OLAGNIER Gérard | E101: 1181 | F101: 8 | G101: =E101/F101 -> 147.625 | H101: 12e et NQ
D102: HERVAULT Daniel | E102: 1175 | F102: 8 | G102: =E102/F102 -> 146.875 | H102: 10e et NQ
D103: GARCIA Sabine | E103: 1299 | F103: 8 | G103: =E103/F103 -> 162.375 | H103: 2e et Qualif | J103: x | O103: x
D104: NIVET Muriel | E104: 1269 | F104: 8 | G104: =E104/F104 -> 158.625 | H104: 3e et Qualif | J104: x | P104: x
A106: 45941 | B106: Chpt Indiv. SENIORS+ SB - RAMBOUILLET | C106: 1 sc | D106: JOUBERT Joel | E106: 1380 | F106: 8 | G106: =E106/F106 -> 172.5 | H106: 2e et Qualif | K106: x | O106: x
B107: Phase CD78 - 8 joueurs et 5 joueuses | D107: RITHIE Régis | E107: 1314 | F107: 8 | G107: =E107/F107 -> 164.25 | H107: 3e et Qualif | K107: x | P107: x
D108: ESNAULT Eric | E108: 1254 | F108: 8 | G108: =E108/F108 -> 156.75 | H108: 6e et Qualif
D109: BOUZOU Francis | E109: 1209 | F109: 8 | G109: =E109/F109 -> 151.125 | H109: 7e et Qualif
D110: DELORT Valérie | E110: 1385 | F110: 8 | G110: =E110/F110 -> 173.125 | H110: 1ere et Qualif | J110: x | N110: x
D111: GOUTTORBE Yveline | E111: 1147 | F111: 8 | G111: =E111/F111 -> 143.375 | H111: 5e et NQ
A113: 45941 | B113: Chpt Indiv. SENIORS+ SA - RAMBOUILLET | C113: 1 sc | D113: ROUCHON Xavier | E113: 1589 | F113: 8 | G113: =E113/F113 -> 198.625 | H113: 1er et Qualif | K113: x | N113: x
B114: Phase CD78 - 8 joueurs et 3 joueuses | D114: CROVATTO Philippe | E114: 1410 | F114: 8 | G114: =E114/F114 -> 176.25 | H114: 5e et Qualif
D115: HUCHET Stéphane | E115: 1231 | F115: 8 | G115: =E115/F115 -> 153.875 | H115: 7e et NQ
D116: MARION Christine | E116: 1111 | F116: 8 | G116: =E116/F116 -> 138.875 | H116: 3e et NQ | I116: 62 | J116: x | P116: x
A118: 15&16/11/25 | B118: Chpt des Clubs Hom R1A - RAMBOUILLET | C118: 5 sc | D118: LE FILOUS Damien | E118: 1823 | F118: 9 | G118: =E118/F118 -> 202.55556
A119: Sam & Dim | B119: 1ere journée | D119: ROUCHON Xavier | E119: 1628 | F119: 9 | G119: =E119/F119 -> 180.88889
B120: poule de 10 équipes | D120: FARGEIX Christian | E120: 1405 | F120: 8 | G120: =E120/F120 -> 175.625 | H120: équipe 10e
D121: RITHIE Régis | E121: 1203 | F121: 8 | G121: =E121/F121 -> 150.375
D122: DELORT Philippe | E122: 1037 | F122: 7 | G122: =E122/F122 -> 148.14286
D123: CARRIC Olivier | E123: 723 | F123: 4 | G123: =E123/F123 -> 180.75 | I123: 68
A125: 45976 | B125: Chpt des Clubs Hom R2C - BOUSSY | C125: 5 sc | D125: FAVREAU Gael | E125: 946 | F125: 5 | G125: =E125/F125 -> 189.2
A126: Sam | B126: 1ere journée | D126: JOUEN Frédéric | E126: 930 | F126: 5 | G126: =E126/F126 -> 186
B127: poule de 6 équipes | D127: JOUBERT Joel | E127: 861 | F127: 5 | G127: =E127/F127 -> 172.2 | H127: équipe 5e
D128: HUCHET Stéphane | E128: 584 | F128: 4 | G128: =E128/F128 -> 146
D129: CROVATTO Philippe | E129: 458 | F129: 3 | G129: =E129/F129 -> 152.66667
D130: BONNET Jean Claude | E130: 374 | F130: 3 | G130: =E130/F130 -> 124.66667 | I130: 74
A133: 45976 | B133: Chpt des Clubs Hom R2D - BOUSSY | C133: 5 sc | D133: FAYEMENDY Michel | E133: 447 | F133: 3 | G133: =E133/F133 -> 149
A134: Sam | B134: 1ere journée | D134: BELOT Léopold | E134: 767 | F134: 5 | G134: =E134/F134 -> 153.4
B135: poule de 6 équipes | D135: SOLARI Joseph | E135: 0 | F135: 0 | G135: =E135/F135 -> #DIV/0! | H135: équipe 6e
D136: HERVAULT Daniel | E136: 580 | F136: 4 | G136: =E136/F136 -> 145
D137: TERRIEN Yanis | E137: 680 | F137: 5 | G137: =E137/F137 -> 136
D138: OLAGNIER Gérard | E138: 510 | F138: 4 | G138: =E138/F138 -> 127.5
D139: GUYOT Stéphane | E139: 463 | F139: 4 | G139: =E139/F139 -> 115.75 | I139: 80
A141: 45976 | B141: Chpt des Clubs Fem R1 - COURBEVOIE | C141: 3 sc | D141: DELORT Valérie | E141: 1074 | F141: 7 | G141: =E141/F141 -> 153.42857
A142: Sam | B142: 1ere journée | D142: GARCIA Sabine | E142: 1005 | F142: 7 | G142: =E142/F142 -> 143.57143 | H142: équipe 5e
B143: poule de 8 équipes | D143: GOUTTORBE Yveline | E143: 1005 | F143: 7 | G143: =E143/F143 -> 143.57143 | I143: 83
A145: 45976 | B145: Chpt des Clubs Fem R2 - COURBEVOIE | C145: 3 sc | D145: FARGEIX Florence | E145: 724 | F145: 5 | G145: =E145/F145 -> 144.8
B146: 1ere journée | D146: MARION Christine | E146: 862 | F146: 6 | G146: =E146/F146 -> 143.66667 | H146: équipe 4e
...

Sheet Bowlings
A1: BC PLAISIR NOM Prénom | B1: Nombre de bowling différents joués en tournoi | C1: Amiens | D1: Auxerre | E1: Bandol | F1: Ballainvilliers | G1: Bayeux | H1: Belfort | I1: Bourges | J1: Barjouville | K1: Boussy | L1: Chalon en Champagne | M1: Chambéry | N1: Chartres | O1: Chauray | P1: Clermont-Ferrand | Q1: Courbevoie | R1: Creil - St Maximin | S1: Dammarie les Lys | T1: Dijon Eurobowling | U1: Dijon Marsannay | V1: Epinay | W1: Evreux | X1: Front de Seine | Y1: Fontaine le comte (Poitiers) | Z1: Grand Quevilly | AA1: Honfleur | AB1: Houdan | AC1: Joinville | AD1: La Chapelle | AE1: La Matène | AF1: La Rochelle | AG1: Le Havre | AH1: Limoges | AI1: Lomme | AJ1: Mérignac | AK1: Moulins | AL1: Moussy le Neuf | AM1: Nancy | AN1: Nantes St Séb. | AO1: Nantes St. Herblain | AP1: Nimes | AQ1: Nogent le Rotrou | AR1: Notre Dame de Gravenchon | AS1: Orgeval | AT1: Orleans Olivet | AU1: OSNABRUCK (Allemagne) | AV1: Ozoir | AW1: Poitier | AX1: Quimper | AY1: Rambouillet | AZ1: Reims Thillois | BA1: Reims Tinqueux | BB1: Saran | BC1: Strasbrg | BD1: St. Nazaire | BE1: Taden | BF1: Thiais | BG1: Toulouse Coulomier | BH1: Toulouse Montaudran | BI1: Tours | BJ1: Troyes | BK1: Valenciennes | BL1: Vannes | BM1: Villeneuve d'Ascq | BN1: Wittelsheim
A2: BELOT Léopold | B2: =COUNTA(C2:BN2) -> 2 | K2: 2 | AY2: 1 | BO2: =SUM(C2:BN2) -> 3
A3: BONNET Jean Claude | B3: =COUNTA(C3:BN3) -> 3 | K3: 1 | AB3: 2 | AY3: 8 | BO3: =SUM(C3:BN3) -> 11
A4: BOUZOU Francis | B4: =COUNTA(C4:BN4) -> 2 | AB4: 1 | AY4: 3 | BO4: =SUM(C4:BN4) -> 4
A5: CARRIC Olivier | B5: =COUNTA(C5:BN5) -> 1 | AY5: 4 | BO5: =SUM(C5:BN5) -> 4
A6: CROVATTO Christine | B6: =COUNTA(C6:BN6) -> 4 | Q6: 1 | AB6: 2 | AF6: 1 | AY6: 2 | BO6: =SUM(C6:BN6) -> 6
A7: CROVATTO Philippe | B7: =COUNTA(C7:BN7) -> 3 | K7: 1 | AB7: 2 | AY7: 3 | BO7: =SUM(C7:BN7) -> 6
A8: DELORT Philippe | B8: =COUNTA(C8:BN8) -> 3 | K8: 1 | AB8: 1 | AY8: 6 | BO8: =SUM(C8:BN8) -> 8
A9: DELORT Valérie | B9: =COUNTA(C9:BN9) -> 4 | K9: 1 | Q9: 1 | AB9: 1 | AY9: 5 | BO9: =SUM(C9:BN9) -> 8
A10: DURON Eric | B10: =COUNTA(C10:BN10) -> 1 | AY10: 2 | BO10: =SUM(C10:BN10) -> 2
A11: DUVAL Franck | B11: =COUNTA(C11:BN11) -> 1 | AY11: 2 | BO11: =SUM(C11:BN11) -> 2
A12: ESDOLUC Elisabeth | B12: =COUNTA(C12:BN12) -> 1 | AY12: 2 | BO12: =SUM(C12:BN12) -> 2
A13: ESNAULT Eric | B13: =COUNTA(C13:BN13) -> 1 | AY13: 3 | BO13: =SUM(C13:BN13) -> 3
A14: ESNAULT Michèle | B14: =COUNTA(C14:BN14) -> 2 | AB14: 1 | AY14: 2 | BO14: =SUM(C14:BN14) -> 3
A15: FARGEIX Christian | B15: =COUNTA(C15:BN15) -> 5 | L15: 1 | AB15: 1 | AL15: 1 | AY15: 2 | BF15: 6 | BO15: =SUM(C15:BN15) -> 11
A16: FARGEIX Florence | B16: =COUNTA(C16:BN16) -> 2 | Q16: 1 | BF16: 2 | BO16: =SUM(C16:BN16) -> 3
A17: FAVREAU Gael | B17: =COUNTA(C17:BN17) -> 5 | K17: 2 | R17: 1 | AB17: 1 | AL17: 1 | AY17: 4 | BO17: =SUM(C17:BN17) -> 9
A18: FAYEMENDY Michel | B18: =COUNTA(C18:BN18) -> 5 | K18: 1 | L18: 1 | AL18: 1 | AY18: 1 | BF18: 5 | BO18: =SUM(C18:BN18) -> 9
A19: GARCIA Sabine | B19: =COUNTA(C19:BN19) -> 4 | Q19: 1 | AB19: 3 | AF19: 1 | AY19: 5 | BO19: =SUM(C19:BN19) -> 10
A20: GATEAU Emma | B20: =COUNTA(C20:BN20) -> 3 | Q20: 1 | AB20: 1 | AY20: 4 | BO20: =SUM(C20:BN20) -> 6
A21: GOUTTORBE Yveline | B21: =COUNTA(C21:BN21) -> 2 | Q21: 1 | AY21: 3 | BO21: =SUM(C21:BN21) -> 4
A22: GUYOT Jean Michel | B22: =COUNTA(C22:BN22) -> 0 | BO22: =SUM(C22:BN22) -> 0
A23: GUYOT Stéphane | B23: =COUNTA(C23:BN23) -> 2 | K23: 2 | AY23: 2 | BO23: =SUM(C23:BN23) -> 4
A24: HERVAULT Daniel | B24: =COUNTA(C24:BN24) -> 2 | K24: 1 | AY24: 3 | BO24: =SUM(C24:BN24) -> 4
A25: HUCHET Stéphane | B25: =COUNTA(C25:BN25) -> 3 | K25: 1 | AB25: 3 | AY25: 3 | BO25: =SUM(C25:BN25) -> 7
A26: JOUBERT Joel | B26: =COUNTA(C26:BN26) -> 2 | K26: 1 | AY26: 5 | BO26: =SUM(C26:BN26) -> 6
A27: JOUEN Frédéric | B27: =COUNTA(C27:BN27) -> 2 | K27: 1 | AY27: 2 | BO27: =SUM(C27:BN27) -> 3
A28: JOURNIAC Christian | B28: =COUNTA(C28:BN28) -> 2 | AY28: 2 | BF28: 1 | BO28: =SUM(C28:BN28) -> 3
A29: KUBIAK Charlie | B29: =COUNTA(C29:BN29) -> 1 | K29: 1 | BO29: =SUM(C29:BN29) -> 1
A30: LE FILOUS Claude | B30: =COUNTA(C30:BN30) -> 1 | AY30: 2 | BO30: =SUM(C30:BN30) -> 2
A31: LE FILOUS Damien | B31: =COUNTA(C31:BN31) -> 1 | AY31: 5 | BO31: =SUM(C31:BN31) -> 5
A32: LE FILOUS Julie | B32: =COUNTA(C32:BN32) -> 0 | BO32: =SUM(C32:BN32) -> 0
A33: LECOMTE Coline | B33: =COUNTA(C33:BN33) -> 1 | AY33: 1 | BO33: =SUM(C33:BN33) -> 1
A34: MARION Christine | B34: =COUNTA(C34:BN34) -> 4 | Q34: 1 | AB34: 2 | AF34: 1 | AY34: 3 | BO34: =SUM(C34:BN34) -> 7
A35: MORGADO Jean Claude | B35: =COUNTA(C35:BN35) -> 0 | BO35: =SUM(C35:BN35) -> 0
A36: MORGADO Théo | B36: =COUNTA(C36:BN36) -> 0 | BO36: =SUM(C36:BN36) -> 0
A37: NIVET Jean-Pierre | B37: =COUNTA(C37:BN37) -> 2 | AB37: 1 | AY37: 2 | BO37: =SUM(C37:BN37) -> 3
A38: NIVET Muriel | B38: =COUNTA(C38:BN38) -> 2 | AB38: 1 | AY38: 5 | BO38: =SUM(C38:BN38) -> 6
A39: OLAGNIER Gérard | B39: =COUNTA(C39:BN39) -> 4 | K39: 1 | AB39: 2 | AY39: 7 | BF39: 1 | BO39: =SUM(C39:BN39) -> 11
A40: PILLOUD Alexandre | B40: =COUNTA(C40:BN40) -> 1 | K40: 1 | BO40: =SUM(C40:BN40) -> 1
A41: PILLOUD Guillaume | B41: =COUNTA(C41:BN41) -> 0 | BO41: =SUM(C41:BN41) -> 0
A42: RITHIE Régis | B42: =COUNTA(C42:BN42) -> 3 | AB42: 1 | AY42: 4 | BF42: 3 | BO42: =SUM(C42:BN42) -> 8
A43: ROUCHON Xavier | B43: =COUNTA(C43:BN43) -> 5 | F43: 1 | AB43: 1 | AL43: 1 | AY43: 8 | BF43: 2 | BO43: =SUM(C43:BN43) -> 13
A44: SOLARI Joseph | B44: =COUNTA(C44:BN44) -> 1 | AB44: 1 | BO44: =SUM(C44:BN44) -> 1
A45: TERRIEN Blaise | B45: =COUNTA(C45:BN45) -> 1 | AY45: 1 | BO45: =SUM(C45:BN45) -> 1
A46: TERRIEN Yanis | B46: =COUNTA(C46:BN46) -> 2 | K46: 1 | AY46: 2 | BO46: =SUM(C46:BN46) -> 3
C47: =SUM(C2:C46) -> 0 | D47: =SUM(D2:D46) -> 0 | E47: =SUM(E2:E46) -> 0 | F47: =SUM(F2:F46) -> 1 | G47: =SUM(G2:G46) -> 0 | H47: =SUM(H2:H46) -> 0 | I47: =SUM(I2:I46) -> 0 | J47: =SUM(J2:J46) -> 0 | ... BN47: =SUM(BN2:BN46) -> 0 | BO47: =SUM(C47:BN47) -> 204

Sheet Classt saison Ligues-Amical
B1: BC PLAISIR NOM Prénom | C1: Catégorie | D1: Sexe | E1: N° Licence | F1: Total quilles | G1: Nbre de parties | H1: MOYENNE scratch | I1: Handicap | J1: MOYENNE Handicap
A2: 1 | B2: ROUCHON Xavier | C2: SA | D2: M | F2: =SUMIF('Résultats Ligues et Amical'!$D:$D,"=ROUCHON Xavier",'Résultats Ligues et Amical'!E:E) -> 9797 | G2: =SUMIF('Résultats Ligues et Amical'!$D:$D,"=ROUCHON Xavier",'Résultats Ligues et Amical'!F:F) -> 51 | H2: =F2/G2 -> 192.09804 | I2: 19 | J2: =H2+I2 -> 211.09804
A3: 2 | B3: FAVREAU Gael | C3: JU | D3: M | F3: =SUMIF('Résultats Ligues et Amical'!$D:$D,"=FAVREAU Gael",'Résultats Ligues et Amical'!E:E) -> 5806 | G3: =SUMIF('Résultats Ligues et Amical'!$D:$D,"=FAVREAU Gael",'Résultats Ligues et Amical'!F:F) -> 32 | H3: =F3/G3 -> 181.4375 | I3: 23 | J3: =H3+I3 -> 204.4375
A4: 3 | B4: FARGEIX Christian | C4: SC | D4: M | F4: =SUMIF('Résultats Ligues et Amical'!$D:$D,"=FARGEIX Christian",'Résultats Ligues et Amical'!E:E) -> 9667 | G4: =SUMIF('Résultats Ligues et Amical'!$D:$D,"=FARGEIX Christian",'Résultats Ligues et Amical'!F:F) -> 54 | H4: =F4/G4 -> 179.01852 | I4: 27 | J4: =H4+I4 -> 206.01852
A5: 4 | B5: ESNAULT Eric | C5: SB | D5: M | F5: =SUMIF('Résultats Ligues et Amical'!$D:$D,"=ESNAULT Eric",'Résultats Ligues et Amical'!E:E) -> 2085 | G5: =SUMIF('Résultats Ligues et Amical'!$D:$D,"=ESNAULT Eric",'Résultats Ligues et Amical'!F:F) -> 12 | H5: =F5/G5 -> 173.75 | I5: 42 | J5: =H5+I5 -> 215.75
A6: 5 | B6: LE FILOUS Damien | C6: SE | D6: M | F6: =SUMIF('Résultats Ligues et Amical'!$D:$D,"=LE FILOUS Damien",'Résultats Ligues et Amical'!E:E) -> 4137 | G6: =SUMIF('Résultats Ligues et Amical'!$D:$D,"=LE FILOUS Damien",'Résultats Ligues et Amical'!F:F) -> 24 | H6: =F6/G6 -> 172.375 | I6: 30 | J6: =H6+I6 -> 202.375
A7: 6 | B7: JOUEN Frédéric | C7: SA | D7: M | F7: =SUMIF('Résultats Ligues et Amical'!$D:$D,"=JOUEN Frédéric",'Résultats Ligues et Amical'!E:E) -> 3366 | G7: =SUMIF('Résultats Ligues et Amical'!$D:$D,"=JOUEN Frédéric",'Résultats Ligues et Amical'!F:F) -> 20 | H7: =F7/G7 -> 168.3 | I7: 36 | J7: =H7+I7 -> 204.3
A8: 7 | B8: DELORT Philippe | C8: SC | D8: M | F8: =SUMIF('Résultats Ligues et Amical'!$D:$D,"=DELORT Philippe",'Résultats Ligues et Amical'!E:E) -> 5373 | G8: =SUMIF('Résultats Ligues et Amical'!$D:$D,"=DELORT Philippe",'Résultats Ligues et Amical'!F:F) -> 32 | H8: =F8/G8 -> 167.90625 | I8: 37 | J8: =H8+I8 -> 204.90625
A9: 8 | B9: CROVATTO Philippe | C9: SA | D9: M | F9: =SUMIF('Résultats Ligues et Amical'!$D:$D,"=CROVATTO Philippe",'Résultats Ligues et Amical'!E:E) -> 7247 | G9: =SUMIF('Résultats Ligues et Amical'!$D:$D,"=CROVATTO Philippe",'Résultats Ligues et Amical'!F:F) -> 44 | H9: =F9/G9 -> 164.70455 | I9: 35 | J9: =H9+I9 -> 199.70455
A10: 9 | B10: CARRIC Olivier | C10: SB | D10: M | F10: =SUMIF('Résultats Ligues et Amical'!$D:$D,"=CARRIC Olivier",'Résultats Ligues et Amical'!E:E) -> 1955 | G10: =SUMIF('Résultats Ligues et Amical'!$D:$D,"=CARRIC Olivier",'Résultats Ligues et Amical'!F:F) -> 12 | H10: =F10/G10 -> 162.91667 | I10: 42 | J10: =H10+I10 -> 204.91667
A11: 10 | B11: JOURNIAC Christian | C11: SC | D11: M | F11: =SUMIF('Résultats Ligues et Amical'!$D:$D,"=JOURNIAC Christian",'Résultats Ligues et Amical'!E:E) -> 5370 | G11: =SUMIF('Résultats Ligues et Amical'!$D:$D,"=JOURNIAC Christian",'Résultats Ligues et Amical'!F:F) -> 33 | H11: =F11/G11 -> 162.72727 | I11: 44 | J11: =H11+I11 -> 206.72727
A12: 11 | B12: HUCHET Stéphane | C12: SA | D12: M | F12: =SUMIF('Résultats Ligues et Amical'!$D:$D,"=HUCHET Stéphane",'Résultats Ligues et Amical'!E:E) -> 6505 | G12: =SUMIF('Résultats Ligues et Amical'!$D:$D,"=HUCHET Stéphane",'Résultats Ligues et Amical'!F:F) -> 40 | H12: =F12/G12 -> 162.625 | I12: 39 | J12: =H12+I12 -> 201.625
A13: 12 | B13: FAYEMENDY Michel | C13: SC | D13: M | F13: =SUMIF('Résultats Ligues et Amical'!$D:$D,"=FAYEMENDY Michel",'Résultats Ligues et Amical'!E:E) -> 5321 | G13: =SUMIF('Résultats Ligues et Amical'!$D:$D,"=FAYEMENDY Michel",'Résultats Ligues et Amical'!F:F) -> 33 | H13: =F13/G13 -> 161.24242 | I13: 42 | J13: =H13+I13 -> 203.24242
A14: 13 | B14: BOUZOU Francis | C14: SB | D14: M | F14: =SUMIF('Résultats Ligues et Amical'!$D:$D,"=BOUZOU Francis",'Résultats Ligues et Amical'!E:E) -> 7695 | G14: =SUMIF('Résultats Ligues et Amical'!$D:$D,"=BOUZOU Francis",'Résultats Ligues et Amical'!F:F) -> 48 | H14: =F14/G14 -> 160.3125 | I14: 42 | J14: =H14+I14 -> 202.3125
A15: 14 | B15: JOUBERT Joel | C15: SB | D15: M | F15: =SUMIF('Résultats Ligues et Amical'!$D:$D,"=JOUBERT Joel",'Résultats Ligues et Amical'!E:E) -> 3841 | G15: =SUMIF('Résultats Ligues et Amical'!$D:$D,"=JOUBERT Joel",'Résultats Ligues et Amical'!F:F) -> 24 | H15: =F15/G15 -> 160.04167 | I15: 37 | J15: =H15+I15 -> 197.04167
A16: 15 | B16: RITHIE Régis | C16: SB | D16: M | F16: =SUMIF('Résultats Ligues et Amical'!$D:$D,"=RITHIE Régis",'Résultats Ligues et Amical'!E:E) -> 6121 | G16: =SUMIF('Résultats Ligues et Amical'!$D:$D,"=RITHIE Régis",'Résultats Ligues et Amical'!F:F) -> 39 | H16: =F16/G16 -> 156.94872 | I16: 35 | J16: =H16+I16 -> 191.94872
A17: 16 | B17: DELORT Valérie | C17: SB | D17: F | F17: =SUMIF('Résultats Ligues et Amical'!$D:$D,"=DELORT Valérie",'Résultats Ligues et Amical'!E:E) -> 3094 | G17: =SUMIF('Résultats Ligues et Amical'!$D:$D,"=DELORT Valérie",'Résultats Ligues et Amical'!F:F) -> 20 | H17: =F17/G17 -> 154.7 | I17: 46 | J17: =H17+I17 -> 200.7
A18: 17 | B18: BONNET Jean Claude | C18: SC | D18: M | F18: =SUMIF('Résultats Ligues et Amical'!$D:$D,"=BONNET Jean Claude",'Résultats Ligues et Amical'!E:E) -> 6799 | G18: =SUMIF('Résultats Ligues et Amical'!$D:$D,"=BONNET Jean Claude",'Résultats Ligues et Amical'!F:F) -> 44 | H18: =F18/G18 -> 154.52273 | I18: 42 | J18: =H18+I18 -> 196.52273
A19: 18 | B19: LE FILOUS Claude | C19: SB | D19: M | F19: =SUMIF('Résultats Ligues et Amical'!$D:$D,"=LE FILOUS Claude",'Résultats Ligues et Amical'!E:E) -> 3060 | G19: =SUMIF('Résultats Ligues et Amical'!$D:$D,"=LE FILOUS Claude",'Résultats Ligues et Amical'!F:F) -> 20 | H19: =F19/G19 -> 153 | I19: 46 | J19: =H19+I19 -> 199
A20: 19 | B20: GOUTTORBE Yveline | C20: SB | D20: F | F20: =SUMIF('Résultats Ligues et Amical'!$D:$D,"=GOUTTORBE Yveline",'Résultats Ligues et Amical'!E:E) -> 2996 | G20: =SUMIF('Résultats Ligues et Amical'!$D:$D,"=GOUTTORBE Yveline",'Résultats Ligues et Amical'!F:F) -> 20 | H20: =F20/G20 -> 149.8 | I20: 51 | J20: =H20+I20 -> 200.8
A21: 20 | B21: GATEAU Emma | C21: SE | D21: F | F21: =SUMIF('Résultats Ligues et Amical'!$D:$D,"=GATEAU Emma",'Résultats Ligues et Amical'!E:E) -> 2375 | G21: =SUMIF('Résultats Ligues et Amical'!$D:$D,"=GATEAU Emma",'Résultats Ligues et Amical'!F:F) -> 16 | H21: =F21/G21 -> 148.4375 | I21: 57 | J21: =H21+I21 -> 205.4375
A22: 21 | B22: SOLARI Joseph | C22: SC | D22: M | F22: =SUMIF('Résultats Ligues et Amical'!$D:$D,"=SOLARI Joseph",'Résultats Ligues et Amical'!E:E) -> 2367 | G22: =SUMIF('Résultats Ligues et Amical'!$D:$D,"=SOLARI Joseph",'Résultats Ligues et Amical'!F:F) -> 16 | H22: =F22/G22 -> 147.9375 | I22: 41 | J22: =H22+I22 -> 188.9375
A23: 22 | B23: GARCIA Sabine | C23: SC | D23: F | F23: =SUMIF('Résultats Ligues et Amical'!$D:$D,"=GARCIA Sabine",'Résultats Ligues et Amical'!E:E) -> 9386 | G23: =SUMIF('Résultats Ligues et Amical'!$D:$D,"=GARCIA Sabine",'Résultats Ligues et Amical'!F:F) -> 64 | H23: =F23/G23 -> 146.65625 | I23: 46 | J23: =H23+I23 -> 192.65625
A24: 23 | B24: NIVET Muriel | C24: SC | D24: F | F24: =SUMIF('Résultats Ligues et Amical'!$D:$D,"=NIVET Muriel",'Résultats Ligues et Amical'!E:E) -> 6419 | G24: =SUMIF('Résultats Ligues et Amical'!$D:$D,"=NIVET Muriel",'Résultats Ligues et Amical'!F:F) -> 44 | H24: =F24/G24 -> 145.88636 | I24: 49 | J24: =H24+I24 -> 194.88636
A25: 24 | B25: HERVAULT Daniel | C25: SC | D25: M | F25: =SUMIF('Résultats Ligues et Amical'!$D:$D,"=HERVAULT Daniel",'Résultats Ligues et Amical'!E:E) -> 4072 | G25: =SUMIF('Résultats Ligues et Amical'!$D:$D,"=HERVAULT Daniel",'Résultats Ligues et Amical'!F:F) -> 28 | H25: =F25/G25 -> 145.42857 | I25: 54 | J25: =H25+I25 -> 199.42857
A26: 25 | B26: TERRIEN Yanis | C26: CA | D26: M | F26: =SUMIF('Résultats Ligues et Amical'!$D:$D,"=TERRIEN Yanis",'Résultats Ligues et Amical'!E:E) -> 577 | G26: =SUMIF('Résultats Ligues et Amical'!$D:$D,"=TERRIEN Yanis",'Résultats Ligues et Amical'!F:F) -> 4 | H26: =F26/G26 -> 144.25 | I26: 61 | J26: =H26+I26 -> 205.25
A27: 26 | B27: FARGEIX Florence | C27: SE | D27: F | F27: =SUMIF('Résultats Ligues et Amical'!$D:$D,"=FARGEIX Florence",'Résultats Ligues et Amical'!E:E) -> 1146 | G27: =SUMIF('Résultats Ligues et Amical'!$D:$D,"=FARGEIX Florence",'Résultats Ligues et Amical'!F:F) -> 8 | H27: =F27/G27 -> 143.25 | I27: 51 | J27: =H27+I27 -> 194.25
A28: 27 | B28: OLAGNIER Gérard | C28: SC | D28: M | F28: =SUMIF('Résultats Ligues et Amical'!$D:$D,"=OLAGNIER Gérard",'Résultats Ligues et Amical'!E:E) -> 8455 | G28: =SUMIF('Résultats Ligues et Amical'!$D:$D,"=OLAGNIER Gérard",'Résultats Ligues et Amical'!F:F) -> 60 | H28: =F28/G28 -> 140.91667 | I28: 52 | J28: =H28+I28 -> 192.91667
A29: 28 | B29: NIVET Jean-Pierre | C29: SC | D29: M | F29: =SUMIF('Résultats Ligues et Amical'!$D:$D,"=NIVET Jean-Pierre",'Résultats Ligues et Amical'!E:E) -> 6091 | G29: =SUMIF('Résultats Ligues et Amical'!$D:$D,"=NIVET Jean-Pierre",'Résultats Ligues et Amical'!F:F) -> 44 | H29: =F29/G29 -> 138.43182 | I29: 66 | J29: =H29+I29 -> 204.43182
A30: 29 | B30: MARION Christine | C30: SA | D30: F | F30: =SUMIF('Résultats Ligues et Amical'!$D:$D,"=MARION Christine",'Résultats Ligues et Amical'!E:E) -> 7075 | G30: =SUMIF('Résultats Ligues et Amical'!$D:$D,"=MARION Christine",'Résultats Ligues et Amical'!F:F) -> 52 | H30: =F30/G30 -> 136.05769 | I30: 58 | J30: =H30+I30 -> 194.05769
A31: 30 | B31: ESNAULT Michèle | C31: SC | D31: F | F31: =SUMIF('Résultats Ligues et Amical'!$D:$D,"=ESNAULT Michèle",'Résultats Ligues et Amical'!E:E) -> 5379 | G31: =SUMIF('Résultats Ligues et Amical'!$D:$D,"=ESNAULT Michèle",'Résultats Ligues et Amical'!F:F) -> 40 | H31: =F31/G31 -> 134.475 | I31: 51 | J31: =H31+I31 -> 185.475
A32: 31 | B32: DURON Eric | C32: SC | D32: M | F32: =SUMIF('Résultats Ligues et Amical'!$D:$D,"=DURON Eric",'Résultats Ligues et Amical'!E:E) -> 1568 | G32: =SUMIF('Résultats Ligues et Amical'!$D:$D,"=DURON Eric",'Résultats Ligues et Amical'!F:F) -> 12 | H32: =F32/G32 -> 130.66667 | I32: 51 | J32: =H32+I32 -> 181.66667
A33: 32 | B33: DUVAL Franck | C33: SB | D33: M | F33: =SUMIF('Résultats Ligues et Amical'!$D:$D,"=DUVAL Franck",'Résultats Ligues et Amical'!E:E) -> 2061 | G33: =SUMIF('Résultats Ligues et Amical'!$D:$D,"=DUVAL Franck",'Résultats Ligues et Amical'!F:F) -> 16 | H33: =F33/G33 -> 128.8125 | I33: 62 | J33: =H33+I33 -> 190.8125
A34: 33 | B34: CROVATTO Christine | C34: SA | D34: F | F34: =SUMIF('Résultats Ligues et Amical'!$D:$D,"=CROVATTO Christine",'Résultats Ligues et Amical'!E:E) -> 5508 | G34: =SUMIF('Résultats Ligues et Amical'!$D:$D,"=CROVATTO Christine",'Résultats Ligues et Amical'!F:F) -> 44 | H34: =F34/G34 -> 125.18182 | I34: 61 | J34: =H34+I34 -> 186.18182
A35: 34 | B35: GUYOT Stéphane | C35: JU | D35: M | F35: =SUMIF('Résultats Ligues et Amical'!$D:$D,"=Guyot Stéphane",'Résultats Ligues et Amical'!E:E) -> 467 | G35: =SUMIF('Résultats Ligues et Amical'!$D:$D,"=Guyot Stéphane",'Résultats Ligues et Amical'!F:F) -> 4 | H35: =F35/G35 -> 116.75 | I35: 40 | J35: =H35+I35 -> 156.75
A36: 35 | B36: ESDOLUC Elisabeth | C36: SC | D36: F | F36: =SUMIF('Résultats Ligues et Amical'!$D:$D,"=ESDOLUC Elisabeth",'Résultats Ligues et Amical'!E:E) -> 898 | G36: =SUMIF('Résultats Ligues et Amical'!$D:$D,"=ESDOLUC Elisabeth",'Résultats Ligues et Amical'!F:F) -> 8 | H36: =F36/G36 -> 112.25 | I36: 28 | J36: =H36+I36 -> 140.25
A38: 36 | B38: BELOT Léopold | C38: MI | D38: M | F38: =SUMIF('Résultats Ligues et Amical'!$D:$D,"=BELOT Léopold",'Résultats Ligues et Amical'!E:E) -> 0 | G38: =SUMIF('Résultats Ligues et Amical'!$D:$D,"=BELOT Léopold",'Résultats Ligues et Amical'!F:F) -> 0 | H38: =F38/G38 -> #DIV/0! | I38: 49 | J38: =H38+I38 -> #DIV/0!
A39: 37 | B39: GUYOT Jean Michel | C39: SB | D39: M | F39: =SUMIF('Résultats Ligues et Amical'!$D:$D,"=Guyot Jean Michel",'Résultats Ligues et Amical'!E:E) -> 0 | G39: =SUMIF('Résultats Ligues et Amical'!$D:$D,"=Morgado Jean Michel",'Résultats Ligues et Amical'!F:F) -> 0 | H39: =F39/G39 -> #DIV/0! | I39: 18 | J39: =H39+I39 -> #DIV/0!
A40: 38 | B40: KUBIAK Charlie | C40: BJ | D40: M | F40: =SUMIF('Résultats Ligues et Amical'!$D:$D,"=KUBIAK Charlie",'Résultats Ligues et Amical'!E:E) -> 0 | G40: =SUMIF('Résultats Ligues et Amical'!$D:$D,"=KUBIAK Charlie",'Résultats Ligues et Amical'!F:F) -> 0 | H40: =F40/G40 -> #DIV/0! | I40: 56 | J40: =H40+I40 -> #DIV/0!
A41: 39 | B41: LE FILOUS Julie | C41: JU | D41: F | F41: =SUMIF('Résultats Ligues et Amical'!$D:$D,"=LE FILOUS Julie",'Résultats Ligues et Amical'!E:E) -> 0 | G41: =SUMIF('Résultats Ligues et Amical'!$D:$D,"=LE FILOUS Julie",'Résultats Ligues et Amical'!F:F) -> 0 | H41: =F41/G41 -> #DIV/0! | I41: 33 | J41: =H41+I41 -> #DIV/0!
A42: 40 | B42: LECOMTE Coline | C42: MI | D42: F | F42: =SUMIF('Résultats Ligues et Amical'!$D:$D,"=LECOMTE Coline",'Résultats Ligues et Amical'!E:E) -> 0 | G42: =SUMIF('Résultats Ligues et Amical'!$D:$D,"=LECOMTE Coline",'Résultats Ligues et Amical'!F:F) -> 0 | H42: =F42/G42 -> #DIV/0! | I42: 67 | J42: =H42+I42 -> #DIV/0!
A43: 41 | B43: MORGADO Jean Claude | C43: SE | D43: M | F43: =SUMIF('Résultats Ligues et Amical'!$D:$D,"=Morgado Jean Claude",'Résultats Ligues et Amical'!E:E) -> 0 | G43: =SUMIF('Résultats Ligues et Amical'!$D:$D,"=Morgado Jean Claude",'Résultats Ligues et Amical'!F:F) -> 0 | H43: =F43/G43 -> #DIV/0! | I43: 18 | J43: =H43+I43 -> #DIV/0!
A44: 42 | B44: TERRIEN Blaise | C44: PO | D44: M | F44: =SUMIF('Résultats Ligues et Amical'!$D:$D,"=TERRIEN Blaise",'Résultats Ligues et Amical'!E:E) -> 0 | G44: =SUMIF('Résultats Ligues et Amical'!$D:$D,"=TERRIEN Blaise",'Résultats Ligues et Amical'!F:F) -> 0 | H44: =F44/G44 -> #DIV/0! | I44: 80 | J44: =H44+I44 -> #DIV/0!

Sheet Classt saison Comp Fédérales
B1: BC PLAISIR NOM Prénom | C1: Catégorie | D1: Sexe | E1: N° Licence | F1: Total quilles | G1: Nbre de parties | H1: MOYENNE scratch | I1: Handicap | J1: MOYENNE Handicap
A2: 1 | B2: FAVREAU Gael | C2: JU | D2: M | F2: =SUMIF('Résultats Comp Fédérales'!$D:$D,"=FAVREAU Gael",'Résultats Comp Fédérales'!E:E) -> 9444 | G2: =SUMIF('Résultats Comp Fédérales'!$D:$D,"=FAVREAU Gael",'Résultats Comp Fédérales'!F:F) -> 49 | H2: =F2/G2 -> 192.73469 | I2: 23 | J2: =H2+I2 -> 215.73469
A3: 2 | B3: ROUCHON Xavier | C3: SA | D3: M | F3: =SUMIF('Résultats Comp Fédérales'!$D:$D,"=ROUCHON Xavier",'Résultats Comp Fédérales'!E:E) -> 6357 | G3: =SUMIF('Résultats Comp Fédérales'!$D:$D,"=ROUCHON Xavier",'Résultats Comp Fédérales'!F:F) -> 33 | H3: =F3/G3 -> 192.63636 | I3: 19 | J3: =H3+I3 -> 211.63636
A4: 3 | B4: LE FILOUS Damien | C4: SE | D4: M | F4: =SUMIF('Résultats Comp Fédérales'!$D:$D,"=LE FILOUS Damien",'Résultats Comp Fédérales'!E:E) -> 4719 | G4: =SUMIF('Résultats Comp Fédérales'!$D:$D,"=LE FILOUS Damien",'Résultats Comp Fédérales'!F:F) -> 25 | H4: =F4/G4 -> 188.76 | I4: 30 | J4: =H4+I4 -> 218.76
A5: 4 | B5: JOUEN Frédéric | C5: SA | D5: M | F5: =SUMIF('Résultats Comp Fédérales'!$D:$D,"=JOUEN Frédéric",'Résultats Comp Fédérales'!E:E) -> 930 | G5: =SUMIF('Résultats Comp Fédérales'!$D:$D,"=JOUEN Frédéric",'Résultats Comp Fédérales'!F:F) -> 5 | H5: =F5/G5 -> 186 | I5: 36 | J5: =H5+I5 -> 222
A6: 5 | B6: FARGEIX Christian | C6: SC | D6: M | F6: =SUMIF('Résultats Comp Fédérales'!$D:$D,"=FARGEIX Christian",'Résultats Comp Fédérales'!E:E) -> 8030 | G6: =SUMIF('Résultats Comp Fédérales'!$D:$D,"=FARGEIX Christian",'Résultats Comp Fédérales'!F:F) -> 45 | H6: =F6/G6 -> 178.44444 | I6: 27 | J6: =H6+I6 -> 205.44444
A7: 6 | B7: JOUBERT Joel | C7: SB | D7: M | F7: =SUMIF('Résultats Comp Fédérales'!$D:$D,"=JOUBERT Joel",'Résultats Comp Fédérales'!E:E) -> 3642 | G7: =SUMIF('Résultats Comp Fédérales'!$D:$D,"=JOUBERT Joel",'Résultats Comp Fédérales'!F:F) -> 21 | H7: =F7/G7 -> 173.42857 | I7: 37 | J7: =H7+I7 -> 210.42857
A8: 7 | B8: CROVATTO Philippe | C8: SA | D8: M | F8: =SUMIF('Résultats Comp Fédérales'!$D:$D,"=CROVATTO Philippe",'Résultats Comp Fédérales'!E:E) -> 3241 | G8: =SUMIF('Résultats Comp Fédérales'!$D:$D,"=CROVATTO Philippe",'Résultats Comp Fédérales'!F:F) -> 19 | H8: =F8/G8 -> 170.57895 | I8: 35 | J8: =H8+I8 -> 205.57895
A9: 8 | B9: CARRIC Olivier | C9: SB | D9: M | F9: =SUMIF('Résultats Comp Fédérales'!$D:$D,"=CARRIC Olivier",'Résultats Comp Fédérales'!E:E) -> 2045 | G9: =SUMIF('Résultats Comp Fédérales'!$D:$D,"=CARRIC Olivier",'Résultats Comp Fédérales'!F:F) -> 12 | H9: =F9/G9 -> 170.41667 | I9: 42 | J9: =H9+I9 -> 212.41667
A10: 9 | B10: DELORT Philippe | C10: SC | D10: M | F10: =SUMIF('Résultats Comp Fédérales'!$D:$D,"=DELORT Philippe",'Résultats Comp Fédérales'!E:E) -> 7931 | G10: =SUMIF('Résultats Comp Fédérales'!$D:$D,"=DELORT Philippe",'Résultats Comp Fédérales'!F:F) -> 47 | H10: =F10/G10 -> 168.74468 | I10: 37 | J10: =H10+I10 -> 205.74468
A11: 10 | B11: BELOT Léopold | C11: MI | D11: M | F11: =SUMIF('Résultats Comp Fédérales'!$D:$D,"=BELOT Léopold",'Résultats Comp Fédérales'!E:E) -> 2841 | G11: =SUMIF('Résultats Comp Fédérales'!$D:$D,"=BELOT Léopold",'Résultats Comp Fédérales'!F:F) -> 17 | H11: =F11/G11 -> 167.11765 | I11: 49 | J11: =H11+I11 -> 216.11765
A12: 11 | B12: BONNET Jean Claude | C12: SC | D12: M | F12: =SUMIF('Résultats Comp Fédérales'!$D:$D,"=BONNET Jean Claude",'Résultats Comp Fédérales'!E:E) -> 5726 | G12: =SUMIF('Résultats Comp Fédérales'!$D:$D,"=BONNET Jean Claude",'Résultats Comp Fédérales'!F:F) -> 35 | H12: =F12/G12 -> 163.6 | I12: 42 | J12: =H12+I12 -> 205.6
A13: 12 | B13: RITHIE Régis | C13: SB | D13: M | F13: =SUMIF('Résultats Comp Fédérales'!$D:$D,"=RITHIE Régis",'Résultats Comp Fédérales'!E:E) -> 6160 | G13: =SUMIF('Résultats Comp Fédérales'!$D:$D,"=RITHIE Régis",'Résultats Comp Fédérales'!F:F) -> 38 | H13: =F13/G13 -> 162.10526 | I13: 35 | J13: =H13+I13 -> 197.10526
A14: 13 | B14: HUCHET Stéphane | C14: SA | D14: M | F14: =SUMIF('Résultats Comp Fédérales'!$D:$D,"=HUCHET Stéphane",'Résultats Comp Fédérales'!E:E) -> 5817 | G14: =SUMIF('Résultats Comp Fédérales'!$D:$D,"=HUCHET Stéphane",'Résultats Comp Fédérales'!F:F) -> 36 | H14: =F14/G14 -> 161.58333 | I14: 39 | J14: =H14+I14 -> 200.58333
A15: 14 | B15: FAYEMENDY Michel | C15: SC | D15: M | F15: =SUMIF('Résultats Comp Fédérales'!$D:$D,"=FAYEMENDY Michel",'Résultats Comp Fédérales'!E:E) -> 5476 | G15: =SUMIF('Résultats Comp Fédérales'!$D:$D,"=FAYEMENDY Michel",'Résultats Comp Fédérales'!F:F) -> 34 | H15: =F15/G15 -> 161.05882 | I15: 42 | J15: =H15+I15 -> 203.05882
A16: 15 | B16: NIVET Muriel | C16: SC | D16: F | F16: =SUMIF('Résultats Comp Fédérales'!$D:$D,"=NIVET Muriel",'Résultats Comp Fédérales'!E:E) -> 3822 | G16: =SUMIF('Résultats Comp Fédérales'!$D:$D,"=NIVET Muriel",'Résultats Comp Fédérales'!F:F) -> 24 | H16: =F16/G16 -> 159.25 | I16: 49 | J16: =H16+I16 -> 208.25
A17: 16 | B17: ESNAULT Eric | C17: SB | D17: M | F17: =SUMIF('Résultats Comp Fédérales'!$D:$D,"=ESNAULT Eric",'Résultats Comp Fédérales'!E:E) -> 1254 | G17: =SUMIF('Résultats Comp Fédérales'!$D:$D,"=ESNAULT Eric",'Résultats Comp Fédérales'!F:F) -> 8 | H17: =F17/G17 -> 156.75 | I17: 42 | J17: =H17+I17 -> 198.75
A18: 17 | B18: DELORT Valérie | C18: SB | D18: F | F18: =SUMIF('Résultats Comp Fédérales'!$D:$D,"=DELORT Valérie",'Résultats Comp Fédérales'!E:E) -> 7317 | G18: =SUMIF('Résultats Comp Fédérales'!$D:$D,"=DELORT Valérie",'Résultats Comp Fédérales'!F:F) -> 47 | H18: =F18/G18 -> 155.68085 | I18: 46 | J18: =H18+I18 -> 201.68085
A19: 18 | B19: GARCIA Sabine | C19: SC | D19: F | F19: =SUMIF('Résultats Comp Fédérales'!$D:$D,"=GARCIA Sabine",'Résultats Comp Fédérales'!E:E) -> 5995 | G19: =SUMIF('Résultats Comp Fédérales'!$D:$D,"=GARCIA Sabine",'Résultats Comp Fédérales'!F:F) -> 39 | H19: =F19/G19 -> 153.71795 | I19: 46 | J19: =H19+I19 -> 199.71795
A20: 19 | B20: BOUZOU Francis | C20: SB | D20: M | F20: =SUMIF('Résultats Comp Fédérales'!$D:$D,"=BOUZOU Francis",'Résultats Comp Fédérales'!E:E) -> 1209 | G20: =SUMIF('Résultats Comp Fédérales'!$D:$D,"=BOUZOU Francis",'Résultats Comp Fédérales'!F:F) -> 8 | H20: =F20/G20 -> 151.125 | I20: 42 | J20: =H20+I20 -> 193.125
A21: 20 | B21: FARGEIX Florence | C21: SE | D21: F | F21: =SUMIF('Résultats Comp Fédérales'!$D:$D,"=FARGEIX Florence",'Résultats Comp Fédérales'!E:E) -> 1615 | G21: =SUMIF('Résultats Comp Fédérales'!$D:$D,"=FARGEIX Florence",'Résultats Comp Fédérales'!F:F) -> 11 | H21: =F21/G21 -> 146.81818 | I21: 51 | J21: =H21+I21 -> 197.81818
A22: 21 | B22: HERVAULT Daniel | C22: SC | D22: M | F22: =SUMIF('Résultats Comp Fédérales'!$D:$D,"=HERVAULT Daniel",'Résultats Comp Fédérales'!E:E) -> 1755 | G22: =SUMIF('Résultats Comp Fédérales'!$D:$D,"=HERVAULT Daniel",'Résultats Comp Fédérales'!F:F) -> 12 | H22: =F22/G22 -> 146.25 | I22: 54 | J22: =H22+I22 -> 200.25
A23: 22 | B23: GOUTTORBE Yveline | C23: SB | D23: F | F23: =SUMIF('Résultats Comp Fédérales'!$D:$D,"=GOUTTORBE Yveline",'Résultats Comp Fédérales'!E:E) -> 2152 | G23: =SUMIF('Résultats Comp Fédérales'!$D:$D,"=GOUTTORBE Yveline",'Résultats Comp Fédérales'!F:F) -> 15 | H23: =F23/G23 -> 143.46667 | I23: 51 | J23: =H23+I23 -> 194.46667
A24: 23 | B24: MARION Christine | C24: SA | D24: F | F24: =SUMIF('Résultats Comp Fédérales'!$D:$D,"=MARION Christine",'Résultats Comp Fédérales'!E:E) -> 3138 | G24: =SUMIF('Résultats Comp Fédérales'!$D:$D,"=MARION Christine",'Résultats Comp Fédérales'!F:F) -> 22 | H24: =F24/G24 -> 142.63636 | I24: 58 | J24: =H24+I24 -> 200.63636
A25: 24 | B25: OLAGNIER Gérard | C25: SC | D25: M | F25: =SUMIF('Résultats Comp Fédérales'!$D:$D,"=OLAGNIER Gérard",'Résultats Comp Fédérales'!E:E) -> 5086 | G25: =SUMIF('Résultats Comp Fédérales'!$D:$D,"=OLAGNIER Gérard",'Résultats Comp Fédérales'!F:F) -> 36 | H25: =F25/G25 -> 141.27778 | I25: 52 | J25: =H25+I25 -> 193.27778
A26: 25 | B26: GATEAU Emma | C26: SE | D26: F | F26: =SUMIF('Résultats Comp Fédérales'!$D:$D,"=GATEAU Emma",'Résultats Comp Fédérales'!E:E) -> 4010 | G26: =SUMIF('Résultats Comp Fédérales'!$D:$D,"=GATEAU Emma",'Résultats Comp Fédérales'!F:F) -> 30 | H26: =F26/G26 -> 133.66667 | I26: 57 | J26: =H26+I26 -> 190.66667
A27: 26 | B27: TERRIEN Yanis | C27: CA | D27: M | F27: =SUMIF('Résultats Comp Fédérales'!$D:$D,"=TERRIEN Yanis",'Résultats Comp Fédérales'!E:E) -> 1467 | G27: =SUMIF('Résultats Comp Fédérales'!$D:$D,"=TERRIEN Yanis",'Résultats Comp Fédérales'!F:F) -> 11 | H27: =F27/G27 -> 133.36364 | I27: 61 | J27: =H27+I27 -> 194.36364
A28: 27 | B28: CROVATTO Christine | C28: SA | D28: F | F28: =SUMIF('Résultats Comp Fédérales'!$D:$D,"=CROVATTO Christine",'Résultats Comp Fédérales'!E:E) -> 1560 | G28: =SUMIF('Résultats Comp Fédérales'!$D:$D,"=CROVATTO Christine",'Résultats Comp Fédérales'!F:F) -> 12 | H28: =F28/G28 -> 130 | I28: 61 | J28: =H28+I28 -> 191
A29: 28 | B29: LECOMTE Coline | C29: MI | D29: F | F29: =SUMIF('Résultats Comp Fédérales'!$D:$D,"=LECOMTE Coline",'Résultats Comp Fédérales'!E:E) -> 780 | G29: =SUMIF('Résultats Comp Fédérales'!$D:$D,"=LECOMTE Coline",'Résultats Comp Fédérales'!F:F) -> 6 | H29: =F29/G29 -> 130 | I29: 67 | J29: =H29+I29 -> 197
A30: 29 | B30: GUYOT Stéphane | C30: JU | D30: M | F30: =SUMIF('Résultats Comp Fédérales'!$D:$D,"=Guyot Stéphane",'Résultats Comp Fédérales'!E:E) -> 1905 | G30: =SUMIF('Résultats Comp Fédérales'!$D:$D,"=Guyot Stéphane",'Résultats Comp Fédérales'!F:F) -> 16 | H30: =F30/G30 -> 119.0625 | I30: 40 | J30: =H30+I30 -> 159.0625
A31: 30 | B31: TERRIEN Blaise | C31: PO | D31: M | F31: =SUMIF('Résultats Comp Fédérales'!$D:$D,"=TERRIEN Blaise",'Résultats Comp Fédérales'!E:E) -> 224 | G31: =SUMIF('Résultats Comp Fédérales'!$D:$D,"=TERRIEN Blaise",'Résultats Comp Fédérales'!F:F) -> 4 | H31: =F31/G31 -> 56 | I31: 80 | J31: =H31+I31 -> 136
A32: 31 | B32: KUBIAK Charlie | C32: BJ | D32: M | F32: =SUMIF('Résultats Comp Fédérales'!$D:$D,"=KUBIAK Charlie",'Résultats Comp Fédérales'!E:E) -> 294 | G32: =SUMIF('Résultats Comp Fédérales'!$D:$D,"=KUBIAK Charlie",'Résultats Comp Fédérales'!F:F) -> 6 | H32: =F32/G32 -> 49 | I32: 56 | J32: =H32+I32 -> 105
A34: 32 | B34: DURON Eric | C34: SC | D34: M | F34: =SUMIF('Résultats Comp Fédérales'!$D:$D,"=DURON Eric",'Résultats Comp Fédérales'!E:E) -> 0 | G34: =SUMIF('Résultats Comp Fédérales'!$D:$D,"=DURON Eric",'Résultats Comp Fédérales'!F:F) -> 0 | H34: =F34/G34 -> #DIV/0! | I34: 51 | J34: =H34+I34 -> #DIV/0!
A35: 33 | B35: DUVAL Franck | C35: SB | D35: M | F35: =SUMIF('Résultats Comp Fédérales'!$D:$D,"=DUVAL Franck",'Résultats Comp Fédérales'!E:E) -> 0 | G35: =SUMIF('Résultats Comp Fédérales'!$D:$D,"=DUVAL Franck",'Résultats Comp Fédérales'!F:F) -> 0 | H35: =F35/G35 -> #DIV/0! | I35: 62 | J35: =H35+I35 -> #DIV/0!
A36: 34 | B36: ESDOLUC Elisabeth | C36: SC | D36: F | F36: =SUMIF('Résultats Comp Fédérales'!$D:$D,"=ESDOLUC Elisabeth",'Résultats Comp Fédérales'!E:E) -> 0 | G36: =SUMIF('Résultats Comp Fédérales'!$D:$D,"=ESDOLUC Elisabeth",'Résultats Comp Fédérales'!F:F) -> 0 | H36: =F36/G36 -> #DIV/0! | I36: 28 | J36: =H36+I36 -> #DIV/0!
A37: 35 | B37: ESNAULT Michèle | C37: SC | D37: F | F37: =SUMIF('Résultats Comp Fédérales'!$D:$D,"=ESNAULT Michèle",'Résultats Comp Fédérales'!E:E) -> 0 | G37: =SUMIF('Résultats Comp Fédérales'!$D:$D,"=ESNAULT Michèle",'Résultats Comp Fédérales'!F:F) -> 0 | H37: =F37/G37 -> #DIV/0! | I37: 51 | J37: =H37+I37 -> #DIV/0!
A38: 36 | B38: GUYOT Jean Michel | C38: SB | D38: M | F38: =SUMIF('Résultats Comp Fédérales'!$D:$D,"=Guyot Jean Michel",'Résultats Comp Fédérales'!E:E) -> 0 | G38: =SUMIF('Résultats Comp Fédérales'!$D:$D,"=Guyot Jean Michel",'Résultats Comp Fédérales'!F:F) -> 0 | H38: =F38/G38 -> #DIV/0! | I38: 18 | J38: =H38+I38 -> #DIV/0!
A39: 37 | B39: JOURNIAC Christian | C39: SC | D39: M | F39: =SUMIF('Résultats Comp Fédérales'!$D:$D,"=JOURNIAC Christian",'Résultats Comp Fédérales'!E:E) -> 0 | G39: =SUMIF('Résultats Comp Fédérales'!$D:$D,"=JOURNIAC Christian",'Résultats Comp Fédérales'!F:F) -> 0 | H39: =F39/G39 -> #DIV/0! | I39: 44 | J39: =H39+I39 -> #DIV/0!
A40: 38 | B40: LE FILOUS Claude | C40: SB | D40: M | F40: =SUMIF('Résultats Comp Fédérales'!$D:$D,"=LE FILOUS Claude",'Résultats Comp Fédérales'!E:E) -> 0 | G40: =SUMIF('Résultats Comp Fédérales'!$D:$D,"=LE FILOUS Claude",'Résultats Comp Fédérales'!F:F) -> 0 | H40: =F40/G40 -> #DIV/0! | I40: 46 | J40: =H40+I40 -> #DIV/0!
A41: 39 | B41: LE FILOUS Julie | C41: JU | D41: F | F41: =SUMIF('Résultats Comp Fédérales'!$D:$D,"=LE FILOUS Julie",'Résultats Comp Fédérales'!E:E) -> 0 | G41: =SUMIF('Résultats Comp Fédérales'!$D:$D,"=LE FILOUS Julie",'Résultats Comp Fédérales'!F:F) -> 0 | H41: =F41/G41 -> #DIV/0! | I41: 33 | J41: =H41+I41 -> #DIV/0!
A42: 40 | B42: MORGADO Jean Claude | C42: SE | D42: M | F42: =SUMIF('Résultats Comp Fédérales'!$D:$D,"=Morgado Jean Claude",'Résultats Comp Fédérales'!E:E) -> 0 | G42: =SUMIF('Résultats Comp Fédérales'!$D:$D,"=Morgado Jean Claude",'Résultats Comp Fédérales'!F:F) -> 0 | H42: =F42/G42 -> #DIV/0! | I42: 18 | J42: =H42+I42 -> #DIV/0!
A43: 41 | B43: NIVET Jean-Pierre | C43: SC | D43: M | F43: =SUMIF('Résultats Comp Fédérales'!$D:$D,"=NIVET Jean-Pierre",'Résultats Comp Fédérales'!E:E) -> 0 | G43: =SUMIF('Résultats Comp Fédérales'!$D:$D,"=NIVET Jean-Pierre",'Résultats Comp Fédérales'!F:F) -> 0 | H43: =F43/G43 -> #DIV/0! | I43: 66 | J43: =H43+I43 -> #DIV/0!
A44: 42 | B44: SOLARI Joseph | C44: SC | D44: M | F44: =SUMIF('Résultats Comp Fédérales'!$D:$D,"=SOLARI Joseph",'Résultats Comp Fédérales'!E:E) -> 0 | G44: =SUMIF('Résultats Comp Fédérales'!$D:$D,"=SOLARI Joseph",'Résultats Comp Fédérales'!F:F) -> 0 | H44: =F44/G44 -> #DIV/0! | I44: 41 | J44: =H44+I44 -> #DIV/0!

Sheet Classement saison T.C.C.
B1: BC PLAISIR NOM Prénom | C1: Catégorie | D1: Sexe | E1: N° Licence | F1: Total quilles | G1: Nbre de parties | H1: MOYENNE scratch | I1: Handicap | J1: MOYENNE Handicap | K1: Nbre de Compétitions | L1: Nbre de bowling fréquentés
A2: 1 | B2: ROUCHON Xavier | C2: SA | D2: M | F2: =SUMIF('Résultats Ligues et Amical'!$D:$D,"=ROUCHON Xavier",'Résultats Ligues et Amical'!E:E)+SUMIF('Résultats Comp Fédérales'!$D:$D,"=ROUCHON Xavier",'Résultats Comp Fédérales'!E:E) -> 16154 | G2: =SUMIF('Résultats Ligues et Amical'!$D:$D,"=ROUCHON Xavier",'Résultats Ligues et Amical'!F:F)+SUMIF('Résultats Comp Fédérales'!$D:$D,"=ROUCHON Xavier",'Résultats Comp Fédérales'!F:F) -> 84 | H2: =F2/G2 -> 192.30952 | I2: 19 | J2: =H2+I2 -> 211.30952 | K2: =IF(B2=Bowlings!A$43,SUM(Bowlings!C$43:BN$43),"") -> 13 | L2: =IF(B2=Bowlings!A$43,Bowlings!B$43,0) -> 5
A3: 2 | B3: FAVREAU Gael | C3: JU | D3: M | F3: =SUMIF('Résultats Ligues et Amical'!$D:$D,"=FAVREAU Gael",'Résultats Ligues et Amical'!E:E)+SUMIF('Résultats Comp Fédérales'!$D:$D,"=FAVREAU Gael",'Résultats Comp Fédérales'!E:E) -> 15250 | G3: =SUMIF('Résultats Ligues et Amical'!$D:$D,"=FAVREAU Gael",'Résultats Ligues et Amical'!F:F)+SUMIF('Résultats Comp Fédérales'!$D:$D,"=FAVREAU Gael",'Résultats Comp Fédérales'!F:F) -> 81 | H3: =F3/G3 -> 188.2716 | I3: 23 | J3: =H3+I3 -> 211.2716 | K3: =IF(B3=Bowlings!A$17,SUM(Bowlings!C$17:BN$17),"") -> 9 | L3: =IF(B3=Bowlings!A$17,Bowlings!B$17,0) -> 5
A4: 3 | B4: LE FILOUS Damien | C4: SE | D4: M | F4: =SUMIF('Résultats Ligues et Amical'!$D:$D,"=LE FILOUS Damien",'Résultats Ligues et Amical'!E:E)+SUMIF('Résultats Comp Fédérales'!$D:$D,"=LE FILOUS Damien",'Résultats Comp Fédérales'!E:E) -> 8856 | G4: =SUMIF('Résultats Ligues et Amical'!$D:$D,"=LE FILOUS Damien",'Résultats Ligues et Amical'!F:F)+SUMIF('Résultats Comp Fédérales'!$D:$D,"=LE FILOUS Damien",'Résultats Comp Fédérales'!F:F) -> 49 | H4: =F4/G4 -> 180.73469 | I4: 30 | J4: =H4+I4 -> 210.73469 | K4: =IF(B4=Bowlings!A$31,SUM(Bowlings!C$31:BN$31),"") -> 5 | L4: =IF(B4=Bowlings!A$31,Bowlings!B$31,0) -> 1
A5: 4 | B5: FARGEIX Christian | C5: SC | D5: M | F5: =SUMIF('Résultats Ligues et Amical'!$D:$D,"=FARGEIX Christian",'Résultats Ligues et Amical'!E:E)+SUMIF('Résultats Comp Fédérales'!$D:$D,"=FARGEIX Christian",'Résultats Comp Fédérales'!E:E) -> 17697 | G5: =SUMIF('Résultats Ligues et Amical'!$D:$D,"=FARGEIX Christian",'Résultats Ligues et Amical'!F:F)+SUMIF('Résultats Comp Fédérales'!$D:$D,"=FARGEIX Christian",'Résultats Comp Fédérales'!F:F) -> 99 | H5: =F5/G5 -> 178.75758 | I5: 27 | J5: =H5+I5 -> 205.75758 | K5: =IF(B5=Bowlings!A$15,SUM(Bowlings!C$15:BN$15),"") -> 11 | L5: =IF(B5=Bowlings!A$15,Bowlings!B$15,0) -> 5
A6: 5 | B6: JOUEN Frédéric | C6: SA | D6: M | F6: =SUMIF('Résultats Ligues et Amical'!$D:$D,"=JOUEN Frédéric",'Résultats Ligues et Amical'!E:E)+SUMIF('Résultats Comp Fédérales'!$D:$D,"=JOUEN Frédéric",'Résultats Comp Fédérales'!E:E) -> 4296 | G6: =SUMIF('Résultats Ligues et Amical'!$D:$D,"=JOUEN Frédéric",'Résultats Ligues et Amical'!F:F)+SUMIF('Résultats Comp Fédérales'!$D:$D,"=JOUEN Frédéric",'Résultats Comp Fédérales'!F:F) -> 25 | H6: =F6/G6 -> 171.84 | I6: 36 | J6: =H6+I6 -> 207.84 | K6: =IF(B6=Bowlings!A$27,SUM(Bowlings!C$27:BN$27),"") -> 3 | L6: =IF(B6=Bowlings!A$27,Bowlings!B$27,0) -> 2
A7: 6 | B7: DELORT Philippe | C7: SC | D7: M | F7: =SUMIF('Résultats Ligues et Amical'!$D:$D,"=DELORT Philippe",'Résultats Ligues et Amical'!E:E)+SUMIF('Résultats Comp Fédérales'!$D:$D,"=DELORT Philippe",'Résultats Comp Fédérales'!E:E) -> 13304 | G7: =SUMIF('Résultats Ligues et Amical'!$D:$D,"=DELORT Philippe",'Résultats Ligues et Amical'!F:F)+SUMIF('Résultats Comp Fédérales'!$D:$D,"=DELORT Philippe",'Résultats Comp Fédérales'!F:F) -> 79 | H7: =F7/G7 -> 168.40506 | I7: 37 | J7: =H7+I7 -> 205.40506 | K7: =IF(B7=Bowlings!A$8,SUM(Bowlings!C$8:BN$8),"") -> 8 | L7: =IF(B7=Bowlings!A$8,Bowlings!B$8,0) -> 3
A8: 7 | B8: BELOT Léopold | C8: MI | D8: M | F8: =SUMIF('Résultats Ligues et Amical'!$D:$D,"=BELOT Léopold",'Résultats Ligues et Amical'!E:E)+SUMIF('Résultats Comp Fédérales'!$D:$D,"=BELOT Léopold",'Résultats Comp Fédérales'!E:E) -> 2841 | G8: =SUMIF('Résultats Ligues et Amical'!$D:$D,"=BELOT Léopold",'Résultats Ligues et Amical'!F:F)+SUMIF('Résultats Comp Fédérales'!$D:$D,"=BELOT Léopold",'Résultats Comp Fédérales'!F:F) -> 17 | H8: =F8/G8 -> 167.11765 | I8: 49 | J8: =H8+I8 -> 216.11765 | K8: =IF(B8=Bowlings!A$2,SUM(Bowlings!C$2:BN$2),"") -> 3 | L8: =IF(B8=Bowlings!A$2,Bowlings!B$2,0) -> 2
A9: 8 | B9: ESNAULT Eric | C9: SB | D9: M | F9: =SUMIF('Résultats Ligues et Amical'!$D:$D,"=ESNAULT Eric",'Résultats Ligues et Amical'!E:E)+SUMIF('Résultats Comp Fédérales'!$D:$D,"=ESNAULT Eric",'Résultats Comp Fédérales'!E:E) -> 3339 | G9: =SUMIF('Résultats Ligues et Amical'!$D:$D,"=ESNAULT Eric",'Résultats Ligues et Amical'!F:F)+SUMIF('Résultats Comp Fédérales'!$D:$D,"=ESNAULT Eric",'Résultats Comp Fédérales'!F:F) -> 20 | H9: =F9/G9 -> 166.95 | I9: 42 | J9: =H9+I9 -> 208.95 | K9: =IF(B9=Bowlings!A$13,SUM(Bowlings!C$13:BN$13),"") -> 3 | L9: =IF(B9=Bowlings!A$13,Bowlings!B$13,0) -> 1
A10: 9 | B10: CARRIC Olivier | C10: SB | D10: M | F10: =SUMIF('Résultats Ligues et Amical'!$D:$D,"=CARRIC Olivier",'Résultats Ligues et Amical'!E:E)+SUMIF('Résultats Comp Fédérales'!$D:$D,"=CARRIC Olivier",'Résultats Comp Fédérales'!E:E) -> 4000 | G10: =SUMIF('Résultats Ligues et Amical'!$D:$D,"=CARRIC Olivier",'Résultats Ligues et Amical'!F:F)+SUMIF('Résultats Comp Fédérales'!$D:$D,"=CARRIC Olivier",'Résultats Comp Fédérales'!F:F) -> 24 | H10: =F10/G10 -> 166.66667 | I10: 42 | J10: =H10+I10 -> 208.66667 | K10: =IF(B10=Bowlings!A$5,SUM(Bowlings!C$5:BN$5),"") -> 4 | L10: =IF(B10=Bowlings!A$5,Bowlings!B$5,0) -> 1
A11: 10 | B11: CROVATTO Philippe | C11: SA | D11: M | F11: =SUMIF('Résultats Ligues et Amical'!$D:$D,"=CROVATTO Philippe",'Résultats Ligues et Amical'!E:E)+SUMIF('Résultats Comp Fédérales'!$D:$D,"=CROVATTO Philippe",'Résultats Comp Fédérales'!E:E) -> 10488 | G11: =SUMIF('Résultats Ligues et Amical'!$D:$D,"=CROVATTO Philippe",'Résultats Ligues et Amical'!F:F)+SUMIF('Résultats Comp Fédérales'!$D:$D,"=CROVATTO Philippe",'Résultats Comp Fédérales'!F:F) -> 63 | H11: =F11/G11 -> 166.47619 | I11: 35 | J11: =H11+I11 -> 201.47619 | K11: =IF(B11=Bowlings!A$7,SUM(Bowlings!C$7:BN$7),"") -> 6 | L11: =IF(B11=Bowlings!A$7,Bowlings!B$7,0) -> 3
A12: 11 | B12: JOUBERT Joel | C12: SB | D12: M | F12: =SUMIF('Résultats Ligues et Amical'!$D:$D,"=JOUBERT Joel",'Résultats Ligues et Amical'!E:E)+SUMIF('Résultats Comp Fédérales'!$D:$D,"=JOUBERT Joel",'Résultats Comp Fédérales'!E:E) -> 7483 | G12: =SUMIF('Résultats Ligues et Amical'!$D:$D,"=JOUBERT Joel",'Résultats Ligues et Amical'!F:F)+SUMIF('Résultats Comp Fédérales'!$D:$D,"=JOUBERT Joel",'Résultats Comp Fédérales'!F:F) -> 45 | H12: =F12/G12 -> 166.28889 | I12: 37 | J12: =H12+I12 -> 203.28889 | K12: =IF(B12=Bowlings!A$26,SUM(Bowlings!C$26:BN$26),"") -> 6 | L12: =IF(B12=Bowlings!A$26,Bowlings!B$26,0) -> 2
A13: 12 | B13: JOURNIAC Christian | C13: SC | D13: M | F13: =SUMIF('Résultats Ligues et Amical'!$D:$D,"=JOURNIAC Christian",'Résultats Ligues et Amical'!E:E)+SUMIF('Résultats Comp Fédérales'!$D:$D,"=JOURNIAC Christian",'Résultats Comp Fédérales'!E:E) -> 5370 | G13: =SUMIF('Résultats Ligues et Amical'!$D:$D,"=JOURNIAC Christian",'Résultats Ligues et Amical'!F:F)+SUMIF('Résultats Comp Fédérales'!$D:$D,"=JOURNIAC Christian",'Résultats Comp Fédérales'!F:F) -> 33 | H13: =F13/G13 -> 162.72727 | I13: 44 | J13: =H13+I13 -> 206.72727 | K13: =IF(B13=Bowlings!A$28,SUM(Bowlings!C$28:BN$28),"") -> 3 | L13: =IF(B13=Bowlings!A$28,Bowlings!B$28,0) -> 2
A14: 13 | B14: HUCHET Stéphane | C14: SA | D14: M | F14: =SUMIF('Résultats Ligues et Amical'!$D:$D,"=HUCHET Stéphane",'Résultats Ligues et Amical'!E:E)+SUMIF('Résultats Comp Fédérales'!$D:$D,"=HUCHET Stéphane",'Résultats Comp Fédérales'!E:E) -> 12322 | G14: =SUMIF('Résultats Ligues et Amical'!$D:$D,"=HUCHET Stéphane",'Résultats Ligues et Amical'!F:F)+SUMIF('Résultats Comp Fédérales'!$D:$D,"=HUCHET Stéphane",'Résultats Comp Fédérales'!F:F) -> 76 | H14: =F14/G14 -> 162.13158 | I14: 39 | J14: =H14+I14 -> 201.13158 | K14: =IF(B14=Bowlings!A$25,SUM(Bowlings!C$25:BN$25),"") -> 7 | L14: =IF(B14=Bowlings!A$25,Bowlings!B$25,0) -> 3
A15: 14 | B15: FAYEMENDY Michel | C15: SC | D15: M | F15: =SUMIF('Résultats Ligues et Amical'!$D:$D,"=FAYEMENDY Michel",'Résultats Ligues et Amical'!E:E)+SUMIF('Résultats Comp Fédérales'!$D:$D,"=FAYEMENDY Michel",'Résultats Comp Fédérales'!E:E) -> 10797 | G15: =SUMIF('Résultats Ligues et Amical'!$D:$D,"=FAYEMENDY Michel",'Résultats Ligues et Amical'!F:F)+SUMIF('Résultats Comp Fédérales'!$D:$D,"=FAYEMENDY Michel",'Résultats Comp Fédérales'!F:F) -> 67 | H15: =F15/G15 -> 161.14925 | I15: 42 | J15: =H15+I15 -> 203.14925 | K15: =IF(B15=Bowlings!A$18,SUM(Bowlings!C$18:BN$18),"") -> 9 | L15: =IF(B15=Bowlings!A$18,Bowlings!B$18,0) -> 5
A16: 15 | B16: RITHIE Régis | C16: SB | D16: M | F16: =SUMIF('Résultats Ligues et Amical'!$D:$D,"=RITHIE Régis",'Résultats Ligues et Amical'!E:E)+SUMIF('Résultats Comp Fédérales'!$D:$D,"=RITHIE Régis",'Résultats Comp Fédérales'!E:E) -> 12281 | G16: =SUMIF('Résultats Ligues et Amical'!$D:$D,"=RITHIE Régis",'Résultats Ligues et Amical'!F:F)+SUMIF('Résultats Comp Fédérales'!$D:$D,"=RITHIE Régis",'Résultats Comp Fédérales'!F:F) -> 77 | H16: =F16/G16 -> 159.49351 | I16: 35 | J16: =H16+I16 -> 194.49351 | K16: =IF(B16=Bowlings!A$42,SUM(Bowlings!C$42:BN$42),"") -> 8 | L16: =IF(B16=Bowlings!A$42,Bowlings!B$42,0) -> 3
A17: 16 | B17: BOUZOU Francis | C17: SB | D17: M | F17: =SUMIF('Résultats Ligues et Amical'!$D:$D,"=BOUZOU Francis",'Résultats Ligues et Amical'!E:E)+SUMIF('Résultats Comp Fédérales'!$D:$D,"=BOUZOU Francis",'Résultats Comp Fédérales'!E:E) -> 8904 | G17: =SUMIF('Résultats Ligues et Amical'!$D:$D,"=BOUZOU Francis",'Résultats Ligues et Amical'!F:F)+SUMIF('Résultats Comp Fédérales'!$D:$D,"=BOUZOU Francis",'Résultats Comp Fédérales'!F:F) -> 56 | H17: =F17/G17 -> 159 | I17: 42 | J17: =H17+I17 -> 201 | K17: =IF(B17=Bowlings!A$4,SUM(Bowlings!C$4:BN$4),"") -> 4 | L17: =IF(B17=Bowlings!A$4,Bowlings!B$4,0) -> 2
A18: 17 | B18: BONNET Jean Claude | C18: SC | D18: M | F18: =SUMIF('Résultats Ligues et Amical'!$D:$D,"=BONNET Jean Claude",'Résultats Ligues et Amical'!E:E)+SUMIF('Résultats Comp Fédérales'!$D:$D,"=BONNET Jean Claude",'Résultats Comp Fédérales'!E:E) -> 12525 | G18: =SUMIF('Résultats Ligues et Amical'!$D:$D,"=BONNET Jean Claude",'Résultats Ligues et Amical'!F:F)+SUMIF('Résultats Comp Fédérales'!$D:$D,"=BONNET Jean Claude",'Résultats Comp Fédérales'!F:F) -> 79 | H18: =F18/G18 -> 158.5443 | I18: 42 | J18: =H18+I18 -> 200.5443 | K18: =IF(B18=Bowlings!A$3,SUM(Bowlings!C$3:BN$3),"") -> 11 | L18: =IF(B18=Bowlings!A$3,Bowlings!B$3,0) -> 3
A19: 18 | B19: DELORT Valérie | C19: SB | D19: F | F19: =SUMIF('Résultats Ligues et Amical'!$D:$D,"=DELORT Valérie",'Résultats Ligues et Amical'!E:E)+SUMIF('Résultats Comp Fédérales'!$D:$D,"=DELORT Valérie",'Résultats Comp Fédérales'!E:E) -> 10411 | G19: =SUMIF('Résultats Ligues et Amical'!$D:$D,"=DELORT Valérie",'Résultats Ligues et Amical'!F:F)+SUMIF('Résultats Comp Fédérales'!$D:$D,"=DELORT Valérie",'Résultats Comp Fédérales'!F:F) -> 67 | H19: =F19/G19 -> 155.38806 | I19: 46 | J19: =H19+I19 -> 201.38806 | K19: =IF(B19=Bowlings!A$9,SUM(Bowlings!C$9:BN$9),"") -> 8 | L19: =IF(B19=Bowlings!A$9,Bowlings!B$9,0) -> 4
A20: 19 | B20: LE FILOUS Claude | C20: SB | D20: M | F20: =SUMIF('Résultats Ligues et Amical'!$D:$D,"=LE FILOUS Claude",'Résultats Ligues et Amical'!E:E)+SUMIF('Résultats Comp Fédérales'!$D:$D,"=LE FILOUS Claude",'Résultats Comp Fédérales'!E:E) -> 3060 | G20: =SUMIF('Résultats Ligues et Amical'!$D:$D,"=LE FILOUS Claude",'Résultats Ligues et Amical'!F:F)+SUMIF('Résultats Comp Fédérales'!$D:$D,"=LE FILOUS Claude",'Résultats Comp Fédérales'!F:F) -> 20 | H20: =F20/G20 -> 153 | I20: 46 | J20: =H20+I20 -> 199 | K20: =IF(B20=Bowlings!A$30,SUM(Bowlings!C$30:BN$30),"") -> 2 | L20: =IF(B20=Bowlings!A$30,Bowlings!B$30,0) -> 1
A21: 20 | B21: NIVET Muriel | C21: SC | D21: F | F21: =SUMIF('Résultats Ligues et Amical'!$D:$D,"=NIVET Muriel",'Résultats Ligues et Amical'!E:E)+SUMIF('Résultats Comp Fédérales'!$D:$D,"=NIVET Muriel",'Résultats Comp Fédérales'!E:E) -> 10241 | G21: =SUMIF('Résultats Ligues et Amical'!$D:$D,"=NIVET Muriel",'Résultats Ligues et Amical'!F:F)+SUMIF('Résultats Comp Fédérales'!$D:$D,"=NIVET Muriel",'Résultats Comp Fédérales'!F:F) -> 68 | H21: =F21/G21 -> 150.60294 | I21: 49 | J21: =H21+I21 -> 199.60294 | K21: =IF(B21=Bowlings!A$38,SUM(Bowlings!C$38:BN$38),"") -> 6 | L21: =IF(B21=Bowlings!A$38,Bowlings!B$38,0) -> 2
A22: 21 | B22: GARCIA Sabine | C22: SC | D22: F | F22: =SUMIF('Résultats Ligues et Amical'!$D:$D,"=GARCIA Sabine",'Résultats Ligues et Amical'!E:E)+SUMIF('Résultats Comp Fédérales'!$D:$D,"=GARCIA Sabine",'Résultats Comp Fédérales'!E:E) -> 15381 | G22: =SUMIF('Résultats Ligues et Amical'!$D:$D,"=GARCIA Sabine",'Résultats Ligues et Amical'!F:F)+SUMIF('Résultats Comp Fédérales'!$D:$D,"=GARCIA Sabine",'Résultats Comp Fédérales'!F:F) -> 103 | H22: =F22/G22 -> 149.3301 | I22: 46 | J22: =H22+I22 -> 195.3301 | K22: =IF(B22=Bowlings!A$19,SUM(Bowlings!C$19:BN$19),"") -> 10 | L22: =IF(B22=Bowlings!A$19,Bowlings!B$19,0) -> 4
A23: 22 | B23: SOLARI Joseph | C23: SC | D23: M | F23: =SUMIF('Résultats Ligues et Amical'!$D:$D,"=SOLARI Joseph",'Résultats Ligues et Amical'!E:E)+SUMIF('Résultats Comp Fédérales'!$D:$D,"=SOLARI Joseph",'Résultats Comp Fédérales'!E:E) -> 2367 | G23: =SUMIF('Résultats Ligues et Amical'!$D:$D,"=SOLARI Joseph",'Résultats Ligues et Amical'!F:F)+SUMIF('Résultats Comp Fédérales'!$D:$D,"=SOLARI Joseph",'Résultats Comp Fédérales'!F:F) -> 16 | H23: =F23/G23 -> 147.9375 | I23: 41 | J23: =H23+I23 -> 188.9375 | K23: =IF(B23=Bowlings!A$44,SUM(Bowlings!C$44:BN$44),"") -> 1 | L23: =IF(B23=Bowlings!A$44,Bowlings!B$44,0) -> 1
A24: 23 | B24: GOUTTORBE Yveline | C24: SB | D24: F | F24: =SUMIF('Résultats Ligues et Amical'!$D:$D,"=GOUTTORBE Yveline",'Résultats Ligues et Amical'!E:E)+SUMIF('Résultats Comp Fédérales'!$D:$D,"=GOUTTORBE Yveline",'Résultats Comp Fédérales'!E:E) -> 5148 | G24: =SUMIF('Résultats Ligues et Amical'!$D:$D,"=GOUTTORBE Yveline",'Résultats Ligues et Amical'!F:F)+SUMIF('Résultats Comp Fédérales'!$D:$D,"=GOUTTORBE Yveline",'Résultats Comp Fédérales'!F:F) -> 35 | H24: =F24/G24 -> 147.08571 | I24: 51 | J24: =H24+I24 -> 198.08571 | K24: =IF(B24=Bowlings!A$21,SUM(Bowlings!C$21:BN$21),"") -> 4 | L24: =IF(B24=Bowlings!A$21,Bowlings!B$21,0) -> 2
A25: 24 | B25: HERVAULT Daniel | C25: SC | D25: M | F25: =SUMIF('Résultats Ligues et Amical'!$D:$D,"=HERVAULT Daniel",'Résultats Ligues et Amical'!E:E)+SUMIF('Résultats Comp Fédérales'!$D:$D,"=HERVAULT Daniel",'Résultats Comp Fédérales'!E:E) -> 5827 | G25: =SUMIF('Résultats Ligues et Amical'!$D:$D,"=HERVAULT Daniel",'Résultats Ligues et Amical'!F:F)+SUMIF('Résultats Comp Fédérales'!$D:$D,"=HERVAULT Daniel",'Résultats Comp Fédérales'!F:F) -> 40 | H25: =F25/G25 -> 145.675 | I25: 54 | J25: =H25+I25 -> 199.675 | K25: =IF(B25=Bowlings!A$24,SUM(Bowlings!C$24:BN$24),"") -> 4 | L25: =IF(B25=Bowlings!A$24,Bowlings!B$24,0) -> 2
A26: 25 | B26: FARGEIX Florence | C26: SE | D26: F | F26: =SUMIF('Résultats Ligues et Amical'!$D:$D,"=FARGEIX Florence",'Résultats Ligues et Amical'!E:E)+SUMIF('Résultats Comp Fédérales'!$D:$D,"=FARGEIX Florence",'Résultats Comp Fédérales'!E:E) -> 2761 | G26: =SUMIF('Résultats Ligues et Amical'!$D:$D,"=FARGEIX Florence",'Résultats Ligues et Amical'!F:F)+SUMIF('Résultats Comp Fédérales'!$D:$D,"=FARGEIX Florence",'Résultats Comp Fédérales'!F:F) -> 19 | H26: =F26/G26 -> 145.31579 | I26: 51 | J26: =H26+I26 -> 196.31579 | K26: =IF(B26=Bowlings!A$16,SUM(Bowlings!C$16:BN$16),"") -> 3 | L26: =IF(B26=Bowlings!A$16,Bowlings!B$16,0) -> 2
A27: 26 | B27: OLAGNIER Gérard | C27: SC | D27: M | F27: =SUMIF('Résultats Ligues et Amical'!$D:$D,"=OLAGNIER Gérard",'Résultats Ligues et Amical'!E:E)+SUMIF('Résultats Comp Fédérales'!$D:$D,"=OLAGNIER Gérard",'Résultats Comp Fédérales'!E:E) -> 13541 | G27: =SUMIF('Résultats Ligues et Amical'!$D:$D,"=OLAGNIER Gérard",'Résultats Ligues et Amical'!F:F)+SUMIF('Résultats Comp Fédérales'!$D:$D,"=OLAGNIER Gérard",'Résultats Comp Fédérales'!F:F) -> 96 | H27: =F27/G27 -> 141.05208 | I27: 52 | J27: =H27+I27 -> 193.05208 | K27: =IF(B27=Bowlings!A$39,SUM(Bowlings!C$39:BN$39),"") -> 11 | L27: =IF(B27=Bowlings!A$39,Bowlings!B$39,0) -> 4
A28: 27 | B28: GATEAU Emma | C28: SE | D28: F | F28: =SUMIF('Résultats Ligues et Amical'!$D:$D,"=GATEAU Emma",'Résultats Ligues et Amical'!E:E)+SUMIF('Résultats Comp Fédérales'!$D:$D,"=GATEAU Emma",'Résultats Comp Fédérales'!E:E) -> 6385 | G28: =SUMIF('Résultats Ligues et Amical'!$D:$D,"=GATEAU Emma",'Résultats Ligues et Amical'!F:F)+SUMIF('Résultats Comp Fédérales'!$D:$D,"=GATEAU Emma",'Résultats Comp Fédérales'!F:F) -> 46 | H28: =F28/G28 -> 138.80435 | I28: 57 | J28: =H28+I28 -> 195.80435 | K28: =IF(B28=Bowlings!A$20,SUM(Bowlings!C$20:BN$20),"") -> 6 | L28: =IF(B28=Bowlings!A$20,Bowlings!B$20,0) -> 3
A29: 28 | B29: NIVET Jean-Pierre | C29: SC | D29: M | F29: =SUMIF('Résultats Ligues et Amical'!$D:$D,"=NIVET Jean-Pierre",'Résultats Ligues et Amical'!E:E)+SUMIF('Résultats Comp Fédérales'!$D:$D,"=NIVET Jean-Pierre",'Résultats Comp Fédérales'!E:E) -> 6091 | G29: =SUMIF('Résultats Ligues et Amical'!$D:$D,"=NIVET Jean-Pierre",'Résultats Ligues et Amical'!F:F)+SUMIF('Résultats Comp Fédérales'!$D:$D,"=NIVET Jean-Pierre",'Résultats Comp Fédérales'!F:F) -> 44 | H29: =F29/G29 -> 138.43182 | I29: 66 | J29: =H29+I29 -> 204.43182 | K29: =IF(B29=Bowlings!A$37,SUM(Bowlings!C$37:BN$37),"") -> 3 | L29: =IF(B29=Bowlings!A$37,Bowlings!B$37,0) -> 2
A30: 29 | B30: MARION Christine | C30: SA | D30: F | F30: =SUMIF('Résultats Ligues et Amical'!$D:$D,"=MARION Christine",'Résultats Ligues et Amical'!E:E)+SUMIF('Résultats Comp Fédérales'!$D:$D,"=MARION Christine",'Résultats Comp Fédérales'!E:E) -> 10213 | G30: =SUMIF('Résultats Ligues et Amical'!$D:$D,"=MARION Christine",'Résultats Ligues et Amical'!F:F)+SUMIF('Résultats Comp Fédérales'!$D:$D,"=MARION Christine",'Résultats Comp Fédérales'!F:F) -> 74 | H30: =F30/G30 -> 138.01351 | I30: 58 | J30: =H30+I30 -> 196.01351 | K30: =IF(B30=Bowlings!A$34,SUM(Bowlings!C$34:BN$34),"") -> 7 | L30: =IF(B30=Bowlings!A$34,Bowlings!B$34,0) -> 4
A31: 30 | B31: TERRIEN Yanis | C31: CA | D31: M | F31: =SUMIF('Résultats Ligues et Amical'!$D:$D,"=TERRIEN Yanis",'Résultats Ligues et Amical'!E:E)+SUMIF('Résultats Comp Fédérales'!$D:$D,"=TERRIEN Yanis",'Résultats Comp Fédérales'!E:E) -> 2044 | G31: =SUMIF('Résultats Ligues et Amical'!$D:$D,"=TERRIEN Yanis",'Résultats Ligues et Amical'!F:F)+SUMIF('Résultats Comp Fédérales'!$D:$D,"=TERRIEN Yanis",'Résultats Comp Fédérales'!F:F) -> 15 | H31: =F31/G31 -> 136.26667 | I31: 61 | J31: =H31+I31 -> 197.26667 | K31: =IF(B31=Bowlings!A$46,SUM(Bowlings!C$46:BN$46),"") -> 3 | L31: =IF(B31=Bowlings!A$46,Bowlings!B$46,0) -> 2
A32: 31 | B32: ESNAULT Michèle | C32: SC | D32: F | F32: =SUMIF('Résultats Ligues et Amical'!$D:$D,"=ESNAULT Michèle",'Résultats Ligues et Amical'!E:E)+SUMIF('Résultats Comp Fédérales'!$D:$D,"=ESNAULT Michèle",'Résultats Comp Fédérales'!E:E) -> 5379 | G32: =SUMIF('Résultats Ligues et Amical'!$D:$D,"=ESNAULT Michèle",'Résultats Ligues et Amical'!F:F)+SUMIF('Résultats Comp Fédérales'!$D:$D,"=ESNAULT Michèle",'Résultats Comp Fédérales'!F:F) -> 40 | H32: =F32/G32 -> 134.475 | I32: 51 | J32: =H32+I32 -> 185.475 | K32: =IF(B32=Bowlings!A$14,SUM(Bowlings!C$14:BN$14),"") -> 3 | L32: =IF(B32=Bowlings!A$14,Bowlings!B$14,0) -> 2
A33: 32 | B33: DURON Eric | C33: SC | D33: M | F33: =SUMIF('Résultats Ligues et Amical'!$D:$D,"=DURON Eric",'Résultats Ligues et Amical'!E:E)+SUMIF('Résultats Comp Fédérales'!$D:$D,"=DURON Eric",'Résultats Comp Fédérales'!E:E) -> 1568 | G33: =SUMIF('Résultats Ligues et Amical'!$D:$D,"=DURON Eric",'Résultats Ligues et Amical'!F:F)+SUMIF('Résultats Comp Fédérales'!$D:$D,"=DURON Eric",'Résultats Comp Fédérales'!F:F) -> 12 | H33: =F33/G33 -> 130.66667 | I33: 51 | J33: =H33+I33 -> 181.66667 | K33: =IF(B33=Bowlings!A$10,SUM(Bowlings!C$10:BN$10),"") -> 2 | L33: =IF(B33=Bowlings!A$10,Bowlings!B$10,0) -> 1
A34: 33 | B34: LECOMTE Coline | C34: MI | D34: F | F34: =SUMIF('Résultats Ligues et Amical'!$D:$D,"=LECOMTE Coline",'Résultats Ligues et Amical'!E:E)+SUMIF('Résultats Comp Fédérales'!$D:$D,"=LECOMTE Coline",'Résultats Comp Fédérales'!E:E) -> 780 | G34: =SUMIF('Résultats Ligues et Amical'!$D:$D,"=LECOMTE Coline",'Résultats Ligues et Amical'!F:F)+SUMIF('Résultats Comp Fédérales'!$D:$D,"=LECOMTE Coline",'Résultats Comp Fédérales'!F:F) -> 6 | H34: =F34/G34 -> 130 | I34: 67 | J34: =H34+I34 -> 197 | K34: =IF(B34=Bowlings!A$33,SUM(Bowlings!C$33:BN$33),"") -> 1 | L34: =IF(B34=Bowlings!A$33,Bowlings!B$33,0) -> 1
A35: 34 | B35: DUVAL Franck | C35: SB | D35: M | F35: =SUMIF('Résultats Ligues et Amical'!$D:$D,"=DUVAL Franck",'Résultats Ligues et Amical'!E:E)+SUMIF('Résultats Comp Fédérales'!$D:$D,"=DUVAL Franck",'Résultats Comp Fédérales'!E:E) -> 2061 | G35: =SUMIF('Résultats Ligues et Amical'!$D:$D,"=DUVAL Franck",'Résultats Ligues et Amical'!F:F)+SUMIF('Résultats Comp Fédérales'!$D:$D,"=DUVAL Franck",'Résultats Comp Fédérales'!F:F) -> 16 | H35: =F35/G35 -> 128.8125 | I35: 62 | J35: =H35+I35 -> 190.8125 | K35: =IF(B35=Bowlings!A$11,SUM(Bowlings!C$11:BN$11),"") -> 2 | L35: =IF(B35=Bowlings!A$11,Bowlings!B$11,0) -> 1
A36: 35 | B36: CROVATTO Christine | C36: SA | D36: F | F36: =SUMIF('Résultats Ligues et Amical'!$D:$D,"=CROVATTO Christine",'Résultats Ligues et Amical'!E:E)+SUMIF('Résultats Comp Fédérales'!$D:$D,"=CROVATTO Christine",'Résultats Comp Fédérales'!E:E) -> 7068 | G36: =SUMIF('Résultats Ligues et Amical'!$D:$D,"=CROVATTO Christine",'Résultats Ligues et Amical'!F:F)+SUMIF('Résultats Comp Fédérales'!$D:$D,"=CROVATTO Christine",'Résultats Comp Fédérales'!F:F) -> 56 | H36: =F36/G36 -> 126.21429 | I36: 61 | J36: =H36+I36 -> 187.21429 | K36: =IF(B36=Bowlings!A$6,SUM(Bowlings!C$6:BN$6),"") -> 6 | L36: =IF(B36=Bowlings!A$6,Bowlings!B$6,0) -> 4
A37: 36 | B37: GUYOT Stéphane | C37: JU | D37: M | F37: =SUMIF('Résultats Ligues et Amical'!$D:$D,"=Guyot Stéphane",'Résultats Ligues et Amical'!E:E)+SUMIF('Résultats Comp Fédérales'!$D:$D,"=Guyot Stéphane",'Résultats Comp Fédérales'!E:E) -> 2372 | G37: =SUMIF('Résultats Ligues et Amical'!$D:$D,"=Guyot Stéphane",'Résultats Ligues et Amical'!F:F)+SUMIF('Résultats Comp Fédérales'!$D:$D,"=Guyot Stéphane",'Résultats Comp Fédérales'!F:F) -> 20 | H37: =F37/G37 -> 118.6 | I37: 40 | J37: =H37+I37 -> 158.6 | K37: =IF(B37=Bowlings!A$23,SUM(Bowlings!C$23:BN$23),"") -> 4 | L37: =IF(B37=Bowlings!A$23,Bowlings!B$23,0) -> 2
A38: 37 | B38: ESDOLUC Elisabeth | C38: SC | D38: F | F38: =SUMIF('Résultats Ligues et Amical'!$D:$D,"=ESDOLUC Elisabeth",'Résultats Ligues et Amical'!E:E)+SUMIF('Résultats Comp Fédérales'!$D:$D,"=ESDOLUC Elisabeth",'Résultats Comp Fédérales'!E:E) -> 898 | G38: =SUMIF('Résultats Ligues et Amical'!$D:$D,"=ESDOLUC Elisabeth",'Résultats Ligues et Amical'!F:F)+SUMIF('Résultats Comp Fédérales'!$D:$D,"=ESDOLUC Elisabeth",'Résultats Comp Fédérales'!F:F) -> 8 | H38: =F38/G38 -> 112.25 | I38: 28 | J38: =H38+I38 -> 140.25 | K38: =IF(B38=Bowlings!A$12,SUM(Bowlings!C$12:BN$12),"") -> 2 | L38: =IF(B38=Bowlings!A$12,Bowlings!B$12,0) -> 1
A39: 38 | B39: TERRIEN Blaise | C39: PO | D39: M | F39: =SUMIF('Résultats Ligues et Amical'!$D:$D,"=TERRIEN Blaise",'Résultats Ligues et Amical'!E:E)+SUMIF('Résultats Comp Fédérales'!$D:$D,"=TERRIEN Blaise",'Résultats Comp Fédérales'!E:E) -> 224 | G39: =SUMIF('Résultats Ligues et Amical'!$D:$D,"=TERRIEN Blaise",'Résultats Ligues et Amical'!F:F)+SUMIF('Résultats Comp Fédérales'!$D:$D,"=TERRIEN Blaise",'Résultats Comp Fédérales'!F:F) -> 4 | H39: =F39/G39 -> 56 | I39: 80 | J39: =H39+I39 -> 136 | K39: =IF(B39=Bowlings!A$45,SUM(Bowlings!C$45:BN$45),"") -> 1 | L39: =IF(B39=Bowlings!A$45,Bowlings!B$45,0) -> 1
A40: 39 | B40: KUBIAK Charlie | C40: BJ | D40: M | F40: =SUMIF('Résultats Ligues et Amical'!$D:$D,"=KUBIAK Charlie",'Résultats Ligues et Amical'!E:E)+SUMIF('Résultats Comp Fédérales'!$D:$D,"=KUBIAK Charlie",'Résultats Comp Fédérales'!E:E) -> 294 | G40: =SUMIF('Résultats Ligues et Amical'!$D:$D,"=KUBIAK Charlie",'Résultats Ligues et Amical'!F:F)+SUMIF('Résultats Comp Fédérales'!$D:$D,"=KUBIAK Charlie",'Résultats Comp Fédérales'!F:F) -> 6 | H40: =F40/G40 -> 49 | I40: 56 | J40: =H40+I40 -> 105 | K40: =IF(B40=Bowlings!A$29,SUM(Bowlings!C$29:BN$29),"") -> 1 | L40: =IF(B40=Bowlings!A$29,Bowlings!B$29,0) -> 1
A42: 40 | B42: GUYOT Jean Michel | C42: SB | D42: M | F42: =SUMIF('Résultats Ligues et Amical'!$D:$D,"=Guyot Jean Michel",'Résultats Ligues et Amical'!E:E)+SUMIF('Résultats Comp Fédérales'!$D:$D,"=Guyot Jean Michel",'Résultats Comp Fédérales'!E:E) -> 0 | G42: =SUMIF('Résultats Ligues et Amical'!$D:$D,"=Guyot Jean Michel",'Résultats Ligues et Amical'!F:F)+SUMIF('Résultats Comp Fédérales'!$D:$D,"=Guyot Jean Michel",'Résultats Comp Fédérales'!F:F) -> 0 | H42: =F42/G42 -> #DIV/0! | I42: 18 | J42: =H42+I42 -> #DIV/0! | K42: =IF(B42=Bowlings!A$22,SUM(Bowlings!C$22:BN$22),"") -> 0 | L42: =IF(B42=Bowlings!A$22,Bowlings!B$22,0) -> 0
A43: 41 | B43: LE FILOUS Julie | C43: JU | D43: F | F43: =SUMIF('Résultats Ligues et Amical'!$D:$D,"=LE FILOUS Julie",'Résultats Ligues et Amical'!E:E)+SUMIF('Résultats Comp Fédérales'!$D:$D,"=LE FILOUS Julie",'Résultats Comp Fédérales'!E:E) -> 0 | G43: =SUMIF('Résultats Ligues et Amical'!$D:$D,"=LE FILOUS Julie",'Résultats Ligues et Amical'!F:F)+SUMIF('Résultats Comp Fédérales'!$D:$D,"=LE FILOUS Julie",'Résultats Comp Fédérales'!F:F) -> 0 | H43: =F43/G43 -> #DIV/0! | I43: 33 | J43: =H43+I43 -> #DIV/0! | K43: =IF(B43=Bowlings!A$32,SUM(Bowlings!C$32:BN$32),"") -> 0 | L43: =IF(B43=Bowlings!A$32,Bowlings!B$32,0) -> 0
A44: 42 | B44: MORGADO Jean Claude | C44: SE | D44: M | F44: =SUMIF('Résultats Ligues et Amical'!$D:$D,"=Morgado Jean Claude",'Résultats Ligues et Amical'!E:E)+SUMIF('Résultats Comp Fédérales'!$D:$D,"=Morgado Jean Claude",'Résultats Comp Fédérales'!E:E) -> 0 | G44: =SUMIF('Résultats Ligues et Amical'!$D:$D,"=Morgado Jean Claude",'Résultats Ligues et Amical'!F:F)+SUMIF('Résultats Comp Fédérales'!$D:$D,"=Morgado Jean Claude",'Résultats Comp Fédérales'!F:F) -> 0 | H44: =F44/G44 -> #DIV/0! | I44: 18 | J44: =H44+I44 -> #DIV/0! | K44: =IF(B44=Bowlings!A$35,SUM(Bowlings!C$35:BN$35),"") -> 0 | L44: =IF(B44=Bowlings!A$35,Bowlings!B$35,0) -> 0

Sheet Classement CDC
A1: Date | B1: Lieu | C1: Formule | D1: Nom / Prénom | E1: Score | F1: Lignes | G1: Moyenne | H1: Résultat
A2: 45976 | B2: Chpt des Clubs Hom R1A - RAMBOUILLET | C2: 5 sc | D2: LE FILOUS Damien | E2: ='Résultats Comp Fédérales'!E118 -> 1823 | F2: ='Résultats Comp Fédérales'!F118 -> 9 | G2: =E2/F2 -> 202.55556 | H2: ='Résultats Comp Fédérales'!H120 -> équipe 10e
A3: 45977 | B3: 1ere journée | D3: ROUCHON Xavier | E3: ='Résultats Comp Fédérales'!E119 -> 1628 | F3: ='Résultats Comp Fédérales'!F119 -> 9 | G3: =E3/F3 -> 180.88889
A4: Sam | B4: poule de 10 équipes | D4: FARGEIX Christian | E4: ='Résultats Comp Fédérales'!E120 -> 1405 | F4: ='Résultats Comp Fédérales'!F120 -> 8 | G4: =E4/F4 -> 175.625
A5: & | D5: RITHIE Régis | E5: ='Résultats Comp Fédérales'!E121 -> 1203 | F5: ='Résultats Comp Fédérales'!F121 -> 8 | G5: =E5/F5 -> 150.375
A6: Dim | D6: DELORT Philippe | E6: ='Résultats Comp Fédérales'!E122 -> 1037 | F6: ='Résultats Comp Fédérales'!F122 -> 7 | G6: =E6/F6 -> 148.14286
D7: CARRIC Olivier | E7: ='Résultats Comp Fédérales'!E123 -> 723 | F7: ='Résultats Comp Fédérales'!F123 -> 4 | G7: =E7/F7 -> 180.75
A8: 45976 | B8: Chpt des Clubs Hom R2C - BOUSSY St A | C8: 5 sc | D8: FAVREAU Gael | E8: ='Résultats Comp Fédérales'!E125 -> 946 | F8: ='Résultats Comp Fédérales'!F125 -> 5 | G8: =E8/F8 -> 189.2 | H8: ='Résultats Comp Fédérales'!H127 -> équipe 5e
A9: Sam | B9: 1ere journée | D9: JOUEN Frédéric | E9: ='Résultats Comp Fédérales'!E126 -> 930 | F9: ='Résultats Comp Fédérales'!F126 -> 5 | G9: =E9/F9 -> 186
B10: poule de 6 équipes | D10: JOUBERT Joel | E10: ='Résultats Comp Fédérales'!E127 -> 861 | F10: ='Résultats Comp Fédérales'!F127 -> 5 | G10: =E10/F10 -> 172.2
D11: HUCHET Stéphane | E11: ='Résultats Comp Fédérales'!E128 -> 584 | F11: ='Résultats Comp Fédérales'!F128 -> 4 | G11: =E11/F11 -> 146
D12: CROVATTO Philippe | E12: ='Résultats Comp Fédérales'!E129 -> 458 | F12: ='Résultats Comp Fédérales'!F129 -> 3 | G12: =E12/F12 -> 152.66667
D13: BONNET Jean Claude | E13: ='Résultats Comp Fédérales'!E130 -> 374 | F13: ='Résultats Comp Fédérales'!F130 -> 3 | G13: =E13/F13 -> 124.66667
A15: 45976 | B15: Chpt des Clubs Hom R2D - BOUSSY St A | C15: 5 sc | D15: FAYEMENDY Michel | E15: ='Résultats Comp Fédérales'!E133 -> 447 | F15: ='Résultats Comp Fédérales'!F133 -> 3 | G15: =E15/F15 -> 149 | H15: ='Résultats Comp Fédérales'!H135 -> équipe 6e
A16: Sam | B16: 1ere journée | D16: BELOT Léopold | E16: ='Résultats Comp Fédérales'!E134 -> 767 | F16: ='Résultats Comp Fédérales'!F134 -> 5 | G16: =E16/F16 -> 153.4
B17: poule de 6 équipes | D17: SOLARI Joseph | E17: ='Résultats Comp Fédérales'!E135 -> 0 | F17: ='Résultats Comp Fédérales'!F135 -> 0 | G17: =E17/F17 -> #DIV/0!
D18: HERVAULT Daniel | E18: ='Résultats Comp Fédérales'!E136 -> 580 | F18: ='Résultats Comp Fédérales'!F136 -> 4 | G18: =E18/F18 -> 145
D19: TERRIEN Yanis | E19: ='Résultats Comp Fédérales'!E137 -> 680 | F19: ='Résultats Comp Fédérales'!F137 -> 5 | G19: =E19/F19 -> 136
D20: OLAGNIER Gérard | E20: ='Résultats Comp Fédérales'!E138 -> 510 | F20: ='Résultats Comp Fédérales'!F138 -> 4 | G20: =E20/F20 -> 127.5
D21: GUYOT Stéphane | E21: ='Résultats Comp Fédérales'!E139 -> 463 | F21: ='Résultats Comp Fédérales'!F139 -> 4 | G21: =E21/F21 -> 115.75
A23: 45976 | B23: Chpt des Clubs Dames R1 - COURBEVOIE | C23: 3 sc | D23: DELORT Valérie | E23: ='Résultats Comp Fédérales'!E141 -> 1074 | F23: ='Résultats Comp Fédérales'!F141 -> 7 | G23: =E23/F23 -> 153.42857 | H23: ='Résultats Comp Fédérales'!H142 -> équipe 5e
A24: Sam | B24: 1ere journée | D24: GARCIA Sabine | E24: ='Résultats Comp Fédérales'!E142 -> 1005 | F24: ='Résultats Comp Fédérales'!F142 -> 7 | G24: =E24/F24 -> 143.57143
B25: poule de 8 équipes | D25: GOUTTORBE Yveline | E25: ='Résultats Comp Fédérales'!E143 -> 1005 | F25: ='Résultats Comp Fédérales'!F143 -> 7 | G25: =E25/F25 -> 143.57143
D26: ESNAULT Michèle
A27: 45977 | B27: Chpt des Clubs Dames R2 - COURBEVOIE | C27: 3 sc | D27: FARGEIX Florence | E27: ='Résultats Comp Fédérales'!E145 -> 724 | F27: ='Résultats Comp Fédérales'!F145 -> 5 | G27: =E27/F27 -> 144.8 | H27: ='Résultats Comp Fédérales'!H146 -> équipe 4e
A28: Dim | B28: 1ere journée | D28: MARION Christine | E28: ='Résultats Comp Fédérales'!E146 -> 862 | F28: ='Résultats Comp Fédérales'!F146 -> 6 | G28: =E28/F28 -> 143.66667
B29: poule de 8 équipes | D29: GATEAU Emma | E29: ='Résultats Comp Fédérales'!E147 -> 844 | F29: ='Résultats Comp Fédérales'!F147 -> 6 | G29: =E29/F29 -> 140.66667
D30: CROVATTO Christine | E30: ='Résultats Comp Fédérales'!E148 -> 526 | F30: ='Résultats Comp Fédérales'!F148 -> 4 | G30: =E30/F30 -> 131.5
A31: 46102 | B31: Chpt des Clubs Hom R1A - HOUDAN | C31: 5 sc | D31: LE FILOUS Damien | E31: ='Résultats Comp Fédérales'!E213 -> 0 | F31: ='Résultats Comp Fédérales'!F213 -> 0 | G31: =E31/F31 -> #DIV/0! | H31: ='Résultats Comp Fédérales'!H215 -> équipe 10e
A32: 46103 | B32: 2e journée | D32: ROUCHON Xavier | E32: ='Résultats Comp Fédérales'!E214 -> 0 | F32: ='Résultats Comp Fédérales'!F214 -> 0 | G32: =E32/F32 -> #DIV/0!
A33: Sam | B33: poule de 10 équipes | D33: FARGEIX Christian | E33: ='Résultats Comp Fédérales'!E215 -> 0 | F33: ='Résultats Comp Fédérales'!F215 -> 0 | G33: =E33/F33 -> #DIV/0!
A34: & | D34: RITHIE Régis | E34: ='Résultats Comp Fédérales'!E216 -> 0 | F34: ='Résultats Comp Fédérales'!F216 -> 0 | G34: =E34/F34 -> #DIV/0!
A35: Dim | D35: DELORT Philippe | E35: ='Résultats Comp Fédérales'!E217 -> 0 | F35: ='Résultats Comp Fédérales'!F217 -> 0 | G35: =E35/F35 -> #DIV/0!
D36: CARRIC Olivier | E36: ='Résultats Comp Fédérales'!E218 -> 0 | F36: ='Résultats Comp Fédérales'!F218 -> 0 | G36: =E36/F36 -> #DIV/0!
A37: 46103 | B37: Chpt des Clubs Hom R2C - MOUSSY le NEUF | C37: 5 sc | D37: FAVREAU Gael | E37: ='Résultats Comp Fédérales'!E220 -> 0 | F37: ='Résultats Comp Fédérales'!F220 -> 0 | G37: =E37/F37 -> #DIV/0! | H37: ='Résultats Comp Fédérales'!H222 -> équipe 5e
A38: Dim | B38: 2e journée | D38: JOUEN Frédéric | E38: ='Résultats Comp Fédérales'!E221 -> 0 | F38: ='Résultats Comp Fédérales'!F221 -> 0 | G38: =E38/F38 -> #DIV/0!
B39: poule de 6 équipes | D39: JOUBERT Joel | E39: ='Résultats Comp Fédérales'!E222 -> 0 | F39: ='Résultats Comp Fédérales'!F222 -> 0 | G39: =E39/F39 -> #DIV/0!
D40: HUCHET Stéphane | E40: ='Résultats Comp Fédérales'!E223 -> 0 | F40: ='Résultats Comp Fédérales'!F223 -> 0 | G40: =E40/F40 -> #DIV/0!
D41: CROVATTO Philippe | E41: ='Résultats Comp Fédérales'!E224 -> 0 | F41: ='Résultats Comp Fédérales'!F224 -> 0 | G41: =E41/F41 -> #DIV/0!
D42: BONNET Jean Claude | E42: ='Résultats Comp Fédérales'!E225 -> 0 | F42: ='Résultats Comp Fédérales'!F225 -> 0 | G42: =E42/F42 -> #DIV/0!
A44: 46103 | B44: Chpt des Clubs Hom R2D - MOUSSY le NEUF | C44: 5 sc | D44: FAYEMENDY Michel | E44: ='Résultats Comp Fédérales'!E228 -> 0 | F44: ='Résultats Comp Fédérales'!F228 -> 0 | G44: =E44/F44 -> #DIV/0! | H44: ='Résultats Comp Fédérales'!H230 -> équipe 6e
A45: Dim | B45: 2e journée | D45: BELOT Léopold | E45: ='Résultats Comp Fédérales'!E229 -> 0 | F45: ='Résultats Comp Fédérales'!F229 -> 0 | G45: =E45/F45 -> #DIV/0!
B46: poule de 6 équipes | D46: SOLARI Joseph | E46: ='Résultats Comp Fédérales'!E230 -> 0 | F46: ='Résultats Comp Fédérales'!F230 -> 0 | G46: =E46/F46 -> #DIV/0!
D47: HERVAULT Daniel | E47: ='Résultats Comp Fédérales'!E231 -> 0 | F47: ='Résultats Comp Fédérales'!F231 -> 0 | G47: =E47/F47 -> #DIV/0!
D48: TERRIEN Yanis | E48: ='Résultats Comp Fédérales'!E232 -> 0 | F48: ='Résultats Comp Fédérales'!F232 -> 0 | G48: =E48/F48 -> #DIV/0!
D49: OLAGNIER Gérard | E49: ='Résultats Comp Fédérales'!E233 -> 0 | F49: ='Résultats Comp Fédérales'!F233 -> 0 | G49: =E49/F49 -> #DIV/0!
D50: GUYOT Stéphane | E50: ='Résultats Comp Fédérales'!E234 -> 0 | F50: ='Résultats Comp Fédérales'!F234 -> 0 | G50: =E50/F50 -> #DIV/0!
G51: =E51/F51 -> #DIV/0!
G52: =E52/F52 -> #DIV/0!
G53: =E53/F53 -> #DIV/0!
A54: 46102 | B54: Chpt des Clubs Dames R1 - BOUSSY St A | C54: 3 sc | D54: DELORT Valérie | E54: ='Résultats Comp Fédérales'!E236 -> 0 | F54: ='Résultats Comp Fédérales'!F236 -> 0 | G54: =E54/F54 -> #DIV/0! | H54: ='Résultats Comp Fédérales'!H241 -> équipe 4e
A55: Sam | B55: 2e journée | D55: GARCIA Sabine | E55: ='Résultats Comp Fédérales'!E237 -> 0 | F55: ='Résultats Comp Fédérales'!F237 -> 0 | G55: =E55/F55 -> #DIV/0!
B56: poule de 8 équipes | D56: GOUTTORBE Yveline | E56: ='Résultats Comp Fédérales'!E238 -> 0 | F56: ='Résultats Comp Fédérales'!F238 -> 0 | G56: =E56/F56 -> #DIV/0!
D57: ESNAULT Michèle | E57: ='Résultats Comp Fédérales'!E239 -> 0 | F57: ='Résultats Comp Fédérales'!F239 -> 0 | G57: =E57/F57 -> #DIV/0!
A58: 46102 | B58: Chpt des Clubs Dames R2 - BOUSSY St A | C58: 3 sc | D58: FARGEIX Florence | E58: ='Résultats Comp Fédérales'!E240 -> 0 | F58: ='Résultats Comp Fédérales'!F240 -> 0 | G58: =E58/F58 -> #DIV/0! | H58: ='Résultats Comp Fédérales'!H244 -> 0
A59: Sam | B59: 2e journée | D59: MARION Christine | E59: ='Résultats Comp Fédérales'!E241 -> 0 | F59: ='Résultats Comp Fédérales'!F241 -> 0 | G59: =E59/F59 -> #DIV/0!
B60: poule de 8 équipes | D60: GATEAU Emma | E60: ='Résultats Comp Fédérales'!E242 -> 0 | F60: ='Résultats Comp Fédérales'!F242 -> 0 | G60: =E60/F60 -> #DIV/0!
D61: CROVATTO Christine | E61: ='Résultats Comp Fédérales'!E243 -> 0 | F61: ='Résultats Comp Fédérales'!F243 -> 0 | G61: =E61/F61 -> #DIV/0!
D62: MARION Christine | E62: ='Résultats Comp Fédérales'!E244 -> 0 | F62: ='Résultats Comp Fédérales'!F244 -> 0 | G62: =E62/F62 -> #DIV/0!
B63: Chpt des Clubs Hom R1A - THIAIS | C63: 5 sc | D63: LE FILOUS Damien | E63: ='Résultats Comp Fédérales'!E374 -> 0 | F63: ='Résultats Comp Fédérales'!F374 -> 0 | G63: =E63/F63 -> #DIV/0! | H63: ='Résultats Comp Fédérales'!H374 -> 0
B64: 3e journée | D64: ROUCHON Xavier | E64: ='Résultats Comp Fédérales'!E375 -> 0 | F64: ='Résultats Comp Fédérales'!F375 -> 0 | G64: =E64/F64 -> #DIV/0!
A65: Sam | B65: poule de 10 équipes | D65: FARGEIX Christian | E65: ='Résultats Comp Fédérales'!E376 -> 0 | F65: ='Résultats Comp Fédérales'!F376 -> 0 | G65: =E65/F65 -> #DIV/0!
A66: & | D66: RITHIE Régis | E66: ='Résultats Comp Fédérales'!E377 -> 0 | F66: ='Résultats Comp Fédérales'!F377 -> 0 | G66: =E66/F66 -> #DIV/0!
A67: Dim | D67: DELORT Philippe | E67: ='Résultats Comp Fédérales'!E378 -> 0 | F67: ='Résultats Comp Fédérales'!F378 -> 0 | G67: =E67/F67 -> #DIV/0!
D68: CARRIC Olivier | E68: ='Résultats Comp Fédérales'!E379 -> 0 | F68: ='Résultats Comp Fédérales'!F379 -> 0 | G68: =E68/F68 -> #DIV/0!
B70: Chpt des Clubs Hom R2C - BALLAINVILLIERS | C70: 5 sc | D70: FAVREAU Gael | E70: ='Résultats Comp Fédérales'!E381 -> 0 | F70: ='Résultats Comp Fédérales'!F381 -> 0 | G70: =E70/F70 -> #DIV/0! | H70: ='Résultats Comp Fédérales'!H389 -> 0
A71: Sam | B71: 3e journée | D71: JOUEN Frédéric | E71: ='Résultats Comp Fédérales'!E382 -> 0 | F71: ='Résultats Comp Fédérales'!F382 -> 0 | G71: =E71/F71 -> #DIV/0!
B72: poule de 6 équipes | D72: JOUBERT Joel | E72: ='Résultats Comp Fédérales'!E383 -> 0 | F72: ='Résultats Comp Fédérales'!F383 -> 0 | G72: =E72/F72 -> #DIV/0!
D73: HUCHET Stéphane | E73: ='Résultats Comp Fédérales'!E384 -> 0 | F73: ='Résultats Comp Fédérales'!F384 -> 0 | G73: =E73/F73 -> #DIV/0!
D74: CROVATTO Philippe | E74: ='Résultats Comp Fédérales'!E385 -> 0 | F74: ='Résultats Comp Fédérales'!F385 -> 0 | G74: =E74/F74 -> #DIV/0!
D75: BONNET Jean Claude | E75: ='Résultats Comp Fédérales'!E386 -> 0 | F75: ='Résultats Comp Fédérales'!F386 -> 0 | G75: =E75/F75 -> #DIV/0!
A76: 45801 | B76: Chpt des Clubs Hom R2D - BALLAINVILLIERS | C76: 5 sc | D76: FAYEMENDY Michel | E76: ='Résultats Comp Fédérales'!E389 -> 0 | F76: ='Résultats Comp Fédérales'!F389 -> 0 | G76: =E76/F76 -> #DIV/0! | H76: ='Résultats Comp Fédérales'!H382 -> 0
A77: Sam | B77: 3e journée | D77: BELOT Léopold | E77: ='Résultats Comp Fédérales'!E390 -> 0 | F77: ='Résultats Comp Fédérales'!F390 -> 0 | G77: =E77/F77 -> #DIV/0!
B78: poule de 6 équipes | D78: SOLARI Joseph | E78: ='Résultats Comp Fédérales'!E391 -> 0 | F78: ='Résultats Comp Fédérales'!F391 -> 0 | G78: =E78/F78 -> #DIV/0!
D79: HERVAULT Daniel | E79: ='Résultats Comp Fédérales'!E392 -> 0 | F79: ='Résultats Comp Fédérales'!F392 -> 0 | G79: =E79/F79 -> #DIV/0!
D80: TERRIEN Yanis | E80: ='Résultats Comp Fédérales'!E393 -> 0 | F80: ='Résultats Comp Fédérales'!F393 -> 0 | G80: =E80/F80 -> #DIV/0!
D81: OLAGNIER Gérard | E81: ='Résultats Comp Fédérales'!E394 -> 0 | F81: ='Résultats Comp Fédérales'!F394 -> 0 | G81: =E81/F81 -> #DIV/0!
D82: GUYOT Stéphane | E82: ='Résultats Comp Fédérales'!E395 -> 0 | F82: ='Résultats Comp Fédérales'!F395 -> 0 | G82: =E82/F82 -> #DIV/0!
G83: =E83/F83 -> #DIV/0!
G84: =E84/F84 -> #DIV/0!
G85: =E85/F85 -> #DIV/0!
B86: Chpt des Clubs Dames R1 - MOUSSY | C86: 3 sc | D86: DELORT Valérie | E86: ='Résultats Comp Fédérales'!E397 -> 0 | F86: ='Résultats Comp Fédérales'!F397 -> 0 | G86: =E86/F86 -> #DIV/0! | H86: ='Résultats Comp Fédérales'!H406 -> 0
B87: 3e journée | D87: GARCIA Sabine | E87: ='Résultats Comp Fédérales'!E398 -> 0 | F87: ='Résultats Comp Fédérales'!F398 -> 0 | G87: =E87/F87 -> #DIV/0!
B88: poule de 8 équipes | D88: GOUTTORBE Yveline | E88: ='Résultats Comp Fédérales'!E399 -> 0 | F88: ='Résultats Comp Fédérales'!F399 -> 0 | G88: =E88/F88 -> #DIV/0!
D89: ESNAULT Michèle | E89: ='Résultats Comp Fédérales'!E400 -> 0 | F89: ='Résultats Comp Fédérales'!F400 -> 0 | G89: =E89/F89 -> #DIV/0!
B90: Chpt des Clubs Dames R2 - MOUSSY | C90: 3 sc | D90: FARGEIX Florence | E90: ='Résultats Comp Fédérales'!E401 -> 0 | F90: ='Résultats Comp Fédérales'!F401 -> 0 | G90: =E90/F90 -> #DIV/0! | H90: ='Résultats Comp Fédérales'!H411 -> 0
B91: 3e journée | D91: MARION Christine | E91: ='Résultats Comp Fédérales'!E402 -> 0 | F91: ='Résultats Comp Fédérales'!F402 -> 0 | G91: =E91/F91 -> #DIV/0!
B92: poule de 8 équipes | D92: GATEAU Emma | E92: ='Résultats Comp Fédérales'!E403 -> 0 | F92: ='Résultats Comp Fédérales'!F403 -> 0 | G92: =E92/F92 -> #DIV/0!
D93: CROVATTO Christine | E93: ='Résultats Comp Fédérales'!E404 -> 0 | F93: ='Résultats Comp Fédérales'!F404 -> 0 | G93: =E93/F93 -> #DIV/0!
B95: CHAMPIONNATS des CLUBS | C95: Formule | D95: Nom / Prénom | E95: Score | F95: Lignes | G95: Moyenne | H95: Perf | I95: Rappel moy Féd | J95: Listing
B96: Chpt des Clubs Hommes R1A | C96: 5 sc | D96: LE FILOUS Damien | E96: =E2+E31+E63 -> 1823 | F96: =F2+F31+F63 -> 9 | G96: =E96/F96 -> 202.55556 | H96: =G96-I96 -> 13.795556 | I96: 188.76 | J96: 177.15
D97: ROUCHON Xavier | E97: =E3+E32+E64 -> 1628 | F97: =F3+F32+F64 -> 9 | G97: =E97/F97 -> 180.88889 | H97: =G97-I97 -> -11.751111 | I97: 192.64 | J97: 192.31
D98: FARGEIX Christian | E98: =E4+E33+E65 -> 1405 | F98: =F4+F33+F65 -> 8 | G98: =E98/F98 -> 175.625 | H98: =G98-I98 -> -2.815 | I98: 178.44 | J98: 181.98
D99: RITHIE Régis | E99: =E5+E34+E66 -> 1203 | F99: =F5+F34+F66 -> 8 | G99: =E99/F99 -> 150.375 | H99: =G99-I99 -> -11.735 | I99: 162.11 | J99: 170.86
D100: DELORT Philippe | E100: =E6+E35+E67 -> 1037 | F100: =F6+F35+F67 -> 7 | G100: =E100/F100 -> 148.14286 | H100: =G100-I100 -> -20.597143 | I100: 168.74 | J100: 166.75
D101: CARRIC Olivier | E101: =E7+E36+E68 -> 723 | F101: =F7+F36+F68 -> 4 | G101: =E101/F101 -> 180.75 | H101: =G101-I101 -> 10.33 | I101: 170.42 | J101: 160.42
B103: Chpt des Clubs Hommes R2C | C103: 5 sc | D103: FAVREAU Gael | E103: =E8+E37+E70 -> 946 | F103: =F8+F37+F70 -> 5 | G103: =E103/F103 -> 189.2 | H103: =G103-I103 -> -3.53 | I103: 192.73 | J103: 186.01
D104: JOUEN Frédéric | E104: =E9+E38+E71 -> 930 | F104: =F9+F38+F71 -> 5 | G104: =E104/F104 -> 186 | H104: =G104-I104 -> 0 | I104: 186 | J104: 171.5
D105: JOUBERT Joel | E105: =E10+E39+E72 -> 861 | F105: =F10+F39+F72 -> 5 | G105: =E105/F105 -> 172.2 | H105: =G105-I105 -> -1.23 | I105: 173.43 | J105: 167.52
D106: HUCHET Stéphane | E106: =E11+E40+E73 -> 584 | F106: =F11+F40+F73 -> 4 | G106: =E106/F106 -> 146 | H106: =G106-I106 -> -15.58 | I106: 161.58 | J106: 163.58
...

Sheet listing fédéral
B1: BC PLAISIR Listing Fédéral | C1: Catégorie | D1: Sexe | E1: Total quilles | F1: Nbre de parties | G1: MOYENNE | H1: Handicap listing | J1: MOYENNE Corrigée | K1: Handicap listing
A2: 1 | B2: ROUCHON Xavier | C2: SA | D2: M | E2: 22521 | F2: 117 | G2: =SUM(E2/F2) -> 192.48718 | H2: =ROUNDDOWN((220-G2)*70%,0) -> 19
A3: 2 | B3: FAVREAU Gael | C3: JU | D3: M | E3: 26042 | F3: 140 | G3: =SUM(E3/F3) -> 186.01429 | H3: =ROUNDDOWN((220-G3)*70%,0) -> 23
A4: 3 | B4: FARGEIX Christian | C4: SC | D4: M | E4: 23658 | F4: 130 | G4: =SUM(E4/F4) -> 181.98462 | H4: =(220-G4)*70% -> 26.610769
A5: 4 | B5: LE FILOUS Damien | C5: SE | D5: M | E5: 11869 | F5: 67 | G5: =SUM(E5/F5) -> 177.14925 | H5: =(220-G5)*70% -> 29.995522
A6: 5 | B6: SOLARI Joseph | C6: SC | D6: M | E6: 2831 | F6: 16 | G6: =SUM(E6/F6) -> 176.9375 | H6: =ROUNDDOWN((220-G6)*70%,0) -> 30 | J6: 161 | K6: 41
A7: 6 | B7: JOUEN Frédéric | C7: SA | D7: M | E7: 1715 | F7: 10 | G7: =SUM(E7/F7) -> 171.5 | H7: =(220-G7)*70% -> 33.95 | J7: 168 | K7: 36
A8: 7 | B8: RITHIE Régis | C8: SB | D8: M | E8: 19136 | F8: 112 | G8: =SUM(E8/F8) -> 170.85714 | H8: =(220-G8)*70%+1 -> 35.4
A9: 8 | B9: CARRIC Olivier | C9: SB | D9: M | E9: 2045 | F9: 12 | G9: =SUM(E9/F9) -> 170.41667 | H9: =(220-G9)*70% -> 34.708333 | J9: 160 | K9: 42
A10: 9 | B10: CROVATTO Philippe | C10: SA | D10: M | E10: 17550 | F10: 103 | G10: =SUM(E10/F10) -> 170.38835 | H10: =(220-G10)*70% -> 34.728155
A11: 10 | B11: JOUBERT Joel | C11: SB | D11: M | E11: 4858 | F11: 29 | G11: =SUM(E11/F11) -> 167.51724 | H11: =(220-G11)*70% -> 36.737931
A12: 11 | B12: DELORT Philippe | C12: SC | D12: M | E12: 18342 | F12: 110 | G12: =SUM(E12/F12) -> 166.74545 | H12: =(220-G12)*70% -> 37.278182
A13: 12 | B13: HUCHET Stéphane | C13: SA | D13: M | E13: 12596 | F13: 77 | G13: =SUM(E13/F13) -> 163.58442 | H13: =(220-G13)*70% -> 39.490909
A14: 13 | B14: FAYEMENDY Michel | C14: SC | D14: M | E14: 13504 | F14: 84 | G14: =SUM(E14/F14) -> 160.7619 | H14: =(220-G14)*70%+1 -> 42.466667
A15: 14 | B15: BOUZOU Francis | C15: SB | D15: M | E15: 5624 | F15: 35 | G15: =SUM(E15/F15) -> 160.68571 | H15: =(220-G15)*70% -> 41.52
A16: 15 | B16: BONNET Jean Claude | C16: SC | D16: M | E16: 16992 | F16: 106 | G16: =SUM(E16/F16) -> 160.30189 | H16: =(220-G16)*70% -> 41.788679
A17: 16 | B17: ESNAULT Eric | C17: SB | D17: M | E17: 2070 | F17: 13 | G17: =SUM(E17/F17) -> 159.23077 | H17: =(220-G17)*70% -> 42.538462 | J17: 160 | K17: 42
A18: 17 | B18: DELORT Valérie | C18: SB | D18: F | E18: 15652 | F18: 101 | G18: =SUM(E18/F18) -> 154.9703 | H18: =(220-G18)*70% -> 45.520792
A19: 18 | B19: GARCIA Sabine | C19: SC | D19: F | E19: 24438 | F19: 158 | G19: =SUM(E19/F19) -> 154.67089 | H19: =(220-G19)*70% -> 45.73038
A20: 19 | B20: LE FILOUS Julie | C20: JU | D20: F | E20: 919 | F20: 6 | G20: =SUM(E20/F20) -> 153.16667 | H20: =ROUNDDOWN((220-G20)*70%,0) -> 46 | J20: 172 | K20: 33
A21: 20 | B21: NIVET Muriel | C21: SC | D21: F | E21: 8908 | F21: 59 | G21: =SUM(E21/F21) -> 150.98305 | H21: =(220-G21)*70%+1 -> 49.311864
A22: 21 | B22: BELOT Léopold | C22: MI | D22: M | E22: 7511 | F22: 50 | G22: =SUM(E22/F22) -> 150.22 | H22: =(220-G22)*70% -> 48.846
A23: 22 | B23: ESNAULT Michèle | C23: SC | D23: F | E23: 4287 | F23: 29 | G23: =SUM(E23/F23) -> 147.82759 | H23: =(220-G23)*70% -> 50.52069
A24: 23 | B24: GOUTTORBE Yveline | C24: SB | D24: F | E24: 6793 | F24: 46 | G24: =SUM(E24/F24) -> 147.67391 | H24: =(220-G24)*70% -> 50.628261
A25: 24 | B25: FARGEIX Florence | C25: SE | D25: F | E25: 6631 | F25: 45 | G25: =SUM(E25/F25) -> 147.35556 | H25: =(220-G25)*70% -> 50.851111
A26: 25 | B26: OLAGNIER Gérard | C26: SC | D26: M | E26: 12505 | F26: 86 | G26: =SUM(E26/F26) -> 145.40698 | H26: =(220-G26)*70% -> 52.215116
A27: 26 | B27: HERVAULT Daniel | C27: SC | D27: M | E27: 2901 | F27: 20 | G27: =SUM(E27/F27) -> 145.05 | H27: =(220-G27)*70% -> 52.465 | J27: 142 | K27: 54
A28: 27 | B28: LE FILOUS Claude | C28: SB | D28: M | E28: 1262 | F28: 9 | G28: =SUM(E28/F28) -> 140.22222 | H28: =(220-G28)*70% -> 55.844444 | J28: 153 | K28: 46
A29: 28 | B29: GATEAU Emma | C29: SE | D29: F | E29: 8607 | F29: 62 | G29: =SUM(E29/F29) -> 138.82258 | H29: =(220-G29)*70% -> 56.824194
A30: 29 | B30: MARION Christine | C30: SA | D30: F | E30: 8630 | F30: 63 | G30: =SUM(E30/F30) -> 136.98413 | H30: =ROUNDDOWN((220-G30)*70%,0) -> 58
A31: 30 | B31: TERRIEN Yanis | C31: CA | D31: M | E31: 4120 | F31: 31 | G31: =SUM(E31/F31) -> 132.90323 | H31: =(220-G31)*70% -> 60.967742
A32: 31 | B32: CROVATTO Christine | C32: SA | D32: F | E32: 5416 | F32: 41 | G32: =SUM(E32/F32) -> 132.09756 | H32: =ROUNDDOWN((220-G32)*70%,0) -> 61
A33: 32 | B33: NIVET Jean-Pierre | C33: SC | D33: M | E33: 3399 | F33: 27 | G33: =SUM(E33/F33) -> 125.88889 | H33: =(220-G33)*70% -> 65.877778
A34: 33 | B34: LECOMTE Coline | C34: MI | D34: F | E34: 3231 | F34: 26 | G34: =SUM(E34/F34) -> 124.26923 | H34: =ROUNDDOWN((220-G34)*70%,0) -> 67
A35: 34 | B35: GUYOT Stéphane | C35: JU | D35: M | E35: 1193 | F35: 10 | G35: =SUM(E35/F35) -> 119.3 | H35: =(220-G35)*70% -> 70.49 | J35: 162 | K35: 40
A36: 35 | B36: TERRIEN Blaise | C36: PO | D36: M | E36: 224 | F36: 4 | G36: =SUM(E36/F36) -> 56 | H36: =(220-G36)*70% -> 114.8 | J36: 88 | K36: 80
A38: 36 | B38: DURON Eric | C38: SC | D38: M | E38: 0 | F38: 0 | G38: =SUM(E38/F38) -> #DIV/0! | H38: =(220-G38)*70% -> #DIV/0! | J38: 146 | K38: 51
A39: 37 | B39: DUVAL Franck | C39: SB | D39: M | E39: 0 | F39: 0 | G39: =SUM(E39/F39) -> #DIV/0! | H39: =(220-G39)*70% -> #DIV/0! | J39: 131 | K39: 62
A40: 38 | B40: ESDOLUC Elisabeth | C40: SC | D40: F | E40: 0 | F40: 0 | G40: =SUM(E40/F40) -> #DIV/0! | H40: =(220-G40)*70% -> #DIV/0! | J40: 179 | K40: 28
A41: 39 | B41: GUYOT Jean Michel | C41: SB | D41: M | E41: 0 | F41: 0 | G41: =SUM(E41/F41) -> #DIV/0! | H41: =(220-G41)*70% -> #DIV/0! | J41: 194 | K41: 18
A42: 40 | B42: JOURNIAC Christian | C42: SC | D42: M | E42: 0 | F42: 0 | G42: =SUM(E42/F42) -> #DIV/0! | H42: =(220-G42)*70% -> #DIV/0! | J42: 157 | K42: 44
A43: 41 | B43: KUBIAK Charlie | C43: BJ | D43: M | G43: =SUM(E43/F43) -> #DIV/0! | H43: =(220-G43)*70% -> #DIV/0! | J43: 140 | K43: 56
A44: 42 | B44: MORGADO Jean Claude | C44: SE | D44: M | E44: 0 | F44: 0 | G44: =SUM(E44/F44) -> #DIV/0! | H44: =(220-G44)*70% -> #DIV/0! | J44: 194 | K44: 18
B46: Listing de Décembre 2025 | F46: 8 parties | G46: Poussins
F47: 12 parties | G47: Benjamins
F48: 18 parties | G48: Minimes
F49: 20 parties | G49: Cadets
F50: 24 parties | G50: Juniors

Sheet Calendrier Fédéral 2025-26
B1: C.S.N.B. Calendrier-Fédéral - Définitif 11 juillet 2025 | J1: Calendrier Fédéral Saison 2025-2026
A2: Jour semaine Dimanche = 7 | B2: Date Saison 2025-2026 | C2: Zone A | D2: Zone B | E2: Zone C | F2: Date de MàJ | G2: COMPETITIONS | H2: Centres Compétitions Fédérales | I2: INTERNATIONAL & HAUT NIVEAU 2025-2026 | J2: SUR UNE JOURNEE | K2: FORMATION | L2: MASTER toutes catégories | M2: MASTER Jeunes | N2: MASTER Seniors Plus | O2: INTER | P2: SCRATCH | Q2: SCRATCH-HANDICAP | R2: TTMP | S2: CATEGORIE | T2: HANDICAP - BONUS | U2: SPORT D'ENTREPRISE | V2: J, S+, F | W2: QUALIFICATION | X2: REENTREE | Y2: FINALE | Z2: COMPET FEDERALE | AA2: REGION 000-CSNB 999-AUTRES | AB2: ORGANISATEUR
A3: 7 | B3: 45901
C5: SEPTEMBRE 2025
A7: 7 | B7: 45907 | G7: JOURNEE des COMITES - J1 | Z7: X | AA7: 000
B8: 45907 | F8: 45810 | G8: MESCHERS | K8: 2 | T8: 70 | W8: 6 | AA8: NAQ | AB8: MESCHERS BOWLING CLUB
B9: 45907 | F9: 45821 | G9: MONETEAU AUXERRE | K9: 2 | S9: F | T9: 70 | W9: 6 | Y9: OUI | AA9: BFC | AB9: UCS BOWLING COSNE SUR LOIRE
B10: 45907 | F10: 45824 | G10: NIMES | K10: 1 | T10: 70 | W10: 12 | Y10: NON | AA10: OCC | AB10: GLADIATORES NEMAUSENSIS
B11: 45907 | F11: 45824 | G11: CHAMBERY VOGLANS | K11: 1 | T11: 70 | W11: 9 | Y11: OUI | AA11: ARA | AB11: SPORTING BOWL CHAMBERY
B12: 45907 | F12: 45824 | G12: MONT DORE | K12: 2-1' | T12: 60 | Y12: NON | AA12: ARA | AB12: BC MONT DORE
A14: 7 | B14: 45914 | G14: CHPT FEDERAL DOUBLETTE Honneur - Phase départemantale | Z14: X | AA14: 000
A15: 7 | B15: 45914 | G15: CHPT FEDERAL DOUBLETTE Excellence - Phase district /régionale | Z15: X | AA15: 000
A17: 7 | B17: 45921 | G17: CHALLENGE DOUBLE MIXTE - Phase district | Z17: X | AA17: 000
A18: 7 | B18: 45921 | G18: BAYEUX-SAINT Lô- FONTAINE LE COMTE | K18: 1 | O18: W | P18: X | W18: 18 | Y18: OUI | AA18: 999 | AB18: ECOLE DE BOWLING DE ST LO
B19: 45921 | F19: 45811 | G19: BOUSSY ST ANTOINE | K19: 5 | T19: 70 | AA19: IDF | AB19: BAC BOUSSY
B20: 45921 | F20: 45824 | G20: RODEZ | K20: 2-1' | T20: 70 | W20: 10 | Y20: NON | AA20: OCC | AB20: BOWLING CLUB RODEZ ONET
B21: 45921 | F21: 45824 | G21: AVERMES MOULINS | K21: 3M | T21: 70 | W21: 18 | Y21: NON | AA21: ARA | AB21: ECOLE DE BOWLING AVERMES MOULINS
A23: 7 | B23: 45928 | G23: CDC NATIONAUX J1 | Z23: X | AA23: 000
A24: 7 | B24: 45928 | G24: CDC PROMOTION J1 | Z24: X | AA24: 000
B25: 45928 | F25: 45824 | G25: MONTPELLIER | K25: 2 | T25: 80 | W25: 10 | Y25: NON | AA25: OCC | AB25: BC AMICALE CAMARGUAISE
C27: OCTOBRE 2025
A29: 7 | B29: 45935 | G29: CHPT FEDERAL DOUBLETTE Honneur - Phase district | Z29: X | AA29: 000
A30: 7 | B30: 45935 | G30: CHPT FEDERAL DOUBLETTE Excellence - Phase régionale | Z30: X | AA30: 000
A31: 7 | B31: 45935 | G31: LIMOGES | K31: 1 | Q31: X | T31: 70 | U31: S+ | W31: 12 | Y31: NON | AA31: NAQ | AB31: AS BOWLING CLUB LIMOUSIN LIMOGES
A32: 7 | B32: 45935 | G32: ISBT GRAND QUEVILLY | K32: 1 | N32: x | P32: x | U32: S+ | W32: 12 | X32: OUI | Y32: OUI | AA32: NOR
B33: 45935 | F33: 45810 | G33: VIERZON | J33: X | K33: 3 | T33: 70 | AA33: CVL | AB33: ECOLE DE BOWLING VIERZON
A35: 7 | B35: 45942 | G35: CHPT DE FRANCE INDIVIDUEL SENIORS+ - Phase départementale | I35: 2025 IBF World Seniors Championships | Z35: X | AA35: 000
I36: Du 13/10 au 24/10 RENO
B37: 45948 | F37: 45847 | G37: COUPE DE FRANCE - FFH - WITTELSHEIM
B38: 45949 | F38: 45847 | G38: CHAMPIONNAT DE FRANCE - FFH - WITTELSHEIM
B39: 45949 | F39: 45824 | G39: MASTER JEUNES - LIMOGES | W39: J | AA39: 000
B40: 45949 | F40: 45810 | G40: DRAGUIGNAN | K40: 2 | T40: 80 | W40: 8 | Y40: OUI | AA40: SUD | AB40: ADEB DRAGUIGNAN
B41: 45949 | F41: 45821 | G41: DORLISHEIM | K41: 2-1' | T41: 70 | W41: 16 | Y41: NON | AA41: GRE | AB41: BOWLING CLUB DE LA BRUCHE
B42: 45949 | F42: 45824 | G42: CAISSARGUES | K42: 2-1' | T42: 70 | W42: 10 | Y42: NON | AA42: OCC | AB42: BC COSTIERES
B43: 45949 | F43: 45824 | G43: AVERMES MOULINS | K43: 2 | T43: 70 | W43: 9 | Y43: OUI | AA43: ARA | AB43: ECOLE DE BOWLING AVERMES MOULINS
C44: V | D44: V | E44: V | I44: European Championship of Champions 2025
A45: 7 | C45: V | D45: V | E45: V | I45: Du 20/10 au 26/10 VIENNE
B46: 45956 | C46: V | D46: V | E46: V | F46: 45820 | G46: VIRE | J46: X | K46: 2 | S46: F | T46: 70 | Y46: NON | AA46: NOR | AB46: EAGLES BOWLING VIRE
B47: 45956 | C47: V | D47: V | E47: V | F47: 45824 | G47: NIMES | K47: 2 | S47: F | T47: 70 | W47: 12 | Y47: NON | AA47: OCC | AB47: GLADIATORES NEMAUSENSIS
C49: NOVEMBRE 2025
A50: 6 | B50: 45962 | C50: V | D50: V | E50: V
A51: 7 | B51: 45963 | C51: V | D51: V | E51: V | F51: 45820 | G51: BAYEUX | K51: 3 | T51: 70 | W51: 15 | Y51: NON | AA51: NOR | AB51: BOWLING CLUB DE BAYEUX
A53: 7 | B53: 45970 | G53: MASTER TOUTES CATEGORIES ET MASTER SENIORS+ 1 | Z53: X | AA53: 000
A54: 7 | B54: 45970 | F54: 45743 | G54: AVIGNON CAP SUD | K54: 1 | L54: X | Q54: X | T54: 70 | W54: 6 | Y54: OUI | AA54: SUD | AB54: BOWLING CLUB AVIGNON
A55: 7 | B55: 45970 | G55: MONETEAU AUXERRE | K55: 1 | N55: X | Q55: X | T55: 70 | U55: S+ | W55: 12 | Y55: NON | AA55: BFC | AB55: BOWLING CLUB MONETEAU AUXERRE
B56: 45970 | F56: 45810 | G56: ORLEANS | K56: 2 | T56: 70 | W56: 19 | Y56: NON | AA56: CVL | AB56: FIREBOWL ORLEANS
A57: 9 | B57: 45972
A59: 7 | B59: 45977 | G59: CDC REGIONAL /J1 | Z59: X | AA59: 000
A62: 7 | B62: 45984 | G62: CHALLENGE DOUBLE MIXTE - Phase régionale | I62: 2025 IBF World Championships | Z62: X | AA62: 000
I63: Du 24/11 au 05/12 HONG KONG
A65: 7 | B65: 45991 | G65: CHPT SE DOUBLE MIXTE ET QUADRETTE- Phase district/régionale | Z65: X | AA65: 000
A66: 7 | B66: 45991 | G66: SAINT MAXIMIN | K66: 1 | M66: X | O66: W | P66: X | V66: J | W66: 6 | Y66: OUI | AA66: HDF | AB66: BSC WOLVES SAINT MAXIMIN CREIL
B67: 45991 | F67: 45810 | G67: MESCHERS | K67: 3M | T67: 70 | W67: 11 | AA67: NAQ | AB67: MESCHERS BOWLING CLUB
B68: 45991 | F68: 45824 | G68: CAISSARGUES | K68: 1 | T68: 70 | W68: 8 | Y68: OUI | AA68: OCC | AB68: BOWLING CLUB CAISSARGUES
B69: 45991 | F69: 45824 | G69: AVERMES MOULINS | K69: 4 | T69: 70 | W69: 11 | Y69: NON | AA69: ARA | AB69: ECOLE DE BOWLING AVERMES MOULINS
C71: DECEMBRE 2025
A73: 7 | B73: 45998 | G73: CHPT SE DOUBLE Dames/Hommes - Phase nationale - CHALONS EN CHAMPAGNE | Z73: X | AA73: 000
B74: 45998 | F74: 45810 | G74: VIERZON | J74: X | K74: 3 | T74: 70 | AA74: CVL | AB74: ECOLE DE BOWLING DE VIERZON
B75: 45998 | F75: 45821 | G75: COGNAC | K75: 2 | T75: 70 | W75: 8 | Y75: OUI | AA75: NAQ | AB75: COGNAC BOWLING CLUB
B76: 45998 | F76: 45848 | G76: CHALLANS | K76: 2 | T76: 70 | W76: 8 | Y76: OUI | AA76: PDL | AB76: BOWLING CLUB DE CHALLANS
A78: 7 | B78: 46005 | F78: 45810 | G78: NOGENT LE ROTROU | K78: 2-1 | T78: 70 | W78: 14 | Y78: NON | AA78: CVL | AB78: AQUABOWL DU PERCHE
B79: 46005 | F79: 45824 | G79: CHAMBERY VOGLANS | K79: 2 | T79: 70 | W79: 8 | Y79: OUI | AA79: ARA | AB79: BCS ANNECY
B81: 46011 | F81: 45811 | G81: THIAIS | J81: X | K81: 3 | T81: 70 | AA81: IDF | AB81: BC DE THIAIS
B83: 46012 | C83: V | D83: V | E83: V | F83: 45821 | G83: LA ROCHELLE | K83: 1-2-4' | T83: 70 | W83: 18 | Y83: NON | AA83: NAQ | AB83: CD 17
A84: 7
A85: 4 | B85: 46016 | C85: V | D85: V | E85: V
A86: 7 | B86: 46019 | C86: V | D86: V | E86: V
C88: JANVIER 2026
A90: 4 | B90: 46023 | C90: V | D90: V | E90: V
B91: 46023 | C91: V | D91: V | E91: V | G91: VIERZON | K91: 2 | Q91: X | T91: 70 | W91: 8 | Y91: OUI | AA91: CVL | AB91: ECOLE BOWLING VIERZON
A93: 7 | B93: 46033 | G93: JOURNEE des COMITES - J2 | Z93: X | AA93: 000
A94: 7 | B94: 46033 | G94: WITTELSHEIM | K94: 1 | L94: ? | Q94: X | T94: 70 | W94: 6 | X94: OUI | Y94: OUI | AA94: GRE | AB94: EAGLES WITTELSHEIM
B95: 46033 | F95: 45777 | G95: GRAND QUEVILLY - BOWLING GP 3PATTERNS | AA95: NOR | AB95: BC F300 ROUEN GRAND QUEVILLY
B96: 46033 | F96: 45821 | G96: CHALONS EN CHAMPAGNE | K96: 3M | T96: 80 | W96: 15 | Y96: NON | AA96: GRE | AB96: BOWLING CLUB CHALONNAIS
A98: 7 | B98: 46040 | G98: CHPT FEDERAL INDIVIDUEL Honneur - Phase départementale | Z98: X | AA98: 000
A99: 7 | B99: 46040 | G99: CHPT FEDERAL INDIVIDUEL Excellence - Phase district/régionale | Z99: X | AA99: 000
A100: 7 | B100: 46040 | G100: CHPT DE FRANCE INDIVIDUEL - Phase régionale | Z100: X | AA100: 000
B102: 46046 | F102: 45847 | G102: CHAMPIONNAT DE FRANCE DOUBLETTE - FFH - LIMOGES
B103: 46047 | F103: 45847 | G103: CHAMPIONNAT DE FRANCE TEAM - FFH - LIMOGES
A104: 7 | B104: 46047 | G104: CHPT SE QUADRETTE - Phase nationale - FONTAINE LE COMTE | Z104: X | AA104: 000
A105: 7 | B105: 46047 | G105: CAISSARGUES | K105: 2 | L105: ? | R105: X | W105: 8 | Y105: OUI | AA105: OCC | AB105: BOWLING CLUB CAISSARGUES
B106: 46047 | F106: 45810 | G106: MESCHERS | K106: 2 | T106: 70 | W106: 6 | AA106: NAQ | AB106: MESCHERS BOWLING CLUB
B107: 46047 | F107: 45818 | G107: DINAN | K107: 4 | T107: 60 | W107: 18 | AA107: BRE | AB107: BC RANCE
B108: 46047 | F108: 45819 | G108: LES HERBIERS | J108: X | K108: 3M | T108: 70 | Y108: NON | AA108: PDL | AB108: FBC LES HERBIERS
B109: 46047 | F109: 45824 | G109: VOGLANS CHAMBERY | K109: 2 | T109: 70 | W109: 8 | Y109: OUI | AA109: ARA | AB109: SPORTING BOWL CHAMBERY
B110: 46047 | F110: 45824 | G110: AVERMES MOULINS | K110: 1 | T110: 70 | V110: S+ | W110: 12 | Y110: NON | AA110: ARA | AB110: ECOLE DE BOWLING AVERMES MOULINS
C112: FEVRIER 2026
A114: 7 | B114: 46054 | G114: MASTER TOUTES CATEGORIES ET MASTER SENIORS+ 2 | I114: ESC+65 ans Du 30/01 au 08/02 VIENNE | Z114: X | AA114: 000
A115: 7 | B115: 46054 | G115: CAISSARGUES | K115: 1 | N115: X | P115: X | V115: S+ | W115: 8 | Y115: OUI | AA115: OCC | AB115: JOCK CHANCE
C116: V
A117: 7 | B117: 46061 | C117: V | G117: BAYEUX | K117: 2 | L117: ? | R117: X | W117: 9 | Y117: OUI | AA117: NOR | AB117: BOWLING CLUB DE BAYEUX
B118: 46061 | F118: 45800 | G118: CHPT SE DOUBLE MIXTE - Phase nationale - NOTRE DAME D'OE | Z118: X | AA118: 000
B119: 46061 | F119: 45824 | G119: RODEZ | K119: 5 | T119: 70 | W119: 13 | Y119: NON | AA119: OCC | AB119: ECOLE DE BOWLING DE RODEZ
A120: 7 | B120: 46068 | C120: V | D120: V
A121: 7 | B121: 46068 | C121: V | D121: V | G121: THIAIS | K121: 2M | Q121: X | T121: 70 | W121: 8 | Y121: OUI | AA121: IDF | AB121: CD 92
B122: 46068 | C122: V | D122: V | F122: 45820 | G122: VIRE | J122: X | K122: 2 | T122: 70 | Y122: NON | AA122: NOR | AB122: EAGLES BOWLING VIRE
B123: 46068 | C123: V | D123: V | F123: 45824 | G123: CAISSARGUES | K123: 5 | T123: 60 | W123: 13 | Y123: NON | AA123: OCC | AB123: JOCK CHANCE
A124: 7 | B124: 46075 | C124: V | D124: V | E124: V
D125: V | E125: V
C126: MARS 2026
...
