Workbook

Sheet Résultats Ligues et Amical
A1: Date | B1: Lieu | C1: Formule | D1: Nom / Prénom | E1: Score | F1: Lignes | G1: Moyenne | H1: Résultat
D2: BELOT Léopold
D3: BONNET Jean Claude
D4: BOUZOU Francis
D5: CARRIC Olivier
D6: CROVATTO Christine
D7: CROVATTO Philippe
D8: CRUZ Mattis
D9: DELORT Philippe
D10: DELORT Valérie
D11: DURON Eric
D12: DUVAL Franck
D13: ESNAULT Eric
... D45: ZIMMERMANN Thibaut
A47: 45872 | B47: T.D.M. - THIAIS | C47: 1 hp | D47: ROUCHON Xavier | E47: 814 | F47: 4 | G47: =E47/F47 -> 203.5 | H47: 2e hp / 35j | I47: 1
A49: 45874 | B49: Petersen d'été - THIAIS | C49: 2 hp | D49: FARGEIX Christian | E49: 1034 | F49: 5 | G49: =E49/F49 -> 206.8 | H49: équipe 4e
B50: 12 équipes | D50: FAYEMENDY Michel | E50: 799 | F50: 5 | G50: =E50/F50 -> 159.8 | I50: 3
A52: 45879 | B52: T.D.M. - THIAIS | C52: 1 hp | D52: ROUCHON Xavier | E52: 770 | F52: 4 | G52: =E52/F52 -> 192.5 | H52: 7e hp / 29j | I52: 4
A54: 45881 | B54: Petersen d'été - THIAIS | C54: 2 hp | D54: FARGEIX Christian | E54: 968 | F54: 5 | G54: =E54/F54 -> 193.6 | H54: équipe 4e
B55: 12 équipes | D55: FAYEMENDY Michel | E55: 769 | F55: 5 | G55: =E55/F55 -> 153.8 | I55: 6
A57: 45893 | B57: Round Robin - BALLAINVILLIERS | C57: 3 hp | D57: ROUCHON Xavier | E57: 2174 | F57: 11 | G57: =E57/F57 -> 197.63636 | H57: équipe 12e | I57: 7
B58: 12 équipes | D58: Martin Benjamin
D59: Arstand Jacques
A61: 45899 | B61: Tournoi des Mouettes - LA ROCHELLE | C61: 3-1 hp | D61: GARCIA Sabine | E61: 1868 | F61: 12 | G61: =E61/F61 -> 155.66667
B62: 31 équipes | D62: CROVATTO Christine | E62: 1609 | F62: 12 | G62: =E62/F62 -> 134.08333 | H62: équipe 18e
D63: MARION Christine | E63: 1565 | F63: 12 | G63: =E63/F63 -> 130.41667 | I63: 10
A65: 45927 | B65: T.S.M. - RAMBOUILLET | C65: 1 hp | D65: ROUCHON Xavier | E65: 761 | F65: 4 | G65: =E65/F65 -> 190.25 | H65: 2e / 20j
D66: FAVREAU Gael | E66: 749 | F66: 4 | G66: =E66/F66 -> 187.25 | H66: 3e / 20j
D67: BONNET Jean Claude | E67: 662 | F67: 4 | G67: =E67/F67 -> 165.5 | H67: 9e / 20j | I67: 13
A69: 45941 | B69: T.S.M. - RAMBOUILLET | C69: 1 hp | D69: BONNET Jean Claude | E69: 589 | F69: 4 | G69: =E69/F69 -> 147.25 | H69: 27e / 36j | I69: 14
A71: 45943 | B71: Ligue du lundi - RAMBOUILLET | C71: 2 hp | D71: FAVREAU Gael | E71: 2777 | F71: 16 | G71: =E71/F71 -> 173.5625 | H71: équipe 1ere
B72: Période 1 | D72: ROUCHON Xavier | E72: 758 | F72: 4 | G72: =E72/F72 -> 189.5 | H72: équipe 2e
B73: 12 équipes | D73: ESNAULT Eric | E73: 1368 | F73: 8 | G73: =E73/F73 -> 171 | H73: équipe 2e
D74: JOUEN Frédéric | E74: 1271 | F74: 8 | G74: =E74/F74 -> 158.875 | H74: équipe 2e
D75: GATEAU Emma | E75: 1149 | F75: 8 | G75: =E75/F75 -> 143.625 | H75: équipe 5e
D76: DELORT Philippe | E76: 2634 | F76: 16 | G76: =E76/F76 -> 164.625 | H76: équipe 6e
D77: JOURNIAC Christian | E77: 1862 | F77: 12 | G77: =E77/F77 -> 155.16667 | H77: équipe 6e
D78: DELORT Valérie | E78: 1809 | F78: 12 | G78: =E78/F78 -> 150.75 | H78: équipe 6e
D79: OLAGNIER Gérard | E79: 1819 | F79: 12 | G79: =E79/F79 -> 151.58333 | H79: équipe 7e
D80: MARION Christine | E80: 1556 | F80: 12 | G80: =E80/F80 -> 129.66667 | H80: équipe 7e
...

Sheet Résultats Comp Fédérales
A1: Date | B1: Lieu | C1: Formule | D1: Nom / Prénom | E1: Score | F1: Lignes | G1: Moyenne | H1: Résultat | J1: Dames | K1: Hommes | L1: Jeunes | N1: OR | O1: ARGENT | P1: BRONZE
D2: BELOT Léopold
D3: BONNET Jean Claude
D4: BOUZOU Francis
D5: CARRIC Olivier
D6: CROVATTO Christine
D7: CROVATTO Philippe
D8: CRUZ Mattis
D9: DELORT Philippe
D10: DELORT Valérie
D11: DURON Eric
D12: DUVAL Franck
D13: ESNAULT Eric
... D45: ZIMMERMANN Thibaut
A47: 45907 | B47: Challenge Double Mixte Honneur - HOUDAN | C47: 2M sc | D47: DELORT Valérie | E47: 1143 | F47: 8 | G47: =E47/F47 -> 142.875 | H47: équipe
B48: Phase District | D48: DELORT Philippe | E48: 1363 | F48: 8 | G48: =E48/F48 -> 170.375 | H48: 7e Qualifié
B49: 18 doublettes mixte | D49: CROVATTO Christine | E49: 1034 | F49: 8 | G49: =E49/F49 -> 129.25 | H49: équipe
D50: CROVATTO Philippe | E50: 1373 | F50: 8 | G50: =E50/F50 -> 171.625 | H50: 12e NQ
D51: GARCIA Sabine | E51: 1154 | F51: 8 | G51: =E51/F51 -> 144.25 | H51: équipe
D52: HUCHET Stéphane | E52: 1226 | F52: 8 | G52: =E52/F52 -> 153.25 | H52: 13e NQ
D53: GATEAU Emma | E53: 1059 | F53: 8 | G53: =E53/F53 -> 132.375 | H53: équipe
D54: BONNET Jean Claude | E54: 1248 | F54: 8 | G54: =E54/F54 -> 156 | H54: 14e NQ
D55: MARION Christine | E55: 1165 | F55: 8 | G55: =E55/F55 -> 145.625 | H55: équipe
D56: OLAGNIER Gérard | E56: 1122 | F56: 8 | G56: =E56/F56 -> 140.25 | H56: 16e NQ | I56: 10
A58: 45913 | B58: Chpt Doublette Honneur - RAMBOUILLET | C58: 2 sc | D58: LE FILOUS Damien | E58: 1480 | F58: 8 | G58: =E58/F58 -> 185 | H58: équipe | K58: x | O58: x
B59: Phase Dept 78 | D59: BONNET Jean Claude | E59: 1335 | F59: 8 | G59: =E59/F59 -> 166.875 | H59: 2e Qualifiée | K59: x | O59: x
B60: 7 équipes H et 6 équipes D | D60: RITHIE Régis | E60: 1388 | F60: 8 | G60: =E60/F60 -> 173.5 | H60: équipe | K60: x | P60: x
D61: DELORT Philippe | E61: 1349 | F61: 8 | G61: =E61/F61 -> 168.625 | H61: 3e Qualifiée | K61: x | P61: x
D62: CARRIC Olivier | E62: 1322 | F62: 8 | G62: =E62/F62 -> 165.25 | H62: équipe
D63: JOUBERT Joel | E63: 1401 | F63: 8 | G63: =E63/F63 -> 175.125 | H63: 4e Qualifié
D64: HUCHET Stéphane | E64: 1388 | F64: 8 | G64: =E64/F64 -> 173.5 | H64: équipe
D65: OLAGNIER Gérard | E65: 1281 | F65: 8 | G65: =E65/F65 -> 160.125 | H65: 5e Qualifiée
D66: GARCIA Sabine | E66: 1385 | F66: 8 | G66: =E66/F66 -> 173.125 | H66: équipe | J66: x | N66: x
D67: NIVET Muriel | E67: 1322 | F67: 8 | G67: =E67/F67 -> 165.25 | H67: 1ere Qualifiée | J67: x | N67: x
D68: DELORT Valérie | E68: 1254 | F68: 8 | G68: =E68/F68 -> 156.75 | H68: équipe
D69: GATEAU Emma | E69: 1088 | F69: 8 | G69: =E69/F69 -> 136 | H69: 4e Qualifiée | I69: 22
A71: 45913 | B71: Chpt Doublette Excellence - MOUSSY LE NEUF | C71: 2 sc | D71: FAVREAU Gael | E71: 1250 | F71: 8 | G71: =E71/F71 -> 156.25 | H71: équipe
B72: Phase District | D72: ROUCHON Xavier | E72: 1632 | F72: 8 | G72: =E72/F72 -> 204 | H72: 8e Qualifié
B73: 17 équipes H et 5 équipes D | D73: FARGEIX Christian | E73: 1393 | F73: 8 | G73: =E73/F73 -> 174.125 | H73: équipe
D74: FAYEMENDY Michel | E74: 1326 | F74: 8 | G74: =E74/F74 -> 165.75 | H74: 15e NQ | I74: 26
...

Sheet Bowlings
A1: BC PLAISIR NOM Prénom | B1: Nombre de bowling différents joués en tournoi | C1: Amiens | D1: Auxerre | E1: Bandol | F1: Ballainvilliers | G1: Bayeux | H1: Belfort | I1: Bourges | J1: Barjouville | K1: Boussy | L1: Chalon en Champagne | M1: Chambéry | N1: Chartres | O1: Chauray | P1: Clermont-Ferrand | Q1: Courbevoie | R1: Creil - St Maximin | S1: Dammarie les Lys | T1: Dijon Eurobowling | U1: Dijon Marsannay | V1: Epinay | W1: Evreux | X1: Front de Seine | Y1: Fontaine le comte (Poitiers) | Z1: Grand Quevilly | AA1: Honfleur | AB1: Houdan | AC1: Joinville | AD1: La Chapelle | AE1: La Matène | AF1: La Rochelle | AG1: Le Havre | AH1: Limoges | AI1: Lomme | AJ1: Mérignac | AK1: Moulins | AL1: Moussy le Neuf | AM1: Nancy | AN1: Nantes St Séb. | AO1: Nantes St. Herblain | AP1: Nimes | AQ1: Nogent le Rotrou | AR1: Notre Dame de Gravenchon | AS1: Orgeval | AT1: Orleans Olivet | AU1: OSNABRUCK (Allemagne) | AV1: Ozoir | AW1: Poitier | AX1: Quimper | AY1: Rambouillet | AZ1: Reims Thillois | BA1: Reims Tinqueux | BB1: Saran | BC1: Strasbrg | BD1: St. Nazaire | BE1: Taden | BF1: Thiais | BG1: Toulouse Coulomier | BH1: Toulouse Montaudran | BI1: Tours | BJ1: Troyes | BK1: Valenciennes | BL1: Vannes | BM1: Villeneuve d'Ascq | BN1: Wittelsheim
A2: BELOT Léopold | B2: =COUNTA(C2:BN2) -> 2 | K2: 2 | AY2: 1 | BO2: =SUM(C2:BN2) -> 3
A3: BONNET Jean Claude | B3: =COUNTA(C3:BN3) -> 3 | K3: 1 | AB3: 2 | AY3: 8 | BO3: =SUM(C3:BN3) -> 11
A4: BOUZOU Francis | B4: =COUNTA(C4:BN4) -> 2 | AB4: 1 | AY4: 3 | BO4: =SUM(C4:BN4) -> 4
A5: CARRIC Olivier | B5: =COUNTA(C5:BN5) -> 1 | AY5: 4 | BO5: =SUM(C5:BN5) -> 4
A6: CROVATTO Christine | B6: =COUNTA(C6:BN6) -> 4 | Q6: 1 | AB6: 2 | AF6: 1 | AY6: 2 | BO6: =SUM(C6:BN6) -> 6
A7: CROVATTO Philippe | B7: =COUNTA(C7:BN7) -> 3 | K7: 1 | AB7: 2 | AY7: 3 | BO7: =SUM(C7:BN7) -> 6
A8: DELORT Philippe | B8: =COUNTA(C8:BN8) -> 3 | K8: 1 | AB8: 1 | AY8: 6 | BO8: =SUM(C8:BN8) -> 8
A9: DELORT Valérie | B9: =COUNTA(C9:BN9) -> 4 | K9: 1 | Q9: 1 | AB9: 1 | AY9: 5 | BO9: =SUM(C9:BN9) -> 8
A10: DURON Eric | B10: =COUNTA(C10:BN10) -> 1 | AY10: 2 | BO10: =SUM(C10:BN10) -> 2
A11: DUVAL Franck | B11: =COUNTA(C11:BN11) -> 1 | AY11: 2 | BO11: =SUM(C11:BN11) -> 2
A12: ESDOLUC Elisabeth | B12: =COUNTA(C12:BN12) -> 1 | AY12: 2 | BO12: =SUM(C12:BN12) -> 2
A13: ESNAULT Eric | B13: =COUNTA(C13:BN13) -> 1 | AY13: 3 | BO13: =SUM(C13:BN13) -> 3
A14: ESNAULT Michèle | B14: =COUNTA(C14:BN14) -> 2 | AB14: 1 | AY14: 2 | BO14: =SUM(C14:BN14) -> 3
A15: FARGEIX Christian | B15: =COUNTA(C15:BN15) -> 5 | L15: 1 | AB15: 1 | AL15: 1 | AY15: 2 | BF15: 6 | BO15: =SUM(C15:BN15) -> 11
A16: FARGEIX Florence | B16: =COUNTA(C16:BN16) -> 2 | Q16: 1 | BF16: 2 | BO16: =SUM(C16:BN16) -> 3
A17: FAVREAU Gael | B17: =COUNTA(C17:BN17) -> 5 | K17: 2 | R17: 1 | AB17: 1 | AL17: 1 | AY17: 4 | BO17: =SUM(C17:BN17) -> 9
A18: FAYEMENDY Michel | B18: =COUNTA(C18:BN18) -> 5 | K18: 1 | L18: 1 | AL18: 1 | AY18: 1 | BF18: 5 | BO18: =SUM(C18:BN18) -> 9
A19: GARCIA Sabine | B19: =COUNTA(C19:BN19) -> 4 | Q19: 1 | AB19: 3 | AF19: 1 | AY19: 5 | BO19: =SUM(C19:BN19) -> 10
A20: GATEAU Emma | B20: =COUNTA(C20:BN20) -> 3 | Q20: 1 | AB20: 1 | AY20: 4 | BO20: =SUM(C20:BN20) -> 6
A21: GOUTTORBE Yveline | B21: =COUNTA(C21:BN21) -> 2 | Q21: 1 | AY21: 3 | BO21: =SUM(C21:BN21) -> 4
A22: GUYOT Jean Michel | B22: =COUNTA(C22:BN22) -> 0 | BO22: =SUM(C22:BN22) -> 0
A23: GUYOT Stéphane | B23: =COUNTA(C23:BN23) -> 2 | K23: 2 | AY23: 2 | BO23: =SUM(C23:BN23) -> 4
A24: HERVAULT Daniel | B24: =COUNTA(C24:BN24) -> 2 | K24: 1 | AY24: 3 | BO24: =SUM(C24:BN24) -> 4
A25: HUCHET Stéphane | B25: =COUNTA(C25:BN25) -> 3 | K25: 1 | AB25: 3 | AY25: 3 | BO25: =SUM(C25:BN25) -> 7
A26: JOUBERT Joel | B26: =COUNTA(C26:BN26) -> 2 | K26: 1 | AY26: 5 | BO26: =SUM(C26:BN26) -> 6
A27: JOUEN Frédéric | B27: =COUNTA(C27:BN27) -> 2 | K27: 1 | AY27: 2 | BO27: =SUM(C27:BN27) -> 3
A28: JOURNIAC Christian | B28: =COUNTA(C28:BN28) -> 2 | AY28: 2 | BF28: 1 | BO28: =SUM(C28:BN28) -> 3
A29: KUBIAK Charlie | B29: =COUNTA(C29:BN29) -> 1 | K29: 1 | BO29: =SUM(C29:BN29) -> 1
A30: LE FILOUS Claude | B30: =COUNTA(C30:BN30) -> 1 | AY30: 2 | BO30: =SUM(C30:BN30) -> 2
A31: LE FILOUS Damien | B31: =COUNTA(C31:BN31) -> 1 | AY31: 5 | BO31: =SUM(C31:BN31) -> 5
A32: LE FILOUS Julie | B32: =COUNTA(C32:BN32) -> 0 | BO32: =SUM(C32:BN32) -> 0
A33: LECOMTE Coline | B33: =COUNTA(C33:BN33) -> 1 | AY33: 1 | BO33: =SUM(C33:BN33) -> 1
A34: MARION Christine | B34: =COUNTA(C34:BN34) -> 4 | Q34: 1 | AB34: 2 | AF34: 1 | AY34: 3 | BO34: =SUM(C34:BN34) -> 7
A35: MORGADO Jean Claude | B35: =COUNTA(C35:BN35) -> 0 | BO35: =SUM(C35:BN35) -> 0
A36: MORGADO Théo | B36: =COUNTA(C36:BN36) -> 0 | BO36: =SUM(C36:BN36) -> 0
A37: NIVET Jean-Pierre | B37: =COUNTA(C37:BN37) -> 2 | AB37: 1 | AY37: 2 | BO37: =SUM(C37:BN37) -> 3
A38: NIVET Muriel | B38: =COUNTA(C38:BN38) -> 2 | AB38: 1 | AY38: 5 | BO38: =SUM(C38:BN38) -> 6
A39: OLAGNIER Gérard | B39: =COUNTA(C39:BN39) -> 4 | K39: 1 | AB39: 2 | AY39: 7 | BF39: 1 | BO39: =SUM(C39:BN39) -> 11
A40: PILLOUD Alexandre | B40: =COUNTA(C40:BN40) -> 1 | K40: 1 | BO40: =SUM(C40:BN40) -> 1
...

Sheet Classt saison Ligues-Amical
B1: BC PLAISIR NOM Prénom | C1: Catégorie | D1: Sexe | E1: N° Licence | F1: Total quilles | G1: Nbre de parties | H1: MOYENNE scratch | I1: Handicap | J1: MOYENNE Handicap
A2: 1 | B2: ROUCHON Xavier | C2: SA | D2: M | F2: =SUMIF('Résultats Ligues et Amical'!$D:$D,"=ROUCHON Xavier",'Résultats Ligues et Amical'!E:E) -> 9797 | G2: =SUMIF('Résultats Ligues et Amical'!$D:$D,"=ROUCHON Xavier",'Résultats Ligues et Amical'!F:F) -> 51 | H2: =F2/G2 -> 192.09804 | I2: 19 | J2: =H2+I2 -> 211.09804
A3: 2 | B3: FAVREAU Gael | C3: JU | D3: M | F3: =SUMIF('Résultats Ligues et Amical'!$D:$D,"=FAVREAU Gael",'Résultats Ligues et Amical'!E:E) -> 5806 | G3: =SUMIF('Résultats Ligues et Amical'!$D:$D,"=FAVREAU Gael",'Résultats Ligues et Amical'!F:F) -> 32 | H3: =F3/G3 -> 181.4375 | I3: 23 | J3: =H3+I3 -> 204.4375
A4: 3 | B4: FARGEIX Christian | C4: SC | D4: M | F4: =SUMIF('Résultats Ligues et Amical'!$D:$D,"=FARGEIX Christian",'Résultats Ligues et Amical'!E:E) -> 9667 | G4: =SUMIF('Résultats Ligues et Amical'!$D:$D,"=FARGEIX Christian",'Résultats Ligues et Amical'!F:F) -> 54 | H4: =F4/G4 -> 179.01852 | I4: 27 | J4: =H4+I4 -> 206.01852
A5: 4 | B5: ESNAULT Eric | C5: SB | D5: M | F5: =SUMIF('Résultats Ligues et Amical'!$D:$D,"=ESNAULT Eric",'Résultats Ligues et Amical'!E:E) -> 2085 | G5: =SUMIF('Résultats Ligues et Amical'!$D:$D,"=ESNAULT Eric",'Résultats Ligues et Amical'!F:F) -> 12 | H5: =F5/G5 -> 173.75 | I5: 42 | J5: =H5+I5 -> 215.75
A6: 5 | B6: LE FILOUS Damien | C6: SE | D6: M | F6: =SUMIF('Résultats Ligues et Amical'!$D:$D,"=LE FILOUS Damien",'Résultats Ligues et Amical'!E:E) -> 4137 | G6: =SUMIF('Résultats Ligues et Amical'!$D:$D,"=LE FILOUS Damien",'Résultats Ligues et Amical'!F:F) -> 24 | H6: =F6/G6 -> 172.375 | I6: 30 | J6: =H6+I6 -> 202.375
A7: 6 | B7: JOUEN Frédéric | C7: SA | D7: M | F7: =SUMIF('Résultats Ligues et Amical'!$D:$D,"=JOUEN Frédéric",'Résultats Ligues et Amical'!E:E) -> 3366 | G7: =SUMIF('Résultats Ligues et Amical'!$D:$D,"=JOUEN Frédéric",'Résultats Ligues et Amical'!F:F) -> 20 | H7: =F7/G7 -> 168.3 | I7: 36 | J7: =H7+I7 -> 204.3
A8: 7 | B8: DELORT Philippe | C8: SC | D8: M | F8: =SUMIF('Résultats Ligues et Amical'!$D:$D,"=DELORT Philippe",'Résultats Ligues et Amical'!E:E) -> 5373 | G8: =SUMIF('Résultats Ligues et Amical'!$D:$D,"=DELORT Philippe",'Résultats Ligues et Amical'!F:F) -> 32 | H8: =F8/G8 -> 167.90625 | I8: 37 | J8: =H8+I8 -> 204.90625
A9: 8 | B9: CROVATTO Philippe | C9: SA | D9: M | F9: =SUMIF('Résultats Ligues et Amical'!$D:$D,"=CROVATTO Philippe",'Résultats Ligues et Amical'!E:E) -> 7247 | G9: =SUMIF('Résultats Ligues et Amical'!$D:$D,"=CROVATTO Philippe",'Résultats Ligues et Amical'!F:F) -> 44 | H9: =F9/G9 -> 164.70455 | I9: 35 | J9: =H9+I9 -> 199.70455
A10: 9 | B10: CARRIC Olivier | C10: SB | D10: M | F10: =SUMIF('Résultats Ligues et Amical'!$D:$D,"=CARRIC Olivier",'Résultats Ligues et Amical'!E:E) -> 1955 | G10: =SUMIF('Résultats Ligues et Amical'!$D:$D,"=CARRIC Olivier",'Résultats Ligues et Amical'!F:F) -> 12 | H10: =F10/G10 -> 162.91667 | I10: 42 | J10: =H10+I10 -> 204.91667
A11: 10 | B11: JOURNIAC Christian | C11: SC | D11: M | F11: =SUMIF('Résultats Ligues et Amical'!$D:$D,"=JOURNIAC Christian",'Résultats Ligues et Amical'!E:E) -> 5370 | G11: =SUMIF('Résultats Ligues et Amical'!$D:$D,"=JOURNIAC Christian",'Résultats Ligues et Amical'!F:F) -> 33 | H11: =F11/G11 -> 162.72727 | I11: 44 | J11: =H11+I11 -> 206.72727
A12: 11 | B12: HUCHET Stéphane | C12: SA | D12: M | F12: =SUMIF('Résultats Ligues et Amical'!$D:$D,"=HUCHET Stéphane",'Résultats Ligues et Amical'!E:E) -> 6505 | G12: =SUMIF('Résultats Ligues et Amical'!$D:$D,"=HUCHET Stéphane",'Résultats Ligues et Amical'!F:F) -> 40 | H12: =F12/G12 -> 162.625 | I12: 39 | J12: =H12+I12 -> 201.625
A13: 12 | B13: FAYEMENDY Michel | C13: SC | D13: M | F13: =SUMIF('Résultats Ligues et Amical'!$D:$D,"=FAYEMENDY Michel",'Résultats Ligues et Amical'!E:E) -> 5321 | G13: =SUMIF('Résultats Ligues et Amical'!$D:$D,"=FAYEMENDY Michel",'Résultats Ligues et Amical'!F:F) -> 33 | H13: =F13/G13 -> 161.24242 | I13: 42 | J13: =H13+I13 -> 203.24242
A14: 13 | B14: BOUZOU Francis | C14: SB | D14: M | F14: =SUMIF('Résultats Ligues et Amical'!$D:$D,"=BOUZOU Francis",'Résultats Ligues et Amical'!E:E) -> 7695 | G14: =SUMIF('Résultats Ligues et Amical'!$D:$D,"=BOUZOU Francis",'Résultats Ligues et Amical'!F:F) -> 48 | H14: =F14/G14 -> 160.3125 | I14: 42 | J14: =H14+I14 -> 202.3125
A15: 14 | B15: JOUBERT Joel | C15: SB | D15: M | F15: =SUMIF('Résultats Ligues et Amical'!$D:$D,"=JOUBERT Joel",'Résultats Ligues et Amical'!E:E) -> 3841 | G15: =SUMIF('Résultats Ligues et Amical'!$D:$D,"=JOUBERT Joel",'Résultats Ligues et Amical'!F:F) -> 24 | H15: =F15/G15 -> 160.04167 | I15: 37 | J15: =H15+I15 -> 197.04167
A16: 15 | B16: RITHIE Régis | C16: SB | D16: M | F16: =SUMIF('Résultats Ligues et Amical'!$D:$D,"=RITHIE Régis",'Résultats Ligues et Amical'!E:E) -> 6121 | G16: =SUMIF('Résultats Ligues et Amical'!$D:$D,"=RITHIE Régis",'Résultats Ligues et Amical'!F:F) -> 39 | H16: =F16/G16 -> 156.94872 | I16: 35 | J16: =H16+I16 -> 191.94872
A17: 16 | B17: DELORT Valérie | C17: SB | D17: F | F17: =SUMIF('Résultats Ligues et Amical'!$D:$D,"=DELORT Valérie",'Résultats Ligues et Amical'!E:E) -> 3094 | G17: =SUMIF('Résultats Ligues et Amical'!$D:$D,"=DELORT Valérie",'Résultats Ligues et Amical'!F:F) -> 20 | H17: =F17/G17 -> 154.7 | I17: 46 | J17: =H17+I17 -> 200.7
A18: 17 | B18: BONNET Jean Claude | C18: SC | D18: M | F18: =SUMIF('Résultats Ligues et Amical'!$D:$D,"=BONNET Jean Claude",'Résultats Ligues et Amical'!E:E) -> 6799 | G18: =SUMIF('Résultats Ligues et Amical'!$D:$D,"=BONNET Jean Claude",'Résultats Ligues et Amical'!F:F) -> 44 | H18: =F18/G18 -> 154.52273 | I18: 42 | J18: =H18+I18 -> 196.52273
A19: 18 | B19: LE FILOUS Claude | C19: SB | D19: M | F19: =SUMIF('Résultats Ligues et Amical'!$D:$D,"=LE FILOUS Claude",'Résultats Ligues et Amical'!E:E) -> 3060 | G19: =SUMIF('Résultats Ligues et Amical'!$D:$D,"=LE FILOUS Claude",'Résultats Ligues et Amical'!F:F) -> 20 | H19: =F19/G19 -> 153 | I19: 46 | J19: =H19+I19 -> 199
A20: 19 | B20: GOUTTORBE Yveline | C20: SB | D20: F | F20: =SUMIF('Résultats Ligues et Amical'!$D:$D,"=GOUTTORBE Yveline",'Résultats Ligues et Amical'!E:E) -> 2996 | G20: =SUMIF('Résultats Ligues et Amical'!$D:$D,"=GOUTTORBE Yveline",'Résultats Ligues et Amical'!F:F) -> 20 | H20: =F20/G20 -> 149.8 | I20: 51 | J20: =H20+I20 -> 200.8
A21: 20 | B21: GATEAU Emma | C21: SE | D21: F | F21: =SUMIF('Résultats Ligues et Amical'!$D:$D,"=GATEAU Emma",'Résultats Ligues et Amical'!E:E) -> 2375 | G21: =SUMIF('Résultats Ligues et Amical'!$D:$D,"=GATEAU Emma",'Résultats Ligues et Amical'!F:F) -> 16 | H21: =F21/G21 -> 148.4375 | I21: 57 | J21: =H21+I21 -> 205.4375
A22: 21 | B22: SOLARI Joseph | C22: SC | D22: M | F22: =SUMIF('Résultats Ligues et Amical'!$D:$D,"=SOLARI Joseph",'Résultats Ligues et Amical'!E:E) -> 2367 | G22: =SUMIF('Résultats Ligues et Amical'!$D:$D,"=SOLARI Joseph",'Résultats Ligues et Amical'!F:F) -> 16 | H22: =F22/G22 -> 147.9375 | I22: 41 | J22: =H22+I22 -> 188.9375
A23: 22 | B23: GARCIA Sabine | C23: SC | D23: F | F23: =SUMIF('Résultats Ligues et Amical'!$D:$D,"=GARCIA Sabine",'Résultats Ligues et Amical'!E:E) -> 9386 | G23: =SUMIF('Résultats Ligues et Amical'!$D:$D,"=GARCIA Sabine",'Résultats Ligues et Amical'!F:F) -> 64 | H23: =F23/G23 -> 146.65625 | I23: 46 | J23: =H23+I23 -> 192.65625
A24: 23 | B24: NIVET Muriel | C24: SC | D24: F | F24: =SUMIF('Résultats Ligues et Amical'!$D:$D,"=NIVET Muriel",'Résultats Ligues et Amical'!E:E) -> 6419 | G24: =SUMIF('Résultats Ligues et Amical'!$D:$D,"=NIVET Muriel",'Résultats Ligues et Amical'!F:F) -> 44 | H24: =F24/G24 -> 145.88636 | I24: 49 | J24: =H24+I24 -> 194.88636
A25: 24 | B25: HERVAULT Daniel | C25: SC | D25: M | F25: =SUMIF('Résultats Ligues et Amical'!$D:$D,"=HERVAULT Daniel",'Résultats Ligues et Amical'!E:E) -> 4072 | G25: =SUMIF('Résultats Ligues et Amical'!$D:$D,"=HERVAULT Daniel",'Résultats Ligues et Amical'!F:F) -> 28 | H25: =F25/G25 -> 145.42857 | I25: 54 | J25: =H25+I25 -> 199.42857
A26: 25 | B26: TERRIEN Yanis | C26: CA | D26: M | F26: =SUMIF('Résultats Ligues et Amical'!$D:$D,"=TERRIEN Yanis",'Résultats Ligues et Amical'!E:E) -> 577 | G26: =SUMIF('Résultats Ligues et Amical'!$D:$D,"=TERRIEN Yanis",'Résultats Ligues et Amical'!F:F) -> 4 | H26: =F26/G26 -> 144.25 | I26: 61 | J26: =H26+I26 -> 205.25
A27: 26 | B27: FARGEIX Florence | C27: SE | D27: F | F27: =SUMIF('Résultats Ligues et Amical'!$D:$D,"=FARGEIX Florence",'Résultats Ligues et Amical'!E:E) -> 1146 | G27: =SUMIF('Résultats Ligues et Amical'!$D:$D,"=FARGEIX Florence",'Résultats Ligues et Amical'!F:F) -> 8 | H27: =F27/G27 -> 143.25 | I27: 51 | J27: =H27+I27 -> 194.25
A28: 27 | B28: OLAGNIER Gérard | C28: SC | D28: M | F28: =SUMIF('Résultats Ligues et Amical'!$D:$D,"=OLAGNIER Gérard",'Résultats Ligues et Amical'!E:E) -> 8455 | G28: =SUMIF('Résultats Ligues et Amical'!$D:$D,"=OLAGNIER Gérard",'Résultats Ligues et Amical'!F:F) -> 60 | H28: =F28/G28 -> 140.91667 | I28: 52 | J28: =H28+I28 -> 192.91667
A29: 28 | B29: NIVET Jean-Pierre | C29: SC | D29: M | F29: =SUMIF('Résultats Ligues et Amical'!$D:$D,"=NIVET Jean-Pierre",'Résultats Ligues et Amical'!E:E) -> 6091 | G29: =SUMIF('Résultats Ligues et Amical'!$D:$D,"=NIVET Jean-Pierre",'Résultats Ligues et Amical'!F:F) -> 44 | H29: =F29/G29 -> 138.43182 | I29: 66 | J29: =H29+I29 -> 204.43182
A30: 29 | B30: MARION Christine | C30: SA | D30: F | F30: =SUMIF('Résultats Ligues et Amical'!$D:$D,"=MARION Christine",'Résultats Ligues et Amical'!E:E) -> 7075 | G30: =SUMIF('Résultats Ligues et Amical'!$D:$D,"=MARION Christine",'Résultats Ligues et Amical'!F:F) -> 52 | H30: =F30/G30 -> 136.05769 | I30: 58 | J30: =H30+I30 -> 194.05769
A31: 30 | B31: ESNAULT Michèle | C31: SC | D31: F | F31: =SUMIF('Résultats Ligues et Amical'!$D:$D,"=ESNAULT Michèle",'Résultats Ligues et Amical'!E:E) -> 5379 | G31: =SUMIF('Résultats Ligues et Amical'!$D:$D,"=ESNAULT Michèle",'Résultats Ligues et Amical'!F:F) -> 40 | H31: =F31/G31 -> 134.475 | I31: 51 | J31: =H31+I31 -> 185.475
A32: 31 | B32: DURON Eric | C32: SC | D32: M | F32: =SUMIF('Résultats Ligues et Amical'!$D:$D,"=DURON Eric",'Résultats Ligues et Amical'!E:E) -> 1568 | G32: =SUMIF('Résultats Ligues et Amical'!$D:$D,"=DURON Eric",'Résultats Ligues et Amical'!F:F) -> 12 | H32: =F32/G32 -> 130.66667 | I32: 51 | J32: =H32+I32 -> 181.66667
A33: 32 | B33: DUVAL Franck | C33: SB | D33: M | F33: =SUMIF('Résultats Ligues et Amical'!$D:$D,"=DUVAL Franck",'Résultats Ligues et Amical'!E:E) -> 2061 | G33: =SUMIF('Résultats Ligues et Amical'!$D:$D,"=DUVAL Franck",'Résultats Ligues et Amical'!F:F) -> 16 | H33: =F33/G33 -> 128.8125 | I33: 62 | J33: =H33+I33 -> 190.8125
A34: 33 | B34: CROVATTO Christine | C34: SA | D34: F | F34: =SUMIF('Résultats Ligues et Amical'!$D:$D,"=CROVATTO Christine",'Résultats Ligues et Amical'!E:E) -> 5508 | G34: =SUMIF('Résultats Ligues et Amical'!$D:$D,"=CROVATTO Christine",'Résultats Ligues et Amical'!F:F) -> 44 | H34: =F34/G34 -> 125.18182 | I34: 61 | J34: =H34+I34 -> 186.18182
A35: 34 | B35: GUYOT Stéphane | C35: JU | D35: M | F35: =SUMIF('Résultats Ligues et Amical'!$D:$D,"=Guyot Stéphane",'Résultats Ligues et Amical'!E:E) -> 467 | G35: =SUMIF('Résultats Ligues et Amical'!$D:$D,"=Guyot Stéphane",'Résultats Ligues et Amical'!F:F) -> 4 | H35: =F35/G35 -> 116.75 | I35: 40 | J35: =H35+I35 -> 156.75
A36: 35 | B36: ESDOLUC Elisabeth | C36: SC | D36: F | F36: =SUMIF('Résultats Ligues et Amical'!$D:$D,"=ESDOLUC Elisabeth",'Résultats Ligues et Amical'!E:E) -> 898 | G36: =SUMIF('Résultats Ligues et Amical'!$D:$D,"=ESDOLUC Elisabeth",'Résultats Ligues et Amical'!F:F) -> 8 | H36: =F36/G36 -> 112.25 | I36: 28 | J36: =H36+I36 -> 140.25
A38: 36 | B38: BELOT Léopold | C38: MI | D38: M | F38: =SUMIF('Résultats Ligues et Amical'!$D:$D,"=BELOT Léopold",'Résultats Ligues et Amical'!E:E) -> 0 | G38: =SUMIF('Résultats Ligues et Amical'!$D:$D,"=BELOT Léopold",'Résultats Ligues et Amical'!F:F) -> 0 | H38: =F38/G38 -> #DIV/0! | I38: 49 | J38: =H38+I38 -> #DIV/0!
A39: 37 | B39: GUYOT Jean Michel | C39: SB | D39: M | F39: =SUMIF('Résultats Ligues et Amical'!$D:$D,"=Guyot Jean Michel",'Résultats Ligues et Amical'!E:E) -> 0 | G39: =SUMIF('Résultats Ligues et Amical'!$D:$D,"=Morgado Jean Michel",'Résultats Ligues et Amical'!F:F) -> 0 | H39: =F39/G39 -> #DIV/0! | I39: 18 | J39: =H39+I39 -> #DIV/0!
A40: 38 | B40: KUBIAK Charlie | C40: BJ | D40: M | F40: =SUMIF('Résultats Ligues et Amical'!$D:$D,"=KUBIAK Charlie",'Résultats Ligues et Amical'!E:E) -> 0 | G40: =SUMIF('Résultats Ligues et Amical'!$D:$D,"=KUBIAK Charlie",'Résultats Ligues et Amical'!F:F) -> 0 | H40: =F40/G40 -> #DIV/0! | I40: 56 | J40: =H40+I40 -> #DIV/0!
A41: 39 | B41: LE FILOUS Julie | C41: JU | D41: F | F41: =SUMIF('Résultats Ligues et Amical'!$D:$D,"=LE FILOUS Julie",'Résultats Ligues et Amical'!E:E) -> 0 | G41: =SUMIF('Résultats Ligues et Amical'!$D:$D,"=LE FILOUS Julie",'Résultats Ligues et Amical'!F:F) -> 0 | H41: =F41/G41 -> #DIV/0! | I41: 33 | J41: =H41+I41 -> #DIV/0!
...

Sheet Classt saison Comp Fédérales
B1: BC PLAISIR NOM Prénom | C1: Catégorie | D1: Sexe | E1: N° Licence | F1: Total quilles | G1: Nbre de parties | H1: MOYENNE scratch | I1: Handicap | J1: MOYENNE Handicap
A2: 1 | B2: FAVREAU Gael | C2: JU | D2: M | F2: =SUMIF('Résultats Comp Fédérales'!$D:$D,"=FAVREAU Gael",'Résultats Comp Fédérales'!E:E) -> 9444 | G2: =SUMIF('Résultats Comp Fédérales'!$D:$D,"=FAVREAU Gael",'Résultats Comp Fédérales'!F:F) -> 49 | H2: =F2/G2 -> 192.73469 | I2: 23 | J2: =H2+I2 -> 215.73469
A3: 2 | B3: ROUCHON Xavier | C3: SA | D3: M | F3: =SUMIF('Résultats Comp Fédérales'!$D:$D,"=ROUCHON Xavier",'Résultats Comp Fédérales'!E:E) -> 6357 | G3: =SUMIF('Résultats Comp Fédérales'!$D:$D,"=ROUCHON Xavier",'Résultats Comp Fédérales'!F:F) -> 33 | H3: =F3/G3 -> 192.63636 | I3: 19 | J3: =H3+I3 -> 211.63636
A4: 3 | B4: LE FILOUS Damien | C4: SE | D4: M | F4: =SUMIF('Résultats Comp Fédérales'!$D:$D,"=LE FILOUS Damien",'Résultats Comp Fédérales'!E:E) -> 4719 | G4: =SUMIF('Résultats Comp Fédérales'!$D:$D,"=LE FILOUS Damien",'Résultats Comp Fédérales'!F:F) -> 25 | H4: =F4/G4 -> 188.76 | I4: 30 | J4: =H4+I4 -> 218.76
A5: 4 | B5: JOUEN Frédéric | C5: SA | D5: M | F5: =SUMIF('Résultats Comp Fédérales'!$D:$D,"=JOUEN Frédéric",'Résultats Comp Fédérales'!E:E) -> 930 | G5: =SUMIF('Résultats Comp Fédérales'!$D:$D,"=JOUEN Frédéric",'Résultats Comp Fédérales'!F:F) -> 5 | H5: =F5/G5 -> 186 | I5: 36 | J5: =H5+I5 -> 222
A6: 5 | B6: FARGEIX Christian | C6: SC | D6: M | F6: =SUMIF('Résultats Comp Fédérales'!$D:$D,"=FARGEIX Christian",'Résultats Comp Fédérales'!E:E) -> 8030 | G6: =SUMIF('Résultats Comp Fédérales'!$D:$D,"=FARGEIX Christian",'Résultats Comp Fédérales'!F:F) -> 45 | H6: =F6/G6 -> 178.44444 | I6: 27 | J6: =H6+I6 -> 205.44444
A7: 6 | B7: JOUBERT Joel | C7: SB | D7: M | F7: =SUMIF('Résultats Comp Fédérales'!$D:$D,"=JOUBERT Joel",'Résultats Comp Fédérales'!E:E) -> 3642 | G7: =SUMIF('Résultats Comp Fédérales'!$D:$D,"=JOUBERT Joel",'Résultats Comp Fédérales'!F:F) -> 21 | H7: =F7/G7 -> 173.42857 | I7: 37 | J7: =H7+I7 -> 210.42857
A8: 7 | B8: CROVATTO Philippe | C8: SA | D8: M | F8: =SUMIF('Résultats Comp Fédérales'!$D:$D,"=CROVATTO Philippe",'Résultats Comp Fédérales'!E:E) -> 3241 | G8: =SUMIF('Résultats Comp Fédérales'!$D:$D,"=CROVATTO Philippe",'Résultats Comp Fédérales'!F:F) -> 19 | H8: =F8/G8 -> 170.57895 | I8: 35 | J8: =H8+I8 -> 205.57895
A9: 8 | B9: CARRIC Olivier | C9: SB | D9: M | F9: =SUMIF('Résultats Comp Fédérales'!$D:$D,"=CARRIC Olivier",'Résultats Comp Fédérales'!E:E) -> 2045 | G9: =SUMIF('Résultats Comp Fédérales'!$D:$D,"=CARRIC Olivier",'Résultats Comp Fédérales'!F:F) -> 12 | H9: =F9/G9 -> 170.41667 | I9: 42 | J9: =H9+I9 -> 212.41667
A10: 9 | B10: DELORT Philippe | C10: SC | D10: M | F10: =SUMIF('Résultats Comp Fédérales'!$D:$D,"=DELORT Philippe",'Résultats Comp Fédérales'!E:E) -> 7931 | G10: =SUMIF('Résultats Comp Fédérales'!$D:$D,"=DELORT Philippe",'Résultats Comp Fédérales'!F:F) -> 47 | H10: =F10/G10 -> 168.74468 | I10: 37 | J10: =H10+I10 -> 205.74468
A11: 10 | B11: BELOT Léopold | C11: MI | D11: M | F11: =SUMIF('Résultats Comp Fédérales'!$D:$D,"=BELOT Léopold",'Résultats Comp Fédérales'!E:E) -> 2841 | G11: =SUMIF('Résultats Comp Fédérales'!$D:$D,"=BELOT Léopold",'Résultats Comp Fédérales'!F:F) -> 17 | H11: =F11/G11 -> 167.11765 | I11: 49 | J11: =H11+I11 -> 216.11765
A12: 11 | B12: BONNET Jean Claude | C12: SC | D12: M | F12: =SUMIF('Résultats Comp Fédérales'!$D:$D,"=BONNET Jean Claude",'Résultats Comp Fédérales'!E:E) -> 5726 | G12: =SUMIF('Résultats Comp Fédérales'!$D:$D,"=BONNET Jean Claude",'Résultats Comp Fédérales'!F:F) -> 35 | H12: =F12/G12 -> 163.6 | I12: 42 | J12: =H12+I12 -> 205.6
A13: 12 | B13: RITHIE Régis | C13: SB | D13: M | F13: =SUMIF('Résultats Comp Fédérales'!$D:$D,"=RITHIE Régis",'Résultats Comp Fédérales'!E:E) -> 6160 | G13: =SUMIF('Résultats Comp Fédérales'!$D:$D,"=RITHIE Régis",'Résultats Comp Fédérales'!F:F) -> 38 | H13: =F13/G13 -> 162.10526 | I13: 35 | J13: =H13+I13 -> 197.10526
A14: 13 | B14: HUCHET Stéphane | C14: SA | D14: M | F14: =SUMIF('Résultats Comp Fédérales'!$D:$D,"=HUCHET Stéphane",'Résultats Comp Fédérales'!E:E) -> 5817 | G14: =SUMIF('Résultats Comp Fédérales'!$D:$D,"=HUCHET Stéphane",'Résultats Comp Fédérales'!F:F) -> 36 | H14: =F14/G14 -> 161.58333 | I14: 39 | J14: =H14+I14 -> 200.58333
A15: 14 | B15: FAYEMENDY Michel | C15: SC | D15: M | F15: =SUMIF('Résultats Comp Fédérales'!$D:$D,"=FAYEMENDY Michel",'Résultats Comp Fédérales'!E:E) -> 5476 | G15: =SUMIF('Résultats Comp Fédérales'!$D:$D,"=FAYEMENDY Michel",'Résultats Comp Fédérales'!F:F) -> 34 | H15: =F15/G15 -> 161.05882 | I15: 42 | J15: =H15+I15 -> 203.05882
A16: 15 | B16: NIVET Muriel | C16: SC | D16: F | F16: =SUMIF('Résultats Comp Fédérales'!$D:$D,"=NIVET Muriel",'Résultats Comp Fédérales'!E:E) -> 3822 | G16: =SUMIF('Résultats Comp Fédérales'!$D:$D,"=NIVET Muriel",'Résultats Comp Fédérales'!F:F) -> 24 | H16: =F16/G16 -> 159.25 | I16: 49 | J16: =H16+I16 -> 208.25
A17: 16 | B17: ESNAULT Eric | C17: SB | D17: M | F17: =SUMIF('Résultats Comp Fédérales'!$D:$D,"=ESNAULT Eric",'Résultats Comp Fédérales'!E:E) -> 1254 | G17: =SUMIF('Résultats Comp Fédérales'!$D:$D,"=ESNAULT Eric",'Résultats Comp Fédérales'!F:F) -> 8 | H17: =F17/G17 -> 156.75 | I17: 42 | J17: =H17+I17 -> 198.75
A18: 17 | B18: DELORT Valérie | C18: SB | D18: F | F18: =SUMIF('Résultats Comp Fédérales'!$D:$D,"=DELORT Valérie",'Résultats Comp Fédérales'!E:E) -> 7317 | G18: =SUMIF('Résultats Comp Fédérales'!$D:$D,"=DELORT Valérie",'Résultats Comp Fédérales'!F:F) -> 47 | H18: =F18/G18 -> 155.68085 | I18: 46 | J18: =H18+I18 -> 201.68085
A19: 18 | B19: GARCIA Sabine | C19: SC | D19: F | F19: =SUMIF('Résultats Comp Fédérales'!$D:$D,"=GARCIA Sabine",'Résultats Comp Fédérales'!E:E) -> 5995 | G19: =SUMIF('Résultats Comp Fédérales'!$D:$D,"=GARCIA Sabine",'Résultats Comp Fédérales'!F:F) -> 39 | H19: =F19/G19 -> 153.71795 | I19: 46 | J19: =H19+I19 -> 199.71795
A20: 19 | B20: BOUZOU Francis | C20: SB | D20: M | F20: =SUMIF('Résultats Comp Fédérales'!$D:$D,"=BOUZOU Francis",'Résultats Comp Fédérales'!E:E) -> 1209 | G20: =SUMIF('Résultats Comp Fédérales'!$D:$D,"=BOUZOU Francis",'Résultats Comp Fédérales'!F:F) -> 8 | H20: =F20/G20 -> 151.125 | I20: 42 | J20: =H20+I20 -> 193.125
A21: 20 | B21: FARGEIX Florence | C21: SE | D21: F | F21: =SUMIF('Résultats Comp Fédérales'!$D:$D,"=FARGEIX Florence",'Résultats Comp Fédérales'!E:E) -> 1615 | G21: =SUMIF('Résultats Comp Fédérales'!$D:$D,"=FARGEIX Florence",'Résultats Comp Fédérales'!F:F) -> 11 | H21: =F21/G21 -> 146.81818 | I21: 51 | J21: =H21+I21 -> 197.81818
A22: 21 | B22: HERVAULT Daniel | C22: SC | D22: M | F22: =SUMIF('Résultats Comp Fédérales'!$D:$D,"=HERVAULT Daniel",'Résultats Comp Fédérales'!E:E) -> 1755 | G22: =SUMIF('Résultats Comp Fédérales'!$D:$D,"=HERVAULT Daniel",'Résultats Comp Fédérales'!F:F) -> 12 | H22: =F22/G22 -> 146.25 | I22: 54 | J22: =H22+I22 -> 200.25
A23: 22 | B23: GOUTTORBE Yveline | C23: SB | D23: F | F23: =SUMIF('Résultats Comp Fédérales'!$D:$D,"=GOUTTORBE Yveline",'Résultats Comp Fédérales'!E:E) -> 2152 | G23: =SUMIF('Résultats Comp Fédérales'!$D:$D,"=GOUTTORBE Yveline",'Résultats Comp Fédérales'!F:F) -> 15 | H23: =F23/G23 -> 143.46667 | I23: 51 | J23: =H23+I23 -> 194.46667
A24: 23 | B24: MARION Christine | C24: SA | D24: F | F24: =SUMIF('Résultats Comp Fédérales'!$D:$D,"=MARION Christine",'Résultats Comp Fédérales'!E:E) -> 3138 | G24: =SUMIF('Résultats Comp Fédérales'!$D:$D,"=MARION Christine",'Résultats Comp Fédérales'!F:F) -> 22 | H24: =F24/G24 -> 142.63636 | I24: 58 | J24: =H24+I24 -> 200.63636
A25: 24 | B25: OLAGNIER Gérard | C25: SC | D25: M | F25: =SUMIF('Résultats Comp Fédérales'!$D:$D,"=OLAGNIER Gérard",'Résultats Comp Fédérales'!E:E) -> 5086 | G25: =SUMIF('Résultats Comp Fédérales'!$D:$D,"=OLAGNIER Gérard",'Résultats Comp Fédérales'!F:F) -> 36 | H25: =F25/G25 -> 141.27778 | I25: 52 | J25: =H25+I25 -> 193.27778
A26: 25 | B26: GATEAU Emma | C26: SE | D26: F | F26: =SUMIF('Résultats Comp Fédérales'!$D:$D,"=GATEAU Emma",'Résultats Comp Fédérales'!E:E) -> 4010 | G26: =SUMIF('Résultats Comp Fédérales'!$D:$D,"=GATEAU Emma",'Résultats Comp Fédérales'!F:F) -> 30 | H26: =F26/G26 -> 133.66667 | I26: 57 | J26: =H26+I26 -> 190.66667
A27: 26 | B27: TERRIEN Yanis | C27: CA | D27: M | F27: =SUMIF('Résultats Comp Fédérales'!$D:$D,"=TERRIEN Yanis",'Résultats Comp Fédérales'!E:E) -> 1467 | G27: =SUMIF('Résultats Comp Fédérales'!$D:$D,"=TERRIEN Yanis",'Résultats Comp Fédérales'!F:F) -> 11 | H27: =F27/G27 -> 133.36364 | I27: 61 | J27: =H27+I27 -> 194.36364
A28: 27 | B28: CROVATTO Christine | C28: SA | D28: F | F28: =SUMIF('Résultats Comp Fédérales'!$D:$D,"=CROVATTO Christine",'Résultats Comp Fédérales'!E:E) -> 1560 | G28: =SUMIF('Résultats Comp Fédérales'!$D:$D,"=CROVATTO Christine",'Résultats Comp Fédérales'!F:F) -> 12 | H28: =F28/G28 -> 130 | I28: 61 | J28: =H28+I28 -> 191
A29: 28 | B29: LECOMTE Coline | C29: MI | D29: F | F29: =SUMIF('Résultats Comp Fédérales'!$D:$D,"=LECOMTE Coline",'Résultats Comp Fédérales'!E:E) -> 780 | G29: =SUMIF('Résultats Comp Fédérales'!$D:$D,"=LECOMTE Coline",'Résultats Comp Fédérales'!F:F) -> 6 | H29: =F29/G29 -> 130 | I29: 67 | J29: =H29+I29 -> 197
A30: 29 | B30: GUYOT Stéphane | C30: JU | D30: M | F30: =SUMIF('Résultats Comp Fédérales'!$D:$D,"=Guyot Stéphane",'Résultats Comp Fédérales'!E:E) -> 1905 | G30: =SUMIF('Résultats Comp Fédérales'!$D:$D,"=Guyot Stéphane",'Résultats Comp Fédérales'!F:F) -> 16 | H30: =F30/G30 -> 119.0625 | I30: 40 | J30: =H30+I30 -> 159.0625
A31: 30 | B31: TERRIEN Blaise | C31: PO | D31: M | F31: =SUMIF('Résultats Comp Fédérales'!$D:$D,"=TERRIEN Blaise",'Résultats Comp Fédérales'!E:E) -> 224 | G31: =SUMIF('Résultats Comp Fédérales'!$D:$D,"=TERRIEN Blaise",'Résultats Comp Fédérales'!F:F) -> 4 | H31: =F31/G31 -> 56 | I31: 80 | J31: =H31+I31 -> 136
A32: 31 | B32: KUBIAK Charlie | C32: BJ | D32: M | F32: =SUMIF('Résultats Comp Fédérales'!$D:$D,"=KUBIAK Charlie",'Résultats Comp Fédérales'!E:E) -> 294 | G32: =SUMIF('Résultats Comp Fédérales'!$D:$D,"=KUBIAK Charlie",'Résultats Comp Fédérales'!F:F) -> 6 | H32: =F32/G32 -> 49 | I32: 56 | J32: =H32+I32 -> 105
A34: 32 | B34: DURON Eric | C34: SC | D34: M | F34: =SUMIF('Résultats Comp Fédérales'!$D:$D,"=DURON Eric",'Résultats Comp Fédérales'!E:E) -> 0 | G34: =SUMIF('Résultats Comp Fédérales'!$D:$D,"=DURON Eric",'Résultats Comp Fédérales'!F:F) -> 0 | H34: =F34/G34 -> #DIV/0! | I34: 51 | J34: =H34+I34 -> #DIV/0!
A35: 33 | B35: DUVAL Franck | C35: SB | D35: M | F35: =SUMIF('Résultats Comp Fédérales'!$D:$D,"=DUVAL Franck",'Résultats Comp Fédérales'!E:E) -> 0 | G35: =SUMIF('Résultats Comp Fédérales'!$D:$D,"=DUVAL Franck",'Résultats Comp Fédérales'!F:F) -> 0 | H35: =F35/G35 -> #DIV/0! | I35: 62 | J35: =H35+I35 -> #DIV/0!
A36: 34 | B36: ESDOLUC Elisabeth | C36: SC | D36: F | F36: =SUMIF('Résultats Comp Fédérales'!$D:$D,"=ESDOLUC Elisabeth",'Résultats Comp Fédérales'!E:E) -> 0 | G36: =SUMIF('Résultats Comp Fédérales'!$D:$D,"=ESDOLUC Elisabeth",'Résultats Comp Fédérales'!F:F) -> 0 | H36: =F36/G36 -> #DIV/0! | I36: 28 | J36: =H36+I36 -> #DIV/0!
A37: 35 | B37: ESNAULT Michèle | C37: SC | D37: F | F37: =SUMIF('Résultats Comp Fédérales'!$D:$D,"=ESNAULT Michèle",'Résultats Comp Fédérales'!E:E) -> 0 | G37: =SUMIF('Résultats Comp Fédérales'!$D:$D,"=ESNAULT Michèle",'Résultats Comp Fédérales'!F:F) -> 0 | H37: =F37/G37 -> #DIV/0! | I37: 51 | J37: =H37+I37 -> #DIV/0!
A38: 36 | B38: GUYOT Jean Michel | C38: SB | D38: M | F38: =SUMIF('Résultats Comp Fédérales'!$D:$D,"=Guyot Jean Michel",'Résultats Comp Fédérales'!E:E) -> 0 | G38: =SUMIF('Résultats Comp Fédérales'!$D:$D,"=Guyot Jean Michel",'Résultats Comp Fédérales'!F:F) -> 0 | H38: =F38/G38 -> #DIV/0! | I38: 18 | J38: =H38+I38 -> #DIV/0!
A39: 37 | B39: JOURNIAC Christian | C39: SC | D39: M | F39: =SUMIF('Résultats Comp Fédérales'!$D:$D,"=JOURNIAC Christian",'Résultats Comp Fédérales'!E:E) -> 0 | G39: =SUMIF('Résultats Comp Fédérales'!$D:$D,"=JOURNIAC Christian",'Résultats Comp Fédérales'!F:F) -> 0 | H39: =F39/G39 -> #DIV/0! | I39: 44 | J39: =H39+I39 -> #DIV/0!
A40: 38 | B40: LE FILOUS Claude | C40: SB | D40: M | F40: =SUMIF('Résultats Comp Fédérales'!$D:$D,"=LE FILOUS Claude",'Résultats Comp Fédérales'!E:E) -> 0 | G40: =SUMIF('Résultats Comp Fédérales'!$D:$D,"=LE FILOUS Claude",'Résultats Comp Fédérales'!F:F) -> 0 | H40: =F40/G40 -> #DIV/0! | I40: 46 | J40: =H40+I40 -> #DIV/0!
A41: 39 | B41: LE FILOUS Julie | C41: JU | D41: F | F41: =SUMIF('Résultats Comp Fédérales'!$D:$D,"=LE FILOUS Julie",'Résultats Comp Fédérales'!E:E) -> 0 | G41: =SUMIF('Résultats Comp Fédérales'!$D:$D,"=LE FILOUS Julie",'Résultats Comp Fédérales'!F:F) -> 0 | H41: =F41/G41 -> #DIV/0! | I41: 33 | J41: =H41+I41 -> #DIV/0!
...

Sheet Classement saison T.C.C.
B1: BC PLAISIR NOM Prénom | C1: Catégorie | D1: Sexe | E1: N° Licence | F1: Total quilles | G1: Nbre de parties | H1: MOYENNE scratch | I1: Handicap | J1: MOYENNE Handicap | K1: Nbre de Compétitions | L1: Nbre de bowling fréquentés
A2: 1 | B2: ROUCHON Xavier | C2: SA | D2: M | F2: =SUMIF('Résultats Ligues et Amical'!$D:$D,"=ROUCHON Xavier",'Résultats Ligues et Amical'!E:E)+SUMIF('Résultats Comp Fédérales'!$D:$D,"=ROUCHON Xavier",'Résultats Comp Fédérales'!E:E) -> 16154 | G2: =SUMIF('Résultats Ligues et Amical'!$D:$D,"=ROUCHON Xavier",'Résultats Ligues et Amical'!F:F)+SUMIF('Résultats Comp Fédérales'!$D:$D,"=ROUCHON Xavier",'Résultats Comp Fédérales'!F:F) -> 84 | H2: =F2/G2 -> 192.30952 | I2: 19 | J2: =H2+I2 -> 211.30952 | K2: =IF(B2=Bowlings!A$43,SUM(Bowlings!C$43:BN$43),"") -> 13 | L2: =IF(B2=Bowlings!A$43,Bowlings!B$43,0) -> 5
A3: 2 | B3: FAVREAU Gael | C3: JU | D3: M | F3: =SUMIF('Résultats Ligues et Amical'!$D:$D,"=FAVREAU Gael",'Résultats Ligues et Amical'!E:E)+SUMIF('Résultats Comp Fédérales'!$D:$D,"=FAVREAU Gael",'Résultats Comp Fédérales'!E:E) -> 15250 | G3: =SUMIF('Résultats Ligues et Amical'!$D:$D,"=FAVREAU Gael",'Résultats Ligues et Amical'!F:F)+SUMIF('Résultats Comp Fédérales'!$D:$D,"=FAVREAU Gael",'Résultats Comp Fédérales'!F:F) -> 81 | H3: =F3/G3 -> 188.2716 | I3: 23 | J3: =H3+I3 -> 211.2716 | K3: =IF(B3=Bowlings!A$17,SUM(Bowlings!C$17:BN$17),"") -> 9 | L3: =IF(B3=Bowlings!A$17,Bowlings!B$17,0) -> 5
A4: 3 | B4: LE FILOUS Damien | C4: SE | D4: M | F4: =SUMIF('Résultats Ligues et Amical'!$D:$D,"=LE FILOUS Damien",'Résultats Ligues et Amical'!E:E)+SUMIF('Résultats Comp Fédérales'!$D:$D,"=LE FILOUS Damien",'Résultats Comp Fédérales'!E:E) -> 8856 | G4: =SUMIF('Résultats Ligues et Amical'!$D:$D,"=LE FILOUS Damien",'Résultats Ligues et Amical'!F:F)+SUMIF('Résultats Comp Fédérales'!$D:$D,"=LE FILOUS Damien",'Résultats Comp Fédérales'!F:F) -> 49 | H4: =F4/G4 -> 180.73469 | I4: 30 | J4: =H4+I4 -> 210.73469 | K4: =IF(B4=Bowlings!A$31,SUM(Bowlings!C$31:BN$31),"") -> 5 | L4: =IF(B4=Bowlings!A$31,Bowlings!B$31,0) -> 1
A5: 4 | B5: FARGEIX Christian | C5: SC | D5: M | F5: =SUMIF('Résultats Ligues et Amical'!$D:$D,"=FARGEIX Christian",'Résultats Ligues et Amical'!E:E)+SUMIF('Résultats Comp Fédérales'!$D:$D,"=FARGEIX Christian",'Résultats Comp Fédérales'!E:E) -> 17697 | G5: =SUMIF('Résultats Ligues et Amical'!$D:$D,"=FARGEIX Christian",'Résultats Ligues et Amical'!F:F)+SUMIF('Résultats Comp Fédérales'!$D:$D,"=FARGEIX Christian",'Résultats Comp Fédérales'!F:F) -> 99 | H5: =F5/G5 -> 178.75758 | I5: 27 | J5: =H5+I5 -> 205.75758 | K5: =IF(B5=Bowlings!A$15,SUM(Bowlings!C$15:BN$15),"") -> 11 | L5: =IF(B5=Bowlings!A$15,Bowlings!B$15,0) -> 5
A6: 5 | B6: JOUEN Frédéric | C6: SA | D6: M | F6: =SUMIF('Résultats Ligues et Amical'!$D:$D,"=JOUEN Frédéric",'Résultats Ligues et Amical'!E:E)+SUMIF('Résultats Comp Fédérales'!$D:$D,"=JOUEN Frédéric",'Résultats Comp Fédérales'!E:E) -> 4296 | G6: =SUMIF('Résultats Ligues et Amical'!$D:$D,"=JOUEN Frédéric",'Résultats Ligues et Amical'!F:F)+SUMIF('Résultats Comp Fédérales'!$D:$D,"=JOUEN Frédéric",'Résultats Comp Fédérales'!F:F) -> 25 | H6: =F6/G6 -> 171.84 | I6: 36 | J6: =H6+I6 -> 207.84 | K6: =IF(B6=Bowlings!A$27,SUM(Bowlings!C$27:BN$27),"") -> 3 | L6: =IF(B6=Bowlings!A$27,Bowlings!B$27,0) -> 2
A7: 6 | B7: DELORT Philippe | C7: SC | D7: M | F7: =SUMIF('Résultats Ligues et Amical'!$D:$D,"=DELORT Philippe",'Résultats Ligues et Amical'!E:E)+SUMIF('Résultats Comp Fédérales'!$D:$D,"=DELORT Philippe",'Résultats Comp Fédérales'!E:E) -> 13304 | G7: =SUMIF('Résultats Ligues et Amical'!$D:$D,"=DELORT Philippe",'Résultats Ligues et Amical'!F:F)+SUMIF('Résultats Comp Fédérales'!$D:$D,"=DELORT Philippe",'Résultats Comp Fédérales'!F:F) -> 79 | H7: =F7/G7 -> 168.40506 | I7: 37 | J7: =H7+I7 -> 205.40506 | K7: =IF(B7=Bowlings!A$8,SUM(Bowlings!C$8:BN$8),"") -> 8 | L7: =IF(B7=Bowlings!A$8,Bowlings!B$8,0) -> 3
A8: 7 | B8: BELOT Léopold | C8: MI | D8: M | F8: =SUMIF('Résultats Ligues et Amical'!$D:$D,"=BELOT Léopold",'Résultats Ligues et Amical'!E:E)+SUMIF('Résultats Comp Fédérales'!$D:$D,"=BELOT Léopold",'Résultats Comp Fédérales'!E:E) -> 2841 | G8: =SUMIF('Résultats Ligues et Amical'!$D:$D,"=BELOT Léopold",'Résultats Ligues et Amical'!F:F)+SUMIF('Résultats Comp Fédérales'!$D:$D,"=BELOT Léopold",'Résultats Comp Fédérales'!F:F) -> 17 | H8: =F8/G8 -> 167.11765 | I8: 49 | J8: =H8+I8 -> 216.11765 | K8: =IF(B8=Bowlings!A$2,SUM(Bowlings!C$2:BN$2),"") -> 3 | L8: =IF(B8=Bowlings!A$2,Bowlings!B$2,0) -> 2
A9: 8 | B9: ESNAULT Eric | C9: SB | D9: M | F9: =SUMIF('Résultats Ligues et Amical'!$D:$D,"=ESNAULT Eric",'Résultats Ligues et Amical'!E:E)+SUMIF('Résultats Comp Fédérales'!$D:$D,"=ESNAULT Eric",'Résultats Comp Fédérales'!E:E) -> 3339 | G9: =SUMIF('Résultats Ligues et Amical'!$D:$D,"=ESNAULT Eric",'Résultats Ligues et Amical'!F:F)+SUMIF('Résultats Comp Fédérales'!$D:$D,"=ESNAULT Eric",'Résultats Comp Fédérales'!F:F) -> 20 | H9: =F9/G9 -> 166.95 | I9: 42 | J9: =H9+I9 -> 208.95 | K9: =IF(B9=Bowlings!A$13,SUM(Bowlings!C$13:BN$13),"") -> 3 | L9: =IF(B9=Bowlings!A$13,Bowlings!B$13,0) -> 1
A10: 9 | B10: CARRIC Olivier | C10: SB | D10: M | F10: =SUMIF('Résultats Ligues et Amical'!$D:$D,"=CARRIC Olivier",'Résultats Ligues et Amical'!E:E)+SUMIF('Résultats Comp Fédérales'!$D:$D,"=CARRIC Olivier",'Résultats Comp Fédérales'!E:E) -> 4000 | G10: =SUMIF('Résultats Ligues et Amical'!$D:$D,"=CARRIC Olivier",'Résultats Ligues et Amical'!F:F)+SUMIF('Résultats Comp Fédérales'!$D:$D,"=CARRIC Olivier",'Résultats Comp Fédérales'!F:F) -> 24 | H10: =F10/G10 -> 166.66667 | I10: 42 | J10: =H10+I10 -> 208.66667 | K10: =IF(B10=Bowlings!A$5,SUM(Bowlings!C$5:BN$5),"") -> 4 | L10: =IF(B10=Bowlings!A$5,Bowlings!B$5,0) -> 1
A11: 10 | B11: CROVATTO Philippe | C11: SA | D11: M | F11: =SUMIF('Résultats Ligues et Amical'!$D:$D,"=CROVATTO Philippe",'Résultats Ligues et Amical'!E:E)+SUMIF('Résultats Comp Fédérales'!$D:$D,"=CROVATTO Philippe",'Résultats Comp Fédérales'!E:E) -> 10488 | G11: =SUMIF('Résultats Ligues et Amical'!$D:$D,"=CROVATTO Philippe",'Résultats Ligues et Amical'!F:F)+SUMIF('Résultats Comp Fédérales'!$D:$D,"=CROVATTO Philippe",'Résultats Comp Fédérales'!F:F) -> 63 | H11: =F11/G11 -> 166.47619 | I11: 35 | J11: =H11+I11 -> 201.47619 | K11: =IF(B11=Bowlings!A$7,SUM(Bowlings!C$7:BN$7),"") -> 6 | L11: =IF(B11=Bowlings!A$7,Bowlings!B$7,0) -> 3
A12: 11 | B12: JOUBERT Joel | C12: SB | D12: M | F12: =SUMIF('Résultats Ligues et Amical'!$D:$D,"=JOUBERT Joel",'Résultats Ligues et Amical'!E:E)+SUMIF('Résultats Comp Fédérales'!$D:$D,"=JOUBERT Joel",'Résultats Comp Fédérales'!E:E) -> 7483 | G12: =SUMIF('Résultats Ligues et Amical'!$D:$D,"=JOUBERT Joel",'Résultats Ligues et Amical'!F:F)+SUMIF('Résultats Comp Fédérales'!$D:$D,"=JOUBERT Joel",'Résultats Comp Fédérales'!F:F) -> 45 | H12: =F12/G12 -> 166.28889 | I12: 37 | J12: =H12+I12 -> 203.28889 | K12: =IF(B12=Bowlings!A$26,SUM(Bowlings!C$26:BN$26),"") -> 6 | L12: =IF(B12=Bowlings!A$26,Bowlings!B$26,0) -> 2
A13: 12 | B13: JOURNIAC Christian | C13: SC | D13: M | F13: =SUMIF('Résultats Ligues et Amical'!$D:$D,"=JOURNIAC Christian",'Résultats Ligues et Amical'!E:E)+SUMIF('Résultats Comp Fédérales'!$D:$D,"=JOURNIAC Christian",'Résultats Comp Fédérales'!E:E) -> 5370 | G13: =SUMIF('Résultats Ligues et Amical'!$D:$D,"=JOURNIAC Christian",'Résultats Ligues et Amical'!F:F)+SUMIF('Résultats Comp Fédérales'!$D:$D,"=JOURNIAC Christian",'Résultats Comp Fédérales'!F:F) -> 33 | H13: =F13/G13 -> 162.72727 | I13: 44 | J13: =H13+I13 -> 206.72727 | K13: =IF(B13=Bowlings!A$28,SUM(Bowlings!C$28:BN$28),"") -> 3 | L13: =IF(B13=Bowlings!A$28,Bowlings!B$28,0) -> 2
A14: 13 | B14: HUCHET Stéphane | C14: SA | D14: M | F14: =SUMIF('Résultats Ligues et Amical'!$D:$D,"=HUCHET Stéphane",'Résultats Ligues et Amical'!E:E)+SUMIF('Résultats Comp Fédérales'!$D:$D,"=HUCHET Stéphane",'Résultats Comp Fédérales'!E:E) -> 12322 | G14: =SUMIF('Résultats Ligues et Amical'!$D:$D,"=HUCHET Stéphane",'Résultats Ligues et Amical'!F:F)+SUMIF('Résultats Comp Fédérales'!$D:$D,"=HUCHET Stéphane",'Résultats Comp Fédérales'!F:F) -> 76 | H14: =F14/G14 -> 162.13158 | I14: 39 | J14: =H14+I14 -> 201.13158 | K14: =IF(B14=Bowlings!A$25,SUM(Bowlings!C$25:BN$25),"") -> 7 | L14: =IF(B14=Bowlings!A$25,Bowlings!B$25,0) -> 3
A15: 14 | B15: FAYEMENDY Michel | C15: SC | D15: M | F15: =SUMIF('Résultats Ligues et Amical'!$D:$D,"=FAYEMENDY Michel",'Résultats Ligues et Amical'!E:E)+SUMIF('Résultats Comp Fédérales'!$D:$D,"=FAYEMENDY Michel",'Résultats Comp Fédérales'!E:E) -> 10797 | G15: =SUMIF('Résultats Ligues et Amical'!$D:$D,"=FAYEMENDY Michel",'Résultats Ligues et Amical'!F:F)+SUMIF('Résultats Comp Fédérales'!$D:$D,"=FAYEMENDY Michel",'Résultats Comp Fédérales'!F:F) -> 67 | H15: =F15/G15 -> 161.14925 | I15: 42 | J15: =H15+I15 -> 203.14925 | K15: =IF(B15=Bowlings!A$18,SUM(Bowlings!C$18:BN$18),"") -> 9 | L15: =IF(B15=Bowlings!A$18,Bowlings!B$18,0) -> 5
A16: 15 | B16: RITHIE Régis | C16: SB | D16: M | F16: =SUMIF('Résultats Ligues et Amical'!$D:$D,"=RITHIE Régis",'Résultats Ligues et Amical'!E:E)+SUMIF('Résultats Comp Fédérales'!$D:$D,"=RITHIE Régis",'Résultats Comp Fédérales'!E:E) -> 12281 | G16: =SUMIF('Résultats Ligues et Amical'!$D:$D,"=RITHIE Régis",'Résultats Ligues et Amical'!F:F)+SUMIF('Résultats Comp Fédérales'!$D:$D,"=RITHIE Régis",'Résultats Comp Fédérales'!F:F) -> 77 | H16: =F16/G16 -> 159.49351 | I16: 35 | J16: =H16+I16 -> 194.49351 | K16: =IF(B16=Bowlings!A$42,SUM(Bowlings!C$42:BN$42),"") -> 8 | L16: =IF(B16=Bowlings!A$42,Bowlings!B$42,0) -> 3
A17: 16 | B17: BOUZOU Francis | C17: SB | D17: M | F17: =SUMIF('Résultats Ligues et Amical'!$D:$D,"=BOUZOU Francis",'Résultats Ligues et Amical'!E:E)+SUMIF('Résultats Comp Fédérales'!$D:$D,"=BOUZOU Francis",'Résultats Comp Fédérales'!E:E) -> 8904 | G17: =SUMIF('Résultats Ligues et Amical'!$D:$D,"=BOUZOU Francis",'Résultats Ligues et Amical'!F:F)+SUMIF('Résultats Comp Fédérales'!$D:$D,"=BOUZOU Francis",'Résultats Comp Fédérales'!F:F) -> 56 | H17: =F17/G17 -> 159 | I17: 42 | J17: =H17+I17 -> 201 | K17: =IF(B17=Bowlings!A$4,SUM(Bowlings!C$4:BN$4),"") -> 4 | L17: =IF(B17=Bowlings!A$4,Bowlings!B$4,0) -> 2
A18: 17 | B18: BONNET Jean Claude | C18: SC | D18: M | F18: =SUMIF('Résultats Ligues et Amical'!$D:$D,"=BONNET Jean Claude",'Résultats Ligues et Amical'!E:E)+SUMIF('Résultats Comp Fédérales'!$D:$D,"=BONNET Jean Claude",'Résultats Comp Fédérales'!E:E) -> 12525 | G18: =SUMIF('Résultats Ligues et Amical'!$D:$D,"=BONNET Jean Claude",'Résultats Ligues et Amical'!F:F)+SUMIF('Résultats Comp Fédérales'!$D:$D,"=BONNET Jean Claude",'Résultats Comp Fédérales'!F:F) -> 79 | H18: =F18/G18 -> 158.5443 | I18: 42 | J18: =H18+I18 -> 200.5443 | K18: =IF(B18=Bowlings!A$3,SUM(Bowlings!C$3:BN$3),"") -> 11 | L18: =IF(B18=Bowlings!A$3,Bowlings!B$3,0) -> 3
A19: 18 | B19: DELORT Valérie | C19: SB | D19: F | F19: =SUMIF('Résultats Ligues et Amical'!$D:$D,"=DELORT Valérie",'Résultats Ligues et Amical'!E:E)+SUMIF('Résultats Comp Fédérales'!$D:$D,"=DELORT Valérie",'Résultats Comp Fédérales'!E:E) -> 10411 | G19: =SUMIF('Résultats Ligues et Amical'!$D:$D,"=DELORT Valérie",'Résultats Ligues et Amical'!F:F)+SUMIF('Résultats Comp Fédérales'!$D:$D,"=DELORT Valérie",'Résultats Comp Fédérales'!F:F) -> 67 | H19: =F19/G19 -> 155.38806 | I19: 46 | J19: =H19+I19 -> 201.38806 | K19: =IF(B19=Bowlings!A$9,SUM(Bowlings!C$9:BN$9),"") -> 8 | L19: =IF(B19=Bowlings!A$9,Bowlings!B$9,0) -> 4
A20: 19 | B20: LE FILOUS Claude | C20: SB | D20: M | F20: =SUMIF('Résultats Ligues et Amical'!$D:$D,"=LE FILOUS Claude",'Résultats Ligues et Amical'!E:E)+SUMIF('Résultats Comp Fédérales'!$D:$D,"=LE FILOUS Claude",'Résultats Comp Fédérales'!E:E) -> 3060 | G20: =SUMIF('Résultats Ligues et Amical'!$D:$D,"=LE FILOUS Claude",'Résultats Ligues et Amical'!F:F)+SUMIF('Résultats Comp Fédérales'!$D:$D,"=LE FILOUS Claude",'Résultats Comp Fédérales'!F:F) -> 20 | H20: =F20/G20 -> 153 | I20: 46 | J20: =H20+I20 -> 199 | K20: =IF(B20=Bowlings!A$30,SUM(Bowlings!C$30:BN$30),"") -> 2 | L20: =IF(B20=Bowlings!A$30,Bowlings!B$30,0) -> 1
A21: 20 | B21: NIVET Muriel | C21: SC | D21: F | F21: =SUMIF('Résultats Ligues et Amical'!$D:$D,"=NIVET Muriel",'Résultats Ligues et Amical'!E:E)+SUMIF('Résultats Comp Fédérales'!$D:$D,"=NIVET Muriel",'Résultats Comp Fédérales'!E:E) -> 10241 | G21: =SUMIF('Résultats Ligues et Amical'!$D:$D,"=NIVET Muriel",'Résultats Ligues et Amical'!F:F)+SUMIF('Résultats Comp Fédérales'!$D:$D,"=NIVET Muriel",'Résultats Comp Fédérales'!F:F) -> 68 | H21: =F21/G21 -> 150.60294 | I21: 49 | J21: =H21+I21 -> 199.60294 | K21: =IF(B21=Bowlings!A$38,SUM(Bowlings!C$38:BN$38),"") -> 6 | L21: =IF(B21=Bowlings!A$38,Bowlings!B$38,0) -> 2
A22: 21 | B22: GARCIA Sabine | C22: SC | D22: F | F22: =SUMIF('Résultats Ligues et Amical'!$D:$D,"=GARCIA Sabine",'Résultats Ligues et Amical'!E:E)+SUMIF('Résultats Comp Fédérales'!$D:$D,"=GARCIA Sabine",'Résultats Comp Fédérales'!E:E) -> 15381 | G22: =SUMIF('Résultats Ligues et Amical'!$D:$D,"=GARCIA Sabine",'Résultats Ligues et Amical'!F:F)+SUMIF('Résultats Comp Fédérales'!$D:$D,"=GARCIA Sabine",'Résultats Comp Fédérales'!F:F) -> 103 | H22: =F22/G22 -> 149.3301 | I22: 46 | J22: =H22+I22 -> 195.3301 | K22: =IF(B22=Bowlings!A$19,SUM(Bowlings!C$19:BN$19),"") -> 10 | L22: =IF(B22=Bowlings!A$19,Bowlings!B$19,0) -> 4
A23: 22 | B23: SOLARI Joseph | C23: SC | D23: M | F23: =SUMIF('Résultats Ligues et Amical'!$D:$D,"=SOLARI Joseph",'Résultats Ligues et Amical'!E:E)+SUMIF('Résultats Comp Fédérales'!$D:$D,"=SOLARI Joseph",'Résultats Comp Fédérales'!E:E) -> 2367 | G23: =SUMIF('Résultats Ligues et Amical'!$D:$D,"=SOLARI Joseph",'Résultats Ligues et Amical'!F:F)+SUMIF('Résultats Comp Fédérales'!$D:$D,"=SOLARI Joseph",'Résultats Comp Fédérales'!F:F) -> 16 | H23: =F23/G23 -> 147.9375 | I23: 41 | J23: =H23+I23 -> 188.9375 | K23: =IF(B23=Bowlings!A$44,SUM(Bowlings!C$44:BN$44),"") -> 1 | L23: =IF(B23=Bowlings!A$44,Bowlings!B$44,0) -> 1
A24: 23 | B24: GOUTTORBE Yveline | C24: SB | D24: F | F24: =SUMIF('Résultats Ligues et Amical'!$D:$D,"=GOUTTORBE Yveline",'Résultats Ligues et Amical'!E:E)+SUMIF('Résultats Comp Fédérales'!$D:$D,"=GOUTTORBE Yveline",'Résultats Comp Fédérales'!E:E) -> 5148 | G24: =SUMIF('Résultats Ligues et Amical'!$D:$D,"=GOUTTORBE Yveline",'Résultats Ligues et Amical'!F:F)+SUMIF('Résultats Comp Fédérales'!$D:$D,"=GOUTTORBE Yveline",'Résultats Comp Fédérales'!F:F) -> 35 | H24: =F24/G24 -> 147.08571 | I24: 51 | J24: =H24+I24 -> 198.08571 | K24: =IF(B24=Bowlings!A$21,SUM(Bowlings!C$21:BN$21),"") -> 4 | L24: =IF(B24=Bowlings!A$21,Bowlings!B$21,0) -> 2
A25: 24 | B25: HERVAULT Daniel | C25: SC | D25: M | F25: =SUMIF('Résultats Ligues et Amical'!$D:$D,"=HERVAULT Daniel",'Résultats Ligues et Amical'!E:E)+SUMIF('Résultats Comp Fédérales'!$D:$D,"=HERVAULT Daniel",'Résultats Comp Fédérales'!E:E) -> 5827 | G25: =SUMIF('Résultats Ligues et Amical'!$D:$D,"=HERVAULT Daniel",'Résultats Ligues et Amical'!F:F)+SUMIF('Résultats Comp Fédérales'!$D:$D,"=HERVAULT Daniel",'Résultats Comp Fédérales'!F:F) -> 40 | H25: =F25/G25 -> 145.675 | I25: 54 | J25: =H25+I25 -> 199.675 | K25: =IF(B25=Bowlings!A$24,SUM(Bowlings!C$24:BN$24),"") -> 4 | L25: =IF(B25=Bowlings!A$24,Bowlings!B$24,0) -> 2
A26: 25 | B26: FARGEIX Florence | C26: SE | D26: F | F26: =SUMIF('Résultats Ligues et Amical'!$D:$D,"=FARGEIX Florence",'Résultats Ligues et Amical'!E:E)+SUMIF('Résultats Comp Fédérales'!$D:$D,"=FARGEIX Florence",'Résultats Comp Fédérales'!E:E) -> 2761 | G26: =SUMIF('Résultats Ligues et Amical'!$D:$D,"=FARGEIX Florence",'Résultats Ligues et Amical'!F:F)+SUMIF('Résultats Comp Fédérales'!$D:$D,"=FARGEIX Florence",'Résultats Comp Fédérales'!F:F) -> 19 | H26: =F26/G26 -> 145.31579 | I26: 51 | J26: =H26+I26 -> 196.31579 | K26: =IF(B26=Bowlings!A$16,SUM(Bowlings!C$16:BN$16),"") -> 3 | L26: =IF(B26=Bowlings!A$16,Bowlings!B$16,0) -> 2
A27: 26 | B27: OLAGNIER Gérard | C27: SC | D27: M | F27: =SUMIF('Résultats Ligues et Amical'!$D:$D,"=OLAGNIER Gérard",'Résultats Ligues et Amical'!E:E)+SUMIF('Résultats Comp Fédérales'!$D:$D,"=OLAGNIER Gérard",'Résultats Comp Fédérales'!E:E) -> 13541 | G27: =SUMIF('Résultats Ligues et Amical'!$D:$D,"=OLAGNIER Gérard",'Résultats Ligues et Amical'!F:F)+SUMIF('Résultats Comp Fédérales'!$D:$D,"=OLAGNIER Gérard",'Résultats Comp Fédérales'!F:F) -> 96 | H27: =F27/G27 -> 141.05208 | I27: 52 | J27: =H27+I27 -> 193.05208 | K27: =IF(B27=Bowlings!A$39,SUM(Bowlings!C$39:BN$39),"") -> 11 | L27: =IF(B27=Bowlings!A$39,Bowlings!B$39,0) -> 4
A28: 27 | B28: GATEAU Emma | C28: SE | D28: F | F28: =SUMIF('Résultats Ligues et Amical'!$D:$D,"=GATEAU Emma",'Résultats Ligues et Amical'!E:E)+SUMIF('Résultats Comp Fédérales'!$D:$D,"=GATEAU Emma",'Résultats Comp Fédérales'!E:E) -> 6385 | G28: =SUMIF('Résultats Ligues et Amical'!$D:$D,"=GATEAU Emma",'Résultats Ligues et Amical'!F:F)+SUMIF('Résultats Comp Fédérales'!$D:$D,"=GATEAU Emma",'Résultats Comp Fédérales'!F:F) -> 46 | H28: =F28/G28 -> 138.80435 | I28: 57 | J28: =H28+I28 -> 195.80435 | K28: =IF(B28=Bowlings!A$20,SUM(Bowlings!C$20:BN$20),"") -> 6 | L28: =IF(B28=Bowlings!A$20,Bowlings!B$20,0) -> 3
A29: 28 | B29: NIVET Jean-Pierre | C29: SC | D29: M | F29: =SUMIF('Résultats Ligues et Amical'!$D:$D,"=NIVET Jean-Pierre",'Résultats Ligues et Amical'!E:E)+SUMIF('Résultats Comp Fédérales'!$D:$D,"=NIVET Jean-Pierre",'Résultats Comp Fédérales'!E:E) -> 6091 | G29: =SUMIF('Résultats Ligues et Amical'!$D:$D,"=NIVET Jean-Pierre",'Résultats Ligues et Amical'!F:F)+SUMIF('Résultats Comp Fédérales'!$D:$D,"=NIVET Jean-Pierre",'Résultats Comp Fédérales'!F:F) -> 44 | H29: =F29/G29 -> 138.43182 | I29: 66 | J29: =H29+I29 -> 204.43182 | K29: =IF(B29=Bowlings!A$37,SUM(Bowlings!C$37:BN$37),"") -> 3 | L29: =IF(B29=Bowlings!A$37,Bowlings!B$37,0) -> 2
A30: 29 | B30: MARION Christine | C30: SA | D30: F | F30: =SUMIF('Résultats Ligues et Amical'!$D:$D,"=MARION Christine",'Résultats Ligues et Amical'!E:E)+SUMIF('Résultats Comp Fédérales'!$D:$D,"=MARION Christine",'Résultats Comp Fédérales'!E:E) -> 10213 | G30: =SUMIF('Résultats Ligues et Amical'!$D:$D,"=MARION Christine",'Résultats Ligues et Amical'!F:F)+SUMIF('Résultats Comp Fédérales'!$D:$D,"=MARION Christine",'Résultats Comp Fédérales'!F:F) -> 74 | H30: =F30/G30 -> 138.01351 | I30: 58 | J30: =H30+I30 -> 196.01351 | K30: =IF(B30=Bowlings!A$34,SUM(Bowlings!C$34:BN$34),"") -> 7 | L30: =IF(B30=Bowlings!A$34,Bowlings!B$34,0) -> 4
A31: 30 | B31: TERRIEN Yanis | C31: CA | D31: M | F31: =SUMIF('Résultats Ligues et Amical'!$D:$D,"=TERRIEN Yanis",'Résultats Ligues et Amical'!E:E)+SUMIF('Résultats Comp Fédérales'!$D:$D,"=TERRIEN Yanis",'Résultats Comp Fédérales'!E:E) -> 2044 | G31: =SUMIF('Résultats Ligues et Amical'!$D:$D,"=TERRIEN Yanis",'Résultats Ligues et Amical'!F:F)+SUMIF('Résultats Comp Fédérales'!$D:$D,"=TERRIEN Yanis",'Résultats Comp Fédérales'!F:F) -> 15 | H31: =F31/G31 -> 136.26667 | I31: 61 | J31: =H31+I31 -> 197.26667 | K31: =IF(B31=Bowlings!A$46,SUM(Bowlings!C$46:BN$46),"") -> 3 | L31: =IF(B31=Bowlings!A$46,Bowlings!B$46,0) -> 2
A32: 31 | B32: ESNAULT Michèle | C32: SC | D32: F | F32: =SUMIF('Résultats Ligues et Amical'!$D:$D,"=ESNAULT Michèle",'Résultats Ligues et Amical'!E:E)+SUMIF('Résultats Comp Fédérales'!$D:$D,"=ESNAULT Michèle",'Résultats Comp Fédérales'!E:E) -> 5379 | G32: =SUMIF('Résultats Ligues et Amical'!$D:$D,"=ESNAULT Michèle",'Résultats Ligues et Amical'!F:F)+SUMIF('Résultats Comp Fédérales'!$D:$D,"=ESNAULT Michèle",'Résultats Comp Fédérales'!F:F) -> 40 | H32: =F32/G32 -> 134.475 | I32: 51 | J32: =H32+I32 -> 185.475 | K32: =IF(B32=Bowlings!A$14,SUM(Bowlings!C$14:BN$14),"") -> 3 | L32: =IF(B32=Bowlings!A$14,Bowlings!B$14,0) -> 2
A33: 32 | B33: DURON Eric | C33: SC | D33: M | F33: =SUMIF('Résultats Ligues et Amical'!$D:$D,"=DURON Eric",'Résultats Ligues et Amical'!E:E)+SUMIF('Résultats Comp Fédérales'!$D:$D,"=DURON Eric",'Résultats Comp Fédérales'!E:E) -> 1568 | G33: =SUMIF('Résultats Ligues et Amical'!$D:$D,"=DURON Eric",'Résultats Ligues et Amical'!F:F)+SUMIF('Résultats Comp Fédérales'!$D:$D,"=DURON Eric",'Résultats Comp Fédérales'!F:F) -> 12 | H33: =F33/G33 -> 130.66667 | I33: 51 | J33: =H33+I33 -> 181.66667 | K33: =IF(B33=Bowlings!A$10,SUM(Bowlings!C$10:BN$10),"") -> 2 | L33: =IF(B33=Bowlings!A$10,Bowlings!B$10,0) -> 1
A34: 33 | B34: LECOMTE Coline | C34: MI | D34: F | F34: =SUMIF('Résultats Ligues et Amical'!$D:$D,"=LECOMTE Coline",'Résultats Ligues et Amical'!E:E)+SUMIF('Résultats Comp Fédérales'!$D:$D,"=LECOMTE Coline",'Résultats Comp Fédérales'!E:E) -> 780 | G34: =SUMIF('Résultats Ligues et Amical'!$D:$D,"=LECOMTE Coline",'Résultats Ligues et Amical'!F:F)+SUMIF('Résultats Comp Fédérales'!$D:$D,"=LECOMTE Coline",'Résultats Comp Fédérales'!F:F) -> 6 | H34: =F34/G34 -> 130 | I34: 67 | J34: =H34+I34 -> 197 | K34: =IF(B34=Bowlings!A$33,SUM(Bowlings!C$33:BN$33),"") -> 1 | L34: =IF(B34=Bowlings!A$33,Bowlings!B$33,0) -> 1
A35: 34 | B35: DUVAL Franck | C35: SB | D35: M | F35: =SUMIF('Résultats Ligues et Amical'!$D:$D,"=DUVAL Franck",'Résultats Ligues et Amical'!E:E)+SUMIF('Résultats Comp Fédérales'!$D:$D,"=DUVAL Franck",'Résultats Comp Fédérales'!E:E) -> 2061 | G35: =SUMIF('Résultats Ligues et Amical'!$D:$D,"=DUVAL Franck",'Résultats Ligues et Amical'!F:F)+SUMIF('Résultats Comp Fédérales'!$D:$D,"=DUVAL Franck",'Résultats Comp Fédérales'!F:F) -> 16 | H35: =F35/G35 -> 128.8125 | I35: 62 | J35: =H35+I35 -> 190.8125 | K35: =IF(B35=Bowlings!A$11,SUM(Bowlings!C$11:BN$11),"") -> 2 | L35: =IF(B35=Bowlings!A$11,Bowlings!B$11,0) -> 1
A36: 35 | B36: CROVATTO Christine | C36: SA | D36: F | F36: =SUMIF('Résultats Ligues et Amical'!$D:$D,"=CROVATTO Christine",'Résultats Ligues et Amical'!E:E)+SUMIF('Résultats Comp Fédérales'!$D:$D,"=CROVATTO Christine",'Résultats Comp Fédérales'!E:E) -> 7068 | G36: =SUMIF('Résultats Ligues et Amical'!$D:$D,"=CROVATTO Christine",'Résultats Ligues et Amical'!F:F)+SUMIF('Résultats Comp Fédérales'!$D:$D,"=CROVATTO Christine",'Résultats Comp Fédérales'!F:F) -> 56 | H36: =F36/G36 -> 126.21429 | I36: 61 | J36: =H36+I36 -> 187.21429 | K36: =IF(B36=Bowlings!A$6,SUM(Bowlings!C$6:BN$6),"") -> 6 | L36: =IF(B36=Bowlings!A$6,Bowlings!B$6,0) -> 4
A37: 36 | B37: GUYOT Stéphane | C37: JU | D37: M | F37: =SUMIF('Résultats Ligues et Amical'!$D:$D,"=Guyot Stéphane",'Résultats Ligues et Amical'!E:E)+SUMIF('Résultats Comp Fédérales'!$D:$D,"=Guyot Stéphane",'Résultats Comp Fédérales'!E:E) -> 2372 | G37: =SUMIF('Résultats Ligues et Amical'!$D:$D,"=Guyot Stéphane",'Résultats Ligues et Amical'!F:F)+SUMIF('Résultats Comp Fédérales'!$D:$D,"=Guyot Stéphane",'Résultats Comp Fédérales'!F:F) -> 20 | H37: =F37/G37 -> 118.6 | I37: 40 | J37: =H37+I37 -> 158.6 | K37: =IF(B37=Bowlings!A$23,SUM(Bowlings!C$23:BN$23),"") -> 4 | L37: =IF(B37=Bowlings!A$23,Bowlings!B$23,0) -> 2
